BEGIN:VCALENDAR
VERSION:2.0
PRODID:-//Trefpunt Nazareth - ECPv6.15.20//NONSGML v1.0//EN
CALSCALE:GREGORIAN
METHOD:PUBLISH
X-ORIGINAL-URL:https://trefpunt.buurtbelangen-nazareth.nl
X-WR-CALDESC:Evenementen voor Trefpunt Nazareth
REFRESH-INTERVAL;VALUE=DURATION:PT1H
X-Robots-Tag:noindex
X-PUBLISHED-TTL:PT1H
BEGIN:VTIMEZONE
TZID:Europe/Amsterdam
BEGIN:DAYLIGHT
TZOFFSETFROM:+0100
TZOFFSETTO:+0200
TZNAME:CEST
DTSTART:20260329T010000
END:DAYLIGHT
BEGIN:STANDARD
TZOFFSETFROM:+0200
TZOFFSETTO:+0100
TZNAME:CET
DTSTART:20261025T010000
END:STANDARD
BEGIN:DAYLIGHT
TZOFFSETFROM:+0100
TZOFFSETTO:+0200
TZNAME:CEST
DTSTART:20270328T010000
END:DAYLIGHT
BEGIN:STANDARD
TZOFFSETFROM:+0200
TZOFFSETTO:+0100
TZNAME:CET
DTSTART:20271031T010000
END:STANDARD
BEGIN:DAYLIGHT
TZOFFSETFROM:+0100
TZOFFSETTO:+0200
TZNAME:CEST
DTSTART:20280326T010000
END:DAYLIGHT
BEGIN:STANDARD
TZOFFSETFROM:+0200
TZOFFSETTO:+0100
TZNAME:CET
DTSTART:20281029T010000
END:STANDARD
END:VTIMEZONE
BEGIN:VEVENT
DTSTART;TZID=Europe/Amsterdam:20270114T100000
DTEND;TZID=Europe/Amsterdam:20270114T120000
DTSTAMP:20260421T163222
CREATED:20260227T002029Z
LAST-MODIFIED:20260227T002029Z
UID:10002189-1799920800-1799928000@trefpunt.buurtbelangen-nazareth.nl
SUMMARY:Inloop Trajekt
DESCRIPTION:
URL:https://trefpunt.buurtbelangen-nazareth.nl/activiteit/inloop-trajekt/2027-01-14/
LOCATION:Trefpunt Nazareth\, Kasteel Schaloenstraat 54\, Maastricht\, Limburg\, 6222 TP\, Netherlands
CATEGORIES:Inloop
ATTACH;FMTTYPE=image/webp:https://trefpunt.buurtbelangen-nazareth.nl/wp-content/uploads/2025/10/Logo-Trajekt.webp
ORGANIZER;CN="Trajekt":MAILTO:nel.knapen@trajekt.nl
END:VEVENT
BEGIN:VEVENT
DTSTART;TZID=Europe/Amsterdam:20270115T090000
DTEND;TZID=Europe/Amsterdam:20270115T130000
DTSTAMP:20260421T163222
CREATED:20260227T002913Z
LAST-MODIFIED:20260227T003046Z
UID:10002820-1800003600-1800018000@trefpunt.buurtbelangen-nazareth.nl
SUMMARY:Inloop Voonk
DESCRIPTION:
URL:https://trefpunt.buurtbelangen-nazareth.nl/activiteit/inloop-voonk/2027-01-15/
LOCATION:Trefpunt Nazareth\, Kasteel Schaloenstraat 54\, Maastricht\, Limburg\, 6222 TP\, Netherlands
CATEGORIES:Inloop
ATTACH;FMTTYPE=image/webp:https://trefpunt.buurtbelangen-nazareth.nl/wp-content/uploads/2025/10/Voonk.webp
END:VEVENT
BEGIN:VEVENT
DTSTART;TZID=Europe/Amsterdam:20270120T090000
DTEND;TZID=Europe/Amsterdam:20270120T120000
DTSTAMP:20260421T163222
CREATED:20260227T000511Z
LAST-MODIFIED:20260227T000511Z
UID:10001404-1800435600-1800446400@trefpunt.buurtbelangen-nazareth.nl
SUMMARY:Kredietbank Limburg
DESCRIPTION:
URL:https://trefpunt.buurtbelangen-nazareth.nl/activiteit/kredietbank-limburg/2027-01-20/
LOCATION:Trefpunt Nazareth\, Kasteel Schaloenstraat 54\, Maastricht\, Limburg\, 6222 TP\, Netherlands
CATEGORIES:Inloop
ATTACH;FMTTYPE=image/png:https://trefpunt.buurtbelangen-nazareth.nl/wp-content/uploads/2025/10/kredietbank-limburg.png
ORGANIZER;CN="Kredietbank":MAILTO:info@kblb.nl
END:VEVENT
BEGIN:VEVENT
DTSTART;TZID=Europe/Amsterdam:20270120T090000
DTEND;TZID=Europe/Amsterdam:20270120T120000
DTSTAMP:20260421T163222
CREATED:20260227T001316Z
LAST-MODIFIED:20260227T001316Z
UID:10001666-1800435600-1800446400@trefpunt.buurtbelangen-nazareth.nl
SUMMARY:Financiele coaches (Sociale Zaken)
DESCRIPTION:
URL:https://trefpunt.buurtbelangen-nazareth.nl/activiteit/financiele-coaches-sociale-zaken/2027-01-20/
LOCATION:Trefpunt Nazareth\, Kasteel Schaloenstraat 54\, Maastricht\, Limburg\, 6222 TP\, Netherlands
CATEGORIES:Inloop
ATTACH;FMTTYPE=image/webp:https://trefpunt.buurtbelangen-nazareth.nl/wp-content/uploads/2026/02/logo-sociale-zaken-maastricht.webp
ORGANIZER;CN="Sociale zaken Maastricht":MAILTO:&quot;post-socialezaken@maastpost-socialezaken@maastricht.nl
END:VEVENT
BEGIN:VEVENT
DTSTART;TZID=Europe/Amsterdam:20270121T090000
DTEND;TZID=Europe/Amsterdam:20270121T130000
DTSTAMP:20260421T163222
CREATED:20260227T001601Z
LAST-MODIFIED:20260227T001601Z
UID:10001928-1800522000-1800536400@trefpunt.buurtbelangen-nazareth.nl
SUMMARY:Gemeente Maastricht
DESCRIPTION:
URL:https://trefpunt.buurtbelangen-nazareth.nl/activiteit/gemeente-maastricht/2027-01-21/
LOCATION:Trefpunt Nazareth\, Kasteel Schaloenstraat 54\, Maastricht\, Limburg\, 6222 TP\, Netherlands
CATEGORIES:Inloop
ATTACH;FMTTYPE=image/jpeg:https://trefpunt.buurtbelangen-nazareth.nl/wp-content/uploads/2026/02/Logo-maastricht.jpg
END:VEVENT
BEGIN:VEVENT
DTSTART;TZID=Europe/Amsterdam:20270121T100000
DTEND;TZID=Europe/Amsterdam:20270121T120000
DTSTAMP:20260421T163222
CREATED:20260227T002029Z
LAST-MODIFIED:20260227T002029Z
UID:10002190-1800525600-1800532800@trefpunt.buurtbelangen-nazareth.nl
SUMMARY:Inloop Trajekt
DESCRIPTION:
URL:https://trefpunt.buurtbelangen-nazareth.nl/activiteit/inloop-trajekt/2027-01-21/
LOCATION:Trefpunt Nazareth\, Kasteel Schaloenstraat 54\, Maastricht\, Limburg\, 6222 TP\, Netherlands
CATEGORIES:Inloop
ATTACH;FMTTYPE=image/webp:https://trefpunt.buurtbelangen-nazareth.nl/wp-content/uploads/2025/10/Logo-Trajekt.webp
ORGANIZER;CN="Trajekt":MAILTO:nel.knapen@trajekt.nl
END:VEVENT
BEGIN:VEVENT
DTSTART;TZID=Europe/Amsterdam:20270127T090000
DTEND;TZID=Europe/Amsterdam:20270127T120000
DTSTAMP:20260421T163222
CREATED:20260227T000511Z
LAST-MODIFIED:20260227T000511Z
UID:10001405-1801040400-1801051200@trefpunt.buurtbelangen-nazareth.nl
SUMMARY:Kredietbank Limburg
DESCRIPTION:
URL:https://trefpunt.buurtbelangen-nazareth.nl/activiteit/kredietbank-limburg/2027-01-27/
LOCATION:Trefpunt Nazareth\, Kasteel Schaloenstraat 54\, Maastricht\, Limburg\, 6222 TP\, Netherlands
CATEGORIES:Inloop
ATTACH;FMTTYPE=image/png:https://trefpunt.buurtbelangen-nazareth.nl/wp-content/uploads/2025/10/kredietbank-limburg.png
ORGANIZER;CN="Kredietbank":MAILTO:info@kblb.nl
END:VEVENT
BEGIN:VEVENT
DTSTART;TZID=Europe/Amsterdam:20270127T090000
DTEND;TZID=Europe/Amsterdam:20270127T120000
DTSTAMP:20260421T163222
CREATED:20260227T001316Z
LAST-MODIFIED:20260227T001316Z
UID:10001667-1801040400-1801051200@trefpunt.buurtbelangen-nazareth.nl
SUMMARY:Financiele coaches (Sociale Zaken)
DESCRIPTION:
URL:https://trefpunt.buurtbelangen-nazareth.nl/activiteit/financiele-coaches-sociale-zaken/2027-01-27/
LOCATION:Trefpunt Nazareth\, Kasteel Schaloenstraat 54\, Maastricht\, Limburg\, 6222 TP\, Netherlands
CATEGORIES:Inloop
ATTACH;FMTTYPE=image/webp:https://trefpunt.buurtbelangen-nazareth.nl/wp-content/uploads/2026/02/logo-sociale-zaken-maastricht.webp
ORGANIZER;CN="Sociale zaken Maastricht":MAILTO:&quot;post-socialezaken@maastpost-socialezaken@maastricht.nl
END:VEVENT
BEGIN:VEVENT
DTSTART;TZID=Europe/Amsterdam:20270128T090000
DTEND;TZID=Europe/Amsterdam:20270128T130000
DTSTAMP:20260421T163222
CREATED:20260227T001601Z
LAST-MODIFIED:20260227T001601Z
UID:10001929-1801126800-1801141200@trefpunt.buurtbelangen-nazareth.nl
SUMMARY:Gemeente Maastricht
DESCRIPTION:
URL:https://trefpunt.buurtbelangen-nazareth.nl/activiteit/gemeente-maastricht/2027-01-28/
LOCATION:Trefpunt Nazareth\, Kasteel Schaloenstraat 54\, Maastricht\, Limburg\, 6222 TP\, Netherlands
CATEGORIES:Inloop
ATTACH;FMTTYPE=image/jpeg:https://trefpunt.buurtbelangen-nazareth.nl/wp-content/uploads/2026/02/Logo-maastricht.jpg
END:VEVENT
BEGIN:VEVENT
DTSTART;TZID=Europe/Amsterdam:20270128T100000
DTEND;TZID=Europe/Amsterdam:20270128T120000
DTSTAMP:20260421T163222
CREATED:20260227T002029Z
LAST-MODIFIED:20260227T002029Z
UID:10002191-1801130400-1801137600@trefpunt.buurtbelangen-nazareth.nl
SUMMARY:Inloop Trajekt
DESCRIPTION:
URL:https://trefpunt.buurtbelangen-nazareth.nl/activiteit/inloop-trajekt/2027-01-28/
LOCATION:Trefpunt Nazareth\, Kasteel Schaloenstraat 54\, Maastricht\, Limburg\, 6222 TP\, Netherlands
CATEGORIES:Inloop
ATTACH;FMTTYPE=image/webp:https://trefpunt.buurtbelangen-nazareth.nl/wp-content/uploads/2025/10/Logo-Trajekt.webp
ORGANIZER;CN="Trajekt":MAILTO:nel.knapen@trajekt.nl
END:VEVENT
BEGIN:VEVENT
DTSTART;TZID=Europe/Amsterdam:20270129T090000
DTEND;TZID=Europe/Amsterdam:20270129T130000
DTSTAMP:20260421T163222
CREATED:20260227T002913Z
LAST-MODIFIED:20260227T003046Z
UID:10002821-1801213200-1801227600@trefpunt.buurtbelangen-nazareth.nl
SUMMARY:Inloop Voonk
DESCRIPTION:
URL:https://trefpunt.buurtbelangen-nazareth.nl/activiteit/inloop-voonk/2027-01-29/
LOCATION:Trefpunt Nazareth\, Kasteel Schaloenstraat 54\, Maastricht\, Limburg\, 6222 TP\, Netherlands
CATEGORIES:Inloop
ATTACH;FMTTYPE=image/webp:https://trefpunt.buurtbelangen-nazareth.nl/wp-content/uploads/2025/10/Voonk.webp
END:VEVENT
BEGIN:VEVENT
DTSTART;TZID=Europe/Amsterdam:20270203T090000
DTEND;TZID=Europe/Amsterdam:20270203T120000
DTSTAMP:20260421T163222
CREATED:20260227T000511Z
LAST-MODIFIED:20260227T000511Z
UID:10001406-1801645200-1801656000@trefpunt.buurtbelangen-nazareth.nl
SUMMARY:Kredietbank Limburg
DESCRIPTION:
URL:https://trefpunt.buurtbelangen-nazareth.nl/activiteit/kredietbank-limburg/2027-02-03/
LOCATION:Trefpunt Nazareth\, Kasteel Schaloenstraat 54\, Maastricht\, Limburg\, 6222 TP\, Netherlands
CATEGORIES:Inloop
ATTACH;FMTTYPE=image/png:https://trefpunt.buurtbelangen-nazareth.nl/wp-content/uploads/2025/10/kredietbank-limburg.png
ORGANIZER;CN="Kredietbank":MAILTO:info@kblb.nl
END:VEVENT
BEGIN:VEVENT
DTSTART;TZID=Europe/Amsterdam:20270203T090000
DTEND;TZID=Europe/Amsterdam:20270203T120000
DTSTAMP:20260421T163222
CREATED:20260227T001316Z
LAST-MODIFIED:20260227T001316Z
UID:10001668-1801645200-1801656000@trefpunt.buurtbelangen-nazareth.nl
SUMMARY:Financiele coaches (Sociale Zaken)
DESCRIPTION:
URL:https://trefpunt.buurtbelangen-nazareth.nl/activiteit/financiele-coaches-sociale-zaken/2027-02-03/
LOCATION:Trefpunt Nazareth\, Kasteel Schaloenstraat 54\, Maastricht\, Limburg\, 6222 TP\, Netherlands
CATEGORIES:Inloop
ATTACH;FMTTYPE=image/webp:https://trefpunt.buurtbelangen-nazareth.nl/wp-content/uploads/2026/02/logo-sociale-zaken-maastricht.webp
ORGANIZER;CN="Sociale zaken Maastricht":MAILTO:&quot;post-socialezaken@maastpost-socialezaken@maastricht.nl
END:VEVENT
BEGIN:VEVENT
DTSTART;TZID=Europe/Amsterdam:20270204T090000
DTEND;TZID=Europe/Amsterdam:20270204T130000
DTSTAMP:20260421T163222
CREATED:20260227T001601Z
LAST-MODIFIED:20260227T001601Z
UID:10001930-1801731600-1801746000@trefpunt.buurtbelangen-nazareth.nl
SUMMARY:Gemeente Maastricht
DESCRIPTION:
URL:https://trefpunt.buurtbelangen-nazareth.nl/activiteit/gemeente-maastricht/2027-02-04/
LOCATION:Trefpunt Nazareth\, Kasteel Schaloenstraat 54\, Maastricht\, Limburg\, 6222 TP\, Netherlands
CATEGORIES:Inloop
ATTACH;FMTTYPE=image/jpeg:https://trefpunt.buurtbelangen-nazareth.nl/wp-content/uploads/2026/02/Logo-maastricht.jpg
END:VEVENT
BEGIN:VEVENT
DTSTART;TZID=Europe/Amsterdam:20270204T100000
DTEND;TZID=Europe/Amsterdam:20270204T120000
DTSTAMP:20260421T163222
CREATED:20260227T002029Z
LAST-MODIFIED:20260227T002029Z
UID:10002192-1801735200-1801742400@trefpunt.buurtbelangen-nazareth.nl
SUMMARY:Inloop Trajekt
DESCRIPTION:
URL:https://trefpunt.buurtbelangen-nazareth.nl/activiteit/inloop-trajekt/2027-02-04/
LOCATION:Trefpunt Nazareth\, Kasteel Schaloenstraat 54\, Maastricht\, Limburg\, 6222 TP\, Netherlands
CATEGORIES:Inloop
ATTACH;FMTTYPE=image/webp:https://trefpunt.buurtbelangen-nazareth.nl/wp-content/uploads/2025/10/Logo-Trajekt.webp
ORGANIZER;CN="Trajekt":MAILTO:nel.knapen@trajekt.nl
END:VEVENT
BEGIN:VEVENT
DTSTART;TZID=Europe/Amsterdam:20270210T090000
DTEND;TZID=Europe/Amsterdam:20270210T120000
DTSTAMP:20260421T163222
CREATED:20260227T000511Z
LAST-MODIFIED:20260227T000511Z
UID:10001407-1802250000-1802260800@trefpunt.buurtbelangen-nazareth.nl
SUMMARY:Kredietbank Limburg
DESCRIPTION:
URL:https://trefpunt.buurtbelangen-nazareth.nl/activiteit/kredietbank-limburg/2027-02-10/
LOCATION:Trefpunt Nazareth\, Kasteel Schaloenstraat 54\, Maastricht\, Limburg\, 6222 TP\, Netherlands
CATEGORIES:Inloop
ATTACH;FMTTYPE=image/png:https://trefpunt.buurtbelangen-nazareth.nl/wp-content/uploads/2025/10/kredietbank-limburg.png
ORGANIZER;CN="Kredietbank":MAILTO:info@kblb.nl
END:VEVENT
BEGIN:VEVENT
DTSTART;TZID=Europe/Amsterdam:20270210T090000
DTEND;TZID=Europe/Amsterdam:20270210T120000
DTSTAMP:20260421T163222
CREATED:20260227T001316Z
LAST-MODIFIED:20260227T001316Z
UID:10001669-1802250000-1802260800@trefpunt.buurtbelangen-nazareth.nl
SUMMARY:Financiele coaches (Sociale Zaken)
DESCRIPTION:
URL:https://trefpunt.buurtbelangen-nazareth.nl/activiteit/financiele-coaches-sociale-zaken/2027-02-10/
LOCATION:Trefpunt Nazareth\, Kasteel Schaloenstraat 54\, Maastricht\, Limburg\, 6222 TP\, Netherlands
CATEGORIES:Inloop
ATTACH;FMTTYPE=image/webp:https://trefpunt.buurtbelangen-nazareth.nl/wp-content/uploads/2026/02/logo-sociale-zaken-maastricht.webp
ORGANIZER;CN="Sociale zaken Maastricht":MAILTO:&quot;post-socialezaken@maastpost-socialezaken@maastricht.nl
END:VEVENT
BEGIN:VEVENT
DTSTART;TZID=Europe/Amsterdam:20270211T090000
DTEND;TZID=Europe/Amsterdam:20270211T130000
DTSTAMP:20260421T163222
CREATED:20260227T001601Z
LAST-MODIFIED:20260227T001601Z
UID:10001931-1802336400-1802350800@trefpunt.buurtbelangen-nazareth.nl
SUMMARY:Gemeente Maastricht
DESCRIPTION:
URL:https://trefpunt.buurtbelangen-nazareth.nl/activiteit/gemeente-maastricht/2027-02-11/
LOCATION:Trefpunt Nazareth\, Kasteel Schaloenstraat 54\, Maastricht\, Limburg\, 6222 TP\, Netherlands
CATEGORIES:Inloop
ATTACH;FMTTYPE=image/jpeg:https://trefpunt.buurtbelangen-nazareth.nl/wp-content/uploads/2026/02/Logo-maastricht.jpg
END:VEVENT
BEGIN:VEVENT
DTSTART;TZID=Europe/Amsterdam:20270211T100000
DTEND;TZID=Europe/Amsterdam:20270211T120000
DTSTAMP:20260421T163222
CREATED:20260227T002029Z
LAST-MODIFIED:20260227T002029Z
UID:10002193-1802340000-1802347200@trefpunt.buurtbelangen-nazareth.nl
SUMMARY:Inloop Trajekt
DESCRIPTION:
URL:https://trefpunt.buurtbelangen-nazareth.nl/activiteit/inloop-trajekt/2027-02-11/
LOCATION:Trefpunt Nazareth\, Kasteel Schaloenstraat 54\, Maastricht\, Limburg\, 6222 TP\, Netherlands
CATEGORIES:Inloop
ATTACH;FMTTYPE=image/webp:https://trefpunt.buurtbelangen-nazareth.nl/wp-content/uploads/2025/10/Logo-Trajekt.webp
ORGANIZER;CN="Trajekt":MAILTO:nel.knapen@trajekt.nl
END:VEVENT
BEGIN:VEVENT
DTSTART;TZID=Europe/Amsterdam:20270212T090000
DTEND;TZID=Europe/Amsterdam:20270212T130000
DTSTAMP:20260421T163222
CREATED:20260227T002913Z
LAST-MODIFIED:20260227T003046Z
UID:10002822-1802422800-1802437200@trefpunt.buurtbelangen-nazareth.nl
SUMMARY:Inloop Voonk
DESCRIPTION:
URL:https://trefpunt.buurtbelangen-nazareth.nl/activiteit/inloop-voonk/2027-02-12/
LOCATION:Trefpunt Nazareth\, Kasteel Schaloenstraat 54\, Maastricht\, Limburg\, 6222 TP\, Netherlands
CATEGORIES:Inloop
ATTACH;FMTTYPE=image/webp:https://trefpunt.buurtbelangen-nazareth.nl/wp-content/uploads/2025/10/Voonk.webp
END:VEVENT
BEGIN:VEVENT
DTSTART;TZID=Europe/Amsterdam:20270217T090000
DTEND;TZID=Europe/Amsterdam:20270217T120000
DTSTAMP:20260421T163222
CREATED:20260227T000511Z
LAST-MODIFIED:20260227T000511Z
UID:10001408-1802854800-1802865600@trefpunt.buurtbelangen-nazareth.nl
SUMMARY:Kredietbank Limburg
DESCRIPTION:
URL:https://trefpunt.buurtbelangen-nazareth.nl/activiteit/kredietbank-limburg/2027-02-17/
LOCATION:Trefpunt Nazareth\, Kasteel Schaloenstraat 54\, Maastricht\, Limburg\, 6222 TP\, Netherlands
CATEGORIES:Inloop
ATTACH;FMTTYPE=image/png:https://trefpunt.buurtbelangen-nazareth.nl/wp-content/uploads/2025/10/kredietbank-limburg.png
ORGANIZER;CN="Kredietbank":MAILTO:info@kblb.nl
END:VEVENT
BEGIN:VEVENT
DTSTART;TZID=Europe/Amsterdam:20270217T090000
DTEND;TZID=Europe/Amsterdam:20270217T120000
DTSTAMP:20260421T163222
CREATED:20260227T001316Z
LAST-MODIFIED:20260227T001316Z
UID:10001670-1802854800-1802865600@trefpunt.buurtbelangen-nazareth.nl
SUMMARY:Financiele coaches (Sociale Zaken)
DESCRIPTION:
URL:https://trefpunt.buurtbelangen-nazareth.nl/activiteit/financiele-coaches-sociale-zaken/2027-02-17/
LOCATION:Trefpunt Nazareth\, Kasteel Schaloenstraat 54\, Maastricht\, Limburg\, 6222 TP\, Netherlands
CATEGORIES:Inloop
ATTACH;FMTTYPE=image/webp:https://trefpunt.buurtbelangen-nazareth.nl/wp-content/uploads/2026/02/logo-sociale-zaken-maastricht.webp
ORGANIZER;CN="Sociale zaken Maastricht":MAILTO:&quot;post-socialezaken@maastpost-socialezaken@maastricht.nl
END:VEVENT
BEGIN:VEVENT
DTSTART;TZID=Europe/Amsterdam:20270218T090000
DTEND;TZID=Europe/Amsterdam:20270218T130000
DTSTAMP:20260421T163222
CREATED:20260227T001601Z
LAST-MODIFIED:20260227T001601Z
UID:10001932-1802941200-1802955600@trefpunt.buurtbelangen-nazareth.nl
SUMMARY:Gemeente Maastricht
DESCRIPTION:
URL:https://trefpunt.buurtbelangen-nazareth.nl/activiteit/gemeente-maastricht/2027-02-18/
LOCATION:Trefpunt Nazareth\, Kasteel Schaloenstraat 54\, Maastricht\, Limburg\, 6222 TP\, Netherlands
CATEGORIES:Inloop
ATTACH;FMTTYPE=image/jpeg:https://trefpunt.buurtbelangen-nazareth.nl/wp-content/uploads/2026/02/Logo-maastricht.jpg
END:VEVENT
BEGIN:VEVENT
DTSTART;TZID=Europe/Amsterdam:20270218T100000
DTEND;TZID=Europe/Amsterdam:20270218T120000
DTSTAMP:20260421T163222
CREATED:20260227T002029Z
LAST-MODIFIED:20260227T002029Z
UID:10002194-1802944800-1802952000@trefpunt.buurtbelangen-nazareth.nl
SUMMARY:Inloop Trajekt
DESCRIPTION:
URL:https://trefpunt.buurtbelangen-nazareth.nl/activiteit/inloop-trajekt/2027-02-18/
LOCATION:Trefpunt Nazareth\, Kasteel Schaloenstraat 54\, Maastricht\, Limburg\, 6222 TP\, Netherlands
CATEGORIES:Inloop
ATTACH;FMTTYPE=image/webp:https://trefpunt.buurtbelangen-nazareth.nl/wp-content/uploads/2025/10/Logo-Trajekt.webp
ORGANIZER;CN="Trajekt":MAILTO:nel.knapen@trajekt.nl
END:VEVENT
BEGIN:VEVENT
DTSTART;TZID=Europe/Amsterdam:20270224T090000
DTEND;TZID=Europe/Amsterdam:20270224T120000
DTSTAMP:20260421T163222
CREATED:20260227T000511Z
LAST-MODIFIED:20260227T000511Z
UID:10001409-1803459600-1803470400@trefpunt.buurtbelangen-nazareth.nl
SUMMARY:Kredietbank Limburg
DESCRIPTION:
URL:https://trefpunt.buurtbelangen-nazareth.nl/activiteit/kredietbank-limburg/2027-02-24/
LOCATION:Trefpunt Nazareth\, Kasteel Schaloenstraat 54\, Maastricht\, Limburg\, 6222 TP\, Netherlands
CATEGORIES:Inloop
ATTACH;FMTTYPE=image/png:https://trefpunt.buurtbelangen-nazareth.nl/wp-content/uploads/2025/10/kredietbank-limburg.png
ORGANIZER;CN="Kredietbank":MAILTO:info@kblb.nl
END:VEVENT
BEGIN:VEVENT
DTSTART;TZID=Europe/Amsterdam:20270224T090000
DTEND;TZID=Europe/Amsterdam:20270224T120000
DTSTAMP:20260421T163222
CREATED:20260227T001316Z
LAST-MODIFIED:20260227T001316Z
UID:10001671-1803459600-1803470400@trefpunt.buurtbelangen-nazareth.nl
SUMMARY:Financiele coaches (Sociale Zaken)
DESCRIPTION:
URL:https://trefpunt.buurtbelangen-nazareth.nl/activiteit/financiele-coaches-sociale-zaken/2027-02-24/
LOCATION:Trefpunt Nazareth\, Kasteel Schaloenstraat 54\, Maastricht\, Limburg\, 6222 TP\, Netherlands
CATEGORIES:Inloop
ATTACH;FMTTYPE=image/webp:https://trefpunt.buurtbelangen-nazareth.nl/wp-content/uploads/2026/02/logo-sociale-zaken-maastricht.webp
ORGANIZER;CN="Sociale zaken Maastricht":MAILTO:&quot;post-socialezaken@maastpost-socialezaken@maastricht.nl
END:VEVENT
BEGIN:VEVENT
DTSTART;TZID=Europe/Amsterdam:20270225T090000
DTEND;TZID=Europe/Amsterdam:20270225T130000
DTSTAMP:20260421T163222
CREATED:20260227T001601Z
LAST-MODIFIED:20260227T001601Z
UID:10001933-1803546000-1803560400@trefpunt.buurtbelangen-nazareth.nl
SUMMARY:Gemeente Maastricht
DESCRIPTION:
URL:https://trefpunt.buurtbelangen-nazareth.nl/activiteit/gemeente-maastricht/2027-02-25/
LOCATION:Trefpunt Nazareth\, Kasteel Schaloenstraat 54\, Maastricht\, Limburg\, 6222 TP\, Netherlands
CATEGORIES:Inloop
ATTACH;FMTTYPE=image/jpeg:https://trefpunt.buurtbelangen-nazareth.nl/wp-content/uploads/2026/02/Logo-maastricht.jpg
END:VEVENT
BEGIN:VEVENT
DTSTART;TZID=Europe/Amsterdam:20270225T100000
DTEND;TZID=Europe/Amsterdam:20270225T120000
DTSTAMP:20260421T163222
CREATED:20260227T002029Z
LAST-MODIFIED:20260227T002029Z
UID:10002195-1803549600-1803556800@trefpunt.buurtbelangen-nazareth.nl
SUMMARY:Inloop Trajekt
DESCRIPTION:
URL:https://trefpunt.buurtbelangen-nazareth.nl/activiteit/inloop-trajekt/2027-02-25/
LOCATION:Trefpunt Nazareth\, Kasteel Schaloenstraat 54\, Maastricht\, Limburg\, 6222 TP\, Netherlands
CATEGORIES:Inloop
ATTACH;FMTTYPE=image/webp:https://trefpunt.buurtbelangen-nazareth.nl/wp-content/uploads/2025/10/Logo-Trajekt.webp
ORGANIZER;CN="Trajekt":MAILTO:nel.knapen@trajekt.nl
END:VEVENT
BEGIN:VEVENT
DTSTART;TZID=Europe/Amsterdam:20270226T090000
DTEND;TZID=Europe/Amsterdam:20270226T130000
DTSTAMP:20260421T163222
CREATED:20260227T002913Z
LAST-MODIFIED:20260227T003046Z
UID:10002823-1803632400-1803646800@trefpunt.buurtbelangen-nazareth.nl
SUMMARY:Inloop Voonk
DESCRIPTION:
URL:https://trefpunt.buurtbelangen-nazareth.nl/activiteit/inloop-voonk/2027-02-26/
LOCATION:Trefpunt Nazareth\, Kasteel Schaloenstraat 54\, Maastricht\, Limburg\, 6222 TP\, Netherlands
CATEGORIES:Inloop
ATTACH;FMTTYPE=image/webp:https://trefpunt.buurtbelangen-nazareth.nl/wp-content/uploads/2025/10/Voonk.webp
END:VEVENT
BEGIN:VEVENT
DTSTART;TZID=Europe/Amsterdam:20270303T090000
DTEND;TZID=Europe/Amsterdam:20270303T120000
DTSTAMP:20260421T163222
CREATED:20260227T000511Z
LAST-MODIFIED:20260227T000511Z
UID:10001410-1804064400-1804075200@trefpunt.buurtbelangen-nazareth.nl
SUMMARY:Kredietbank Limburg
DESCRIPTION:
URL:https://trefpunt.buurtbelangen-nazareth.nl/activiteit/kredietbank-limburg/2027-03-03/
LOCATION:Trefpunt Nazareth\, Kasteel Schaloenstraat 54\, Maastricht\, Limburg\, 6222 TP\, Netherlands
CATEGORIES:Inloop
ATTACH;FMTTYPE=image/png:https://trefpunt.buurtbelangen-nazareth.nl/wp-content/uploads/2025/10/kredietbank-limburg.png
ORGANIZER;CN="Kredietbank":MAILTO:info@kblb.nl
END:VEVENT
END:VCALENDAR