BEGIN:VCALENDAR
VERSION:2.0
PRODID:-//Trefpunt Nazareth - ECPv6.15.20//NONSGML v1.0//EN
CALSCALE:GREGORIAN
METHOD:PUBLISH
X-ORIGINAL-URL:https://trefpunt.buurtbelangen-nazareth.nl
X-WR-CALDESC:Evenementen voor Trefpunt Nazareth
REFRESH-INTERVAL;VALUE=DURATION:PT1H
X-Robots-Tag:noindex
X-PUBLISHED-TTL:PT1H
BEGIN:VTIMEZONE
TZID:Europe/Amsterdam
BEGIN:DAYLIGHT
TZOFFSETFROM:+0100
TZOFFSETTO:+0200
TZNAME:CEST
DTSTART:20260329T010000
END:DAYLIGHT
BEGIN:STANDARD
TZOFFSETFROM:+0200
TZOFFSETTO:+0100
TZNAME:CET
DTSTART:20261025T010000
END:STANDARD
BEGIN:DAYLIGHT
TZOFFSETFROM:+0100
TZOFFSETTO:+0200
TZNAME:CEST
DTSTART:20270328T010000
END:DAYLIGHT
BEGIN:STANDARD
TZOFFSETFROM:+0200
TZOFFSETTO:+0100
TZNAME:CET
DTSTART:20271031T010000
END:STANDARD
BEGIN:DAYLIGHT
TZOFFSETFROM:+0100
TZOFFSETTO:+0200
TZNAME:CEST
DTSTART:20280326T010000
END:DAYLIGHT
BEGIN:STANDARD
TZOFFSETFROM:+0200
TZOFFSETTO:+0100
TZNAME:CET
DTSTART:20281029T010000
END:STANDARD
END:VTIMEZONE
BEGIN:VEVENT
DTSTART;TZID=Europe/Amsterdam:20270224T090000
DTEND;TZID=Europe/Amsterdam:20270224T120000
DTSTAMP:20260421T192724
CREATED:20260227T000511Z
LAST-MODIFIED:20260227T000511Z
UID:10001409-1803459600-1803470400@trefpunt.buurtbelangen-nazareth.nl
SUMMARY:Kredietbank Limburg
DESCRIPTION:
URL:https://trefpunt.buurtbelangen-nazareth.nl/activiteit/kredietbank-limburg/2027-02-24/
LOCATION:Trefpunt Nazareth\, Kasteel Schaloenstraat 54\, Maastricht\, Limburg\, 6222 TP\, Netherlands
CATEGORIES:Inloop
ATTACH;FMTTYPE=image/png:https://trefpunt.buurtbelangen-nazareth.nl/wp-content/uploads/2025/10/kredietbank-limburg.png
ORGANIZER;CN="Kredietbank":MAILTO:info@kblb.nl
END:VEVENT
BEGIN:VEVENT
DTSTART;TZID=Europe/Amsterdam:20270224T090000
DTEND;TZID=Europe/Amsterdam:20270224T120000
DTSTAMP:20260421T192724
CREATED:20260227T001316Z
LAST-MODIFIED:20260227T001316Z
UID:10001671-1803459600-1803470400@trefpunt.buurtbelangen-nazareth.nl
SUMMARY:Financiele coaches (Sociale Zaken)
DESCRIPTION:
URL:https://trefpunt.buurtbelangen-nazareth.nl/activiteit/financiele-coaches-sociale-zaken/2027-02-24/
LOCATION:Trefpunt Nazareth\, Kasteel Schaloenstraat 54\, Maastricht\, Limburg\, 6222 TP\, Netherlands
CATEGORIES:Inloop
ATTACH;FMTTYPE=image/webp:https://trefpunt.buurtbelangen-nazareth.nl/wp-content/uploads/2026/02/logo-sociale-zaken-maastricht.webp
ORGANIZER;CN="Sociale zaken Maastricht":MAILTO:&quot;post-socialezaken@maastpost-socialezaken@maastricht.nl
END:VEVENT
BEGIN:VEVENT
DTSTART;TZID=Europe/Amsterdam:20270225T090000
DTEND;TZID=Europe/Amsterdam:20270225T130000
DTSTAMP:20260421T192724
CREATED:20260227T001601Z
LAST-MODIFIED:20260227T001601Z
UID:10001933-1803546000-1803560400@trefpunt.buurtbelangen-nazareth.nl
SUMMARY:Gemeente Maastricht
DESCRIPTION:
URL:https://trefpunt.buurtbelangen-nazareth.nl/activiteit/gemeente-maastricht/2027-02-25/
LOCATION:Trefpunt Nazareth\, Kasteel Schaloenstraat 54\, Maastricht\, Limburg\, 6222 TP\, Netherlands
CATEGORIES:Inloop
ATTACH;FMTTYPE=image/jpeg:https://trefpunt.buurtbelangen-nazareth.nl/wp-content/uploads/2026/02/Logo-maastricht.jpg
END:VEVENT
BEGIN:VEVENT
DTSTART;TZID=Europe/Amsterdam:20270225T100000
DTEND;TZID=Europe/Amsterdam:20270225T120000
DTSTAMP:20260421T192724
CREATED:20260227T002029Z
LAST-MODIFIED:20260227T002029Z
UID:10002195-1803549600-1803556800@trefpunt.buurtbelangen-nazareth.nl
SUMMARY:Inloop Trajekt
DESCRIPTION:
URL:https://trefpunt.buurtbelangen-nazareth.nl/activiteit/inloop-trajekt/2027-02-25/
LOCATION:Trefpunt Nazareth\, Kasteel Schaloenstraat 54\, Maastricht\, Limburg\, 6222 TP\, Netherlands
CATEGORIES:Inloop
ATTACH;FMTTYPE=image/webp:https://trefpunt.buurtbelangen-nazareth.nl/wp-content/uploads/2025/10/Logo-Trajekt.webp
ORGANIZER;CN="Trajekt":MAILTO:nel.knapen@trajekt.nl
END:VEVENT
BEGIN:VEVENT
DTSTART;TZID=Europe/Amsterdam:20270226T090000
DTEND;TZID=Europe/Amsterdam:20270226T130000
DTSTAMP:20260421T192724
CREATED:20260227T002913Z
LAST-MODIFIED:20260227T003046Z
UID:10002823-1803632400-1803646800@trefpunt.buurtbelangen-nazareth.nl
SUMMARY:Inloop Voonk
DESCRIPTION:
URL:https://trefpunt.buurtbelangen-nazareth.nl/activiteit/inloop-voonk/2027-02-26/
LOCATION:Trefpunt Nazareth\, Kasteel Schaloenstraat 54\, Maastricht\, Limburg\, 6222 TP\, Netherlands
CATEGORIES:Inloop
ATTACH;FMTTYPE=image/webp:https://trefpunt.buurtbelangen-nazareth.nl/wp-content/uploads/2025/10/Voonk.webp
END:VEVENT
BEGIN:VEVENT
DTSTART;TZID=Europe/Amsterdam:20270303T090000
DTEND;TZID=Europe/Amsterdam:20270303T120000
DTSTAMP:20260421T192724
CREATED:20260227T000511Z
LAST-MODIFIED:20260227T000511Z
UID:10001410-1804064400-1804075200@trefpunt.buurtbelangen-nazareth.nl
SUMMARY:Kredietbank Limburg
DESCRIPTION:
URL:https://trefpunt.buurtbelangen-nazareth.nl/activiteit/kredietbank-limburg/2027-03-03/
LOCATION:Trefpunt Nazareth\, Kasteel Schaloenstraat 54\, Maastricht\, Limburg\, 6222 TP\, Netherlands
CATEGORIES:Inloop
ATTACH;FMTTYPE=image/png:https://trefpunt.buurtbelangen-nazareth.nl/wp-content/uploads/2025/10/kredietbank-limburg.png
ORGANIZER;CN="Kredietbank":MAILTO:info@kblb.nl
END:VEVENT
BEGIN:VEVENT
DTSTART;TZID=Europe/Amsterdam:20270303T090000
DTEND;TZID=Europe/Amsterdam:20270303T120000
DTSTAMP:20260421T192724
CREATED:20260227T001316Z
LAST-MODIFIED:20260227T001316Z
UID:10001672-1804064400-1804075200@trefpunt.buurtbelangen-nazareth.nl
SUMMARY:Financiele coaches (Sociale Zaken)
DESCRIPTION:
URL:https://trefpunt.buurtbelangen-nazareth.nl/activiteit/financiele-coaches-sociale-zaken/2027-03-03/
LOCATION:Trefpunt Nazareth\, Kasteel Schaloenstraat 54\, Maastricht\, Limburg\, 6222 TP\, Netherlands
CATEGORIES:Inloop
ATTACH;FMTTYPE=image/webp:https://trefpunt.buurtbelangen-nazareth.nl/wp-content/uploads/2026/02/logo-sociale-zaken-maastricht.webp
ORGANIZER;CN="Sociale zaken Maastricht":MAILTO:&quot;post-socialezaken@maastpost-socialezaken@maastricht.nl
END:VEVENT
BEGIN:VEVENT
DTSTART;TZID=Europe/Amsterdam:20270304T090000
DTEND;TZID=Europe/Amsterdam:20270304T130000
DTSTAMP:20260421T192724
CREATED:20260227T001601Z
LAST-MODIFIED:20260227T001601Z
UID:10001934-1804150800-1804165200@trefpunt.buurtbelangen-nazareth.nl
SUMMARY:Gemeente Maastricht
DESCRIPTION:
URL:https://trefpunt.buurtbelangen-nazareth.nl/activiteit/gemeente-maastricht/2027-03-04/
LOCATION:Trefpunt Nazareth\, Kasteel Schaloenstraat 54\, Maastricht\, Limburg\, 6222 TP\, Netherlands
CATEGORIES:Inloop
ATTACH;FMTTYPE=image/jpeg:https://trefpunt.buurtbelangen-nazareth.nl/wp-content/uploads/2026/02/Logo-maastricht.jpg
END:VEVENT
BEGIN:VEVENT
DTSTART;TZID=Europe/Amsterdam:20270304T100000
DTEND;TZID=Europe/Amsterdam:20270304T120000
DTSTAMP:20260421T192724
CREATED:20260227T002029Z
LAST-MODIFIED:20260227T002029Z
UID:10002196-1804154400-1804161600@trefpunt.buurtbelangen-nazareth.nl
SUMMARY:Inloop Trajekt
DESCRIPTION:
URL:https://trefpunt.buurtbelangen-nazareth.nl/activiteit/inloop-trajekt/2027-03-04/
LOCATION:Trefpunt Nazareth\, Kasteel Schaloenstraat 54\, Maastricht\, Limburg\, 6222 TP\, Netherlands
CATEGORIES:Inloop
ATTACH;FMTTYPE=image/webp:https://trefpunt.buurtbelangen-nazareth.nl/wp-content/uploads/2025/10/Logo-Trajekt.webp
ORGANIZER;CN="Trajekt":MAILTO:nel.knapen@trajekt.nl
END:VEVENT
BEGIN:VEVENT
DTSTART;TZID=Europe/Amsterdam:20270310T090000
DTEND;TZID=Europe/Amsterdam:20270310T120000
DTSTAMP:20260421T192724
CREATED:20260227T000511Z
LAST-MODIFIED:20260227T000511Z
UID:10001411-1804669200-1804680000@trefpunt.buurtbelangen-nazareth.nl
SUMMARY:Kredietbank Limburg
DESCRIPTION:
URL:https://trefpunt.buurtbelangen-nazareth.nl/activiteit/kredietbank-limburg/2027-03-10/
LOCATION:Trefpunt Nazareth\, Kasteel Schaloenstraat 54\, Maastricht\, Limburg\, 6222 TP\, Netherlands
CATEGORIES:Inloop
ATTACH;FMTTYPE=image/png:https://trefpunt.buurtbelangen-nazareth.nl/wp-content/uploads/2025/10/kredietbank-limburg.png
ORGANIZER;CN="Kredietbank":MAILTO:info@kblb.nl
END:VEVENT
BEGIN:VEVENT
DTSTART;TZID=Europe/Amsterdam:20270310T090000
DTEND;TZID=Europe/Amsterdam:20270310T120000
DTSTAMP:20260421T192724
CREATED:20260227T001316Z
LAST-MODIFIED:20260227T001316Z
UID:10001673-1804669200-1804680000@trefpunt.buurtbelangen-nazareth.nl
SUMMARY:Financiele coaches (Sociale Zaken)
DESCRIPTION:
URL:https://trefpunt.buurtbelangen-nazareth.nl/activiteit/financiele-coaches-sociale-zaken/2027-03-10/
LOCATION:Trefpunt Nazareth\, Kasteel Schaloenstraat 54\, Maastricht\, Limburg\, 6222 TP\, Netherlands
CATEGORIES:Inloop
ATTACH;FMTTYPE=image/webp:https://trefpunt.buurtbelangen-nazareth.nl/wp-content/uploads/2026/02/logo-sociale-zaken-maastricht.webp
ORGANIZER;CN="Sociale zaken Maastricht":MAILTO:&quot;post-socialezaken@maastpost-socialezaken@maastricht.nl
END:VEVENT
BEGIN:VEVENT
DTSTART;TZID=Europe/Amsterdam:20270311T090000
DTEND;TZID=Europe/Amsterdam:20270311T130000
DTSTAMP:20260421T192725
CREATED:20260227T001601Z
LAST-MODIFIED:20260227T001601Z
UID:10001935-1804755600-1804770000@trefpunt.buurtbelangen-nazareth.nl
SUMMARY:Gemeente Maastricht
DESCRIPTION:
URL:https://trefpunt.buurtbelangen-nazareth.nl/activiteit/gemeente-maastricht/2027-03-11/
LOCATION:Trefpunt Nazareth\, Kasteel Schaloenstraat 54\, Maastricht\, Limburg\, 6222 TP\, Netherlands
CATEGORIES:Inloop
ATTACH;FMTTYPE=image/jpeg:https://trefpunt.buurtbelangen-nazareth.nl/wp-content/uploads/2026/02/Logo-maastricht.jpg
END:VEVENT
BEGIN:VEVENT
DTSTART;TZID=Europe/Amsterdam:20270311T100000
DTEND;TZID=Europe/Amsterdam:20270311T120000
DTSTAMP:20260421T192725
CREATED:20260227T002029Z
LAST-MODIFIED:20260227T002029Z
UID:10002197-1804759200-1804766400@trefpunt.buurtbelangen-nazareth.nl
SUMMARY:Inloop Trajekt
DESCRIPTION:
URL:https://trefpunt.buurtbelangen-nazareth.nl/activiteit/inloop-trajekt/2027-03-11/
LOCATION:Trefpunt Nazareth\, Kasteel Schaloenstraat 54\, Maastricht\, Limburg\, 6222 TP\, Netherlands
CATEGORIES:Inloop
ATTACH;FMTTYPE=image/webp:https://trefpunt.buurtbelangen-nazareth.nl/wp-content/uploads/2025/10/Logo-Trajekt.webp
ORGANIZER;CN="Trajekt":MAILTO:nel.knapen@trajekt.nl
END:VEVENT
BEGIN:VEVENT
DTSTART;TZID=Europe/Amsterdam:20270312T090000
DTEND;TZID=Europe/Amsterdam:20270312T130000
DTSTAMP:20260421T192725
CREATED:20260227T002913Z
LAST-MODIFIED:20260227T003046Z
UID:10002824-1804842000-1804856400@trefpunt.buurtbelangen-nazareth.nl
SUMMARY:Inloop Voonk
DESCRIPTION:
URL:https://trefpunt.buurtbelangen-nazareth.nl/activiteit/inloop-voonk/2027-03-12/
LOCATION:Trefpunt Nazareth\, Kasteel Schaloenstraat 54\, Maastricht\, Limburg\, 6222 TP\, Netherlands
CATEGORIES:Inloop
ATTACH;FMTTYPE=image/webp:https://trefpunt.buurtbelangen-nazareth.nl/wp-content/uploads/2025/10/Voonk.webp
END:VEVENT
BEGIN:VEVENT
DTSTART;TZID=Europe/Amsterdam:20270317T090000
DTEND;TZID=Europe/Amsterdam:20270317T120000
DTSTAMP:20260421T192725
CREATED:20260227T000511Z
LAST-MODIFIED:20260227T000511Z
UID:10001412-1805274000-1805284800@trefpunt.buurtbelangen-nazareth.nl
SUMMARY:Kredietbank Limburg
DESCRIPTION:
URL:https://trefpunt.buurtbelangen-nazareth.nl/activiteit/kredietbank-limburg/2027-03-17/
LOCATION:Trefpunt Nazareth\, Kasteel Schaloenstraat 54\, Maastricht\, Limburg\, 6222 TP\, Netherlands
CATEGORIES:Inloop
ATTACH;FMTTYPE=image/png:https://trefpunt.buurtbelangen-nazareth.nl/wp-content/uploads/2025/10/kredietbank-limburg.png
ORGANIZER;CN="Kredietbank":MAILTO:info@kblb.nl
END:VEVENT
BEGIN:VEVENT
DTSTART;TZID=Europe/Amsterdam:20270317T090000
DTEND;TZID=Europe/Amsterdam:20270317T120000
DTSTAMP:20260421T192725
CREATED:20260227T001316Z
LAST-MODIFIED:20260227T001316Z
UID:10001674-1805274000-1805284800@trefpunt.buurtbelangen-nazareth.nl
SUMMARY:Financiele coaches (Sociale Zaken)
DESCRIPTION:
URL:https://trefpunt.buurtbelangen-nazareth.nl/activiteit/financiele-coaches-sociale-zaken/2027-03-17/
LOCATION:Trefpunt Nazareth\, Kasteel Schaloenstraat 54\, Maastricht\, Limburg\, 6222 TP\, Netherlands
CATEGORIES:Inloop
ATTACH;FMTTYPE=image/webp:https://trefpunt.buurtbelangen-nazareth.nl/wp-content/uploads/2026/02/logo-sociale-zaken-maastricht.webp
ORGANIZER;CN="Sociale zaken Maastricht":MAILTO:&quot;post-socialezaken@maastpost-socialezaken@maastricht.nl
END:VEVENT
BEGIN:VEVENT
DTSTART;TZID=Europe/Amsterdam:20270318T090000
DTEND;TZID=Europe/Amsterdam:20270318T130000
DTSTAMP:20260421T192725
CREATED:20260227T001601Z
LAST-MODIFIED:20260227T001601Z
UID:10001936-1805360400-1805374800@trefpunt.buurtbelangen-nazareth.nl
SUMMARY:Gemeente Maastricht
DESCRIPTION:
URL:https://trefpunt.buurtbelangen-nazareth.nl/activiteit/gemeente-maastricht/2027-03-18/
LOCATION:Trefpunt Nazareth\, Kasteel Schaloenstraat 54\, Maastricht\, Limburg\, 6222 TP\, Netherlands
CATEGORIES:Inloop
ATTACH;FMTTYPE=image/jpeg:https://trefpunt.buurtbelangen-nazareth.nl/wp-content/uploads/2026/02/Logo-maastricht.jpg
END:VEVENT
BEGIN:VEVENT
DTSTART;TZID=Europe/Amsterdam:20270318T100000
DTEND;TZID=Europe/Amsterdam:20270318T120000
DTSTAMP:20260421T192725
CREATED:20260227T002029Z
LAST-MODIFIED:20260227T002029Z
UID:10002198-1805364000-1805371200@trefpunt.buurtbelangen-nazareth.nl
SUMMARY:Inloop Trajekt
DESCRIPTION:
URL:https://trefpunt.buurtbelangen-nazareth.nl/activiteit/inloop-trajekt/2027-03-18/
LOCATION:Trefpunt Nazareth\, Kasteel Schaloenstraat 54\, Maastricht\, Limburg\, 6222 TP\, Netherlands
CATEGORIES:Inloop
ATTACH;FMTTYPE=image/webp:https://trefpunt.buurtbelangen-nazareth.nl/wp-content/uploads/2025/10/Logo-Trajekt.webp
ORGANIZER;CN="Trajekt":MAILTO:nel.knapen@trajekt.nl
END:VEVENT
BEGIN:VEVENT
DTSTART;TZID=Europe/Amsterdam:20270324T090000
DTEND;TZID=Europe/Amsterdam:20270324T120000
DTSTAMP:20260421T192725
CREATED:20260227T000511Z
LAST-MODIFIED:20260227T000511Z
UID:10001413-1805878800-1805889600@trefpunt.buurtbelangen-nazareth.nl
SUMMARY:Kredietbank Limburg
DESCRIPTION:
URL:https://trefpunt.buurtbelangen-nazareth.nl/activiteit/kredietbank-limburg/2027-03-24/
LOCATION:Trefpunt Nazareth\, Kasteel Schaloenstraat 54\, Maastricht\, Limburg\, 6222 TP\, Netherlands
CATEGORIES:Inloop
ATTACH;FMTTYPE=image/png:https://trefpunt.buurtbelangen-nazareth.nl/wp-content/uploads/2025/10/kredietbank-limburg.png
ORGANIZER;CN="Kredietbank":MAILTO:info@kblb.nl
END:VEVENT
BEGIN:VEVENT
DTSTART;TZID=Europe/Amsterdam:20270324T090000
DTEND;TZID=Europe/Amsterdam:20270324T120000
DTSTAMP:20260421T192725
CREATED:20260227T001316Z
LAST-MODIFIED:20260227T001316Z
UID:10001675-1805878800-1805889600@trefpunt.buurtbelangen-nazareth.nl
SUMMARY:Financiele coaches (Sociale Zaken)
DESCRIPTION:
URL:https://trefpunt.buurtbelangen-nazareth.nl/activiteit/financiele-coaches-sociale-zaken/2027-03-24/
LOCATION:Trefpunt Nazareth\, Kasteel Schaloenstraat 54\, Maastricht\, Limburg\, 6222 TP\, Netherlands
CATEGORIES:Inloop
ATTACH;FMTTYPE=image/webp:https://trefpunt.buurtbelangen-nazareth.nl/wp-content/uploads/2026/02/logo-sociale-zaken-maastricht.webp
ORGANIZER;CN="Sociale zaken Maastricht":MAILTO:&quot;post-socialezaken@maastpost-socialezaken@maastricht.nl
END:VEVENT
BEGIN:VEVENT
DTSTART;TZID=Europe/Amsterdam:20270325T090000
DTEND;TZID=Europe/Amsterdam:20270325T130000
DTSTAMP:20260421T192725
CREATED:20260227T001601Z
LAST-MODIFIED:20260227T001601Z
UID:10001937-1805965200-1805979600@trefpunt.buurtbelangen-nazareth.nl
SUMMARY:Gemeente Maastricht
DESCRIPTION:
URL:https://trefpunt.buurtbelangen-nazareth.nl/activiteit/gemeente-maastricht/2027-03-25/
LOCATION:Trefpunt Nazareth\, Kasteel Schaloenstraat 54\, Maastricht\, Limburg\, 6222 TP\, Netherlands
CATEGORIES:Inloop
ATTACH;FMTTYPE=image/jpeg:https://trefpunt.buurtbelangen-nazareth.nl/wp-content/uploads/2026/02/Logo-maastricht.jpg
END:VEVENT
BEGIN:VEVENT
DTSTART;TZID=Europe/Amsterdam:20270325T100000
DTEND;TZID=Europe/Amsterdam:20270325T120000
DTSTAMP:20260421T192725
CREATED:20260227T002029Z
LAST-MODIFIED:20260227T002029Z
UID:10002199-1805968800-1805976000@trefpunt.buurtbelangen-nazareth.nl
SUMMARY:Inloop Trajekt
DESCRIPTION:
URL:https://trefpunt.buurtbelangen-nazareth.nl/activiteit/inloop-trajekt/2027-03-25/
LOCATION:Trefpunt Nazareth\, Kasteel Schaloenstraat 54\, Maastricht\, Limburg\, 6222 TP\, Netherlands
CATEGORIES:Inloop
ATTACH;FMTTYPE=image/webp:https://trefpunt.buurtbelangen-nazareth.nl/wp-content/uploads/2025/10/Logo-Trajekt.webp
ORGANIZER;CN="Trajekt":MAILTO:nel.knapen@trajekt.nl
END:VEVENT
BEGIN:VEVENT
DTSTART;TZID=Europe/Amsterdam:20270326T090000
DTEND;TZID=Europe/Amsterdam:20270326T130000
DTSTAMP:20260421T192725
CREATED:20260227T002913Z
LAST-MODIFIED:20260227T003046Z
UID:10002825-1806051600-1806066000@trefpunt.buurtbelangen-nazareth.nl
SUMMARY:Inloop Voonk
DESCRIPTION:
URL:https://trefpunt.buurtbelangen-nazareth.nl/activiteit/inloop-voonk/2027-03-26/
LOCATION:Trefpunt Nazareth\, Kasteel Schaloenstraat 54\, Maastricht\, Limburg\, 6222 TP\, Netherlands
CATEGORIES:Inloop
ATTACH;FMTTYPE=image/webp:https://trefpunt.buurtbelangen-nazareth.nl/wp-content/uploads/2025/10/Voonk.webp
END:VEVENT
BEGIN:VEVENT
DTSTART;TZID=Europe/Amsterdam:20270331T090000
DTEND;TZID=Europe/Amsterdam:20270331T120000
DTSTAMP:20260421T192725
CREATED:20260227T000511Z
LAST-MODIFIED:20260227T000511Z
UID:10001414-1806483600-1806494400@trefpunt.buurtbelangen-nazareth.nl
SUMMARY:Kredietbank Limburg
DESCRIPTION:
URL:https://trefpunt.buurtbelangen-nazareth.nl/activiteit/kredietbank-limburg/2027-03-31/
LOCATION:Trefpunt Nazareth\, Kasteel Schaloenstraat 54\, Maastricht\, Limburg\, 6222 TP\, Netherlands
CATEGORIES:Inloop
ATTACH;FMTTYPE=image/png:https://trefpunt.buurtbelangen-nazareth.nl/wp-content/uploads/2025/10/kredietbank-limburg.png
ORGANIZER;CN="Kredietbank":MAILTO:info@kblb.nl
END:VEVENT
BEGIN:VEVENT
DTSTART;TZID=Europe/Amsterdam:20270331T090000
DTEND;TZID=Europe/Amsterdam:20270331T120000
DTSTAMP:20260421T192725
CREATED:20260227T001316Z
LAST-MODIFIED:20260227T001316Z
UID:10001676-1806483600-1806494400@trefpunt.buurtbelangen-nazareth.nl
SUMMARY:Financiele coaches (Sociale Zaken)
DESCRIPTION:
URL:https://trefpunt.buurtbelangen-nazareth.nl/activiteit/financiele-coaches-sociale-zaken/2027-03-31/
LOCATION:Trefpunt Nazareth\, Kasteel Schaloenstraat 54\, Maastricht\, Limburg\, 6222 TP\, Netherlands
CATEGORIES:Inloop
ATTACH;FMTTYPE=image/webp:https://trefpunt.buurtbelangen-nazareth.nl/wp-content/uploads/2026/02/logo-sociale-zaken-maastricht.webp
ORGANIZER;CN="Sociale zaken Maastricht":MAILTO:&quot;post-socialezaken@maastpost-socialezaken@maastricht.nl
END:VEVENT
BEGIN:VEVENT
DTSTART;TZID=Europe/Amsterdam:20270401T090000
DTEND;TZID=Europe/Amsterdam:20270401T130000
DTSTAMP:20260421T192725
CREATED:20260227T001601Z
LAST-MODIFIED:20260227T001601Z
UID:10001938-1806570000-1806584400@trefpunt.buurtbelangen-nazareth.nl
SUMMARY:Gemeente Maastricht
DESCRIPTION:
URL:https://trefpunt.buurtbelangen-nazareth.nl/activiteit/gemeente-maastricht/2027-04-01/
LOCATION:Trefpunt Nazareth\, Kasteel Schaloenstraat 54\, Maastricht\, Limburg\, 6222 TP\, Netherlands
CATEGORIES:Inloop
ATTACH;FMTTYPE=image/jpeg:https://trefpunt.buurtbelangen-nazareth.nl/wp-content/uploads/2026/02/Logo-maastricht.jpg
END:VEVENT
BEGIN:VEVENT
DTSTART;TZID=Europe/Amsterdam:20270401T100000
DTEND;TZID=Europe/Amsterdam:20270401T120000
DTSTAMP:20260421T192725
CREATED:20260227T002029Z
LAST-MODIFIED:20260227T002029Z
UID:10002200-1806573600-1806580800@trefpunt.buurtbelangen-nazareth.nl
SUMMARY:Inloop Trajekt
DESCRIPTION:
URL:https://trefpunt.buurtbelangen-nazareth.nl/activiteit/inloop-trajekt/2027-04-01/
LOCATION:Trefpunt Nazareth\, Kasteel Schaloenstraat 54\, Maastricht\, Limburg\, 6222 TP\, Netherlands
CATEGORIES:Inloop
ATTACH;FMTTYPE=image/webp:https://trefpunt.buurtbelangen-nazareth.nl/wp-content/uploads/2025/10/Logo-Trajekt.webp
ORGANIZER;CN="Trajekt":MAILTO:nel.knapen@trajekt.nl
END:VEVENT
BEGIN:VEVENT
DTSTART;TZID=Europe/Amsterdam:20270407T090000
DTEND;TZID=Europe/Amsterdam:20270407T120000
DTSTAMP:20260421T192725
CREATED:20260227T000511Z
LAST-MODIFIED:20260227T000511Z
UID:10001415-1807088400-1807099200@trefpunt.buurtbelangen-nazareth.nl
SUMMARY:Kredietbank Limburg
DESCRIPTION:
URL:https://trefpunt.buurtbelangen-nazareth.nl/activiteit/kredietbank-limburg/2027-04-07/
LOCATION:Trefpunt Nazareth\, Kasteel Schaloenstraat 54\, Maastricht\, Limburg\, 6222 TP\, Netherlands
CATEGORIES:Inloop
ATTACH;FMTTYPE=image/png:https://trefpunt.buurtbelangen-nazareth.nl/wp-content/uploads/2025/10/kredietbank-limburg.png
ORGANIZER;CN="Kredietbank":MAILTO:info@kblb.nl
END:VEVENT
BEGIN:VEVENT
DTSTART;TZID=Europe/Amsterdam:20270407T090000
DTEND;TZID=Europe/Amsterdam:20270407T120000
DTSTAMP:20260421T192725
CREATED:20260227T001316Z
LAST-MODIFIED:20260227T001316Z
UID:10001677-1807088400-1807099200@trefpunt.buurtbelangen-nazareth.nl
SUMMARY:Financiele coaches (Sociale Zaken)
DESCRIPTION:
URL:https://trefpunt.buurtbelangen-nazareth.nl/activiteit/financiele-coaches-sociale-zaken/2027-04-07/
LOCATION:Trefpunt Nazareth\, Kasteel Schaloenstraat 54\, Maastricht\, Limburg\, 6222 TP\, Netherlands
CATEGORIES:Inloop
ATTACH;FMTTYPE=image/webp:https://trefpunt.buurtbelangen-nazareth.nl/wp-content/uploads/2026/02/logo-sociale-zaken-maastricht.webp
ORGANIZER;CN="Sociale zaken Maastricht":MAILTO:&quot;post-socialezaken@maastpost-socialezaken@maastricht.nl
END:VEVENT
BEGIN:VEVENT
DTSTART;TZID=Europe/Amsterdam:20270408T090000
DTEND;TZID=Europe/Amsterdam:20270408T130000
DTSTAMP:20260421T192725
CREATED:20260227T001601Z
LAST-MODIFIED:20260227T001601Z
UID:10001939-1807174800-1807189200@trefpunt.buurtbelangen-nazareth.nl
SUMMARY:Gemeente Maastricht
DESCRIPTION:
URL:https://trefpunt.buurtbelangen-nazareth.nl/activiteit/gemeente-maastricht/2027-04-08/
LOCATION:Trefpunt Nazareth\, Kasteel Schaloenstraat 54\, Maastricht\, Limburg\, 6222 TP\, Netherlands
CATEGORIES:Inloop
ATTACH;FMTTYPE=image/jpeg:https://trefpunt.buurtbelangen-nazareth.nl/wp-content/uploads/2026/02/Logo-maastricht.jpg
END:VEVENT
END:VCALENDAR