BEGIN:VCALENDAR
VERSION:2.0
PRODID:-//Trefpunt Nazareth - ECPv6.15.20//NONSGML v1.0//EN
CALSCALE:GREGORIAN
METHOD:PUBLISH
X-WR-CALNAME:Trefpunt Nazareth
X-ORIGINAL-URL:https://trefpunt.buurtbelangen-nazareth.nl
X-WR-CALDESC:Evenementen voor Trefpunt Nazareth
REFRESH-INTERVAL;VALUE=DURATION:PT1H
X-Robots-Tag:noindex
X-PUBLISHED-TTL:PT1H
BEGIN:VTIMEZONE
TZID:Europe/Amsterdam
BEGIN:DAYLIGHT
TZOFFSETFROM:+0100
TZOFFSETTO:+0200
TZNAME:CEST
DTSTART:20260329T010000
END:DAYLIGHT
BEGIN:STANDARD
TZOFFSETFROM:+0200
TZOFFSETTO:+0100
TZNAME:CET
DTSTART:20261025T010000
END:STANDARD
BEGIN:DAYLIGHT
TZOFFSETFROM:+0100
TZOFFSETTO:+0200
TZNAME:CEST
DTSTART:20270328T010000
END:DAYLIGHT
BEGIN:STANDARD
TZOFFSETFROM:+0200
TZOFFSETTO:+0100
TZNAME:CET
DTSTART:20271031T010000
END:STANDARD
BEGIN:DAYLIGHT
TZOFFSETFROM:+0100
TZOFFSETTO:+0200
TZNAME:CEST
DTSTART:20280326T010000
END:DAYLIGHT
BEGIN:STANDARD
TZOFFSETFROM:+0200
TZOFFSETTO:+0100
TZNAME:CET
DTSTART:20281029T010000
END:STANDARD
END:VTIMEZONE
BEGIN:VEVENT
DTSTART;TZID=Europe/Amsterdam:20270401T100000
DTEND;TZID=Europe/Amsterdam:20270401T120000
DTSTAMP:20260425T133532
CREATED:20260227T002029Z
LAST-MODIFIED:20260227T002029Z
UID:10002200-1806573600-1806580800@trefpunt.buurtbelangen-nazareth.nl
SUMMARY:Inloop Trajekt
DESCRIPTION:
URL:https://trefpunt.buurtbelangen-nazareth.nl/activiteit/inloop-trajekt/2027-04-01/
LOCATION:Trefpunt Nazareth\, Kasteel Schaloenstraat 54\, Maastricht\, Limburg\, 6222 TP\, Netherlands
CATEGORIES:Inloop
ATTACH;FMTTYPE=image/webp:https://trefpunt.buurtbelangen-nazareth.nl/wp-content/uploads/2025/10/Logo-Trajekt.webp
ORGANIZER;CN="Trajekt":MAILTO:nel.knapen@trajekt.nl
END:VEVENT
BEGIN:VEVENT
DTSTART;TZID=Europe/Amsterdam:20270407T090000
DTEND;TZID=Europe/Amsterdam:20270407T120000
DTSTAMP:20260425T133532
CREATED:20260227T000511Z
LAST-MODIFIED:20260227T000511Z
UID:10001415-1807088400-1807099200@trefpunt.buurtbelangen-nazareth.nl
SUMMARY:Kredietbank Limburg
DESCRIPTION:
URL:https://trefpunt.buurtbelangen-nazareth.nl/activiteit/kredietbank-limburg/2027-04-07/
LOCATION:Trefpunt Nazareth\, Kasteel Schaloenstraat 54\, Maastricht\, Limburg\, 6222 TP\, Netherlands
CATEGORIES:Inloop
ATTACH;FMTTYPE=image/png:https://trefpunt.buurtbelangen-nazareth.nl/wp-content/uploads/2025/10/kredietbank-limburg.png
ORGANIZER;CN="Kredietbank":MAILTO:info@kblb.nl
END:VEVENT
BEGIN:VEVENT
DTSTART;TZID=Europe/Amsterdam:20270407T090000
DTEND;TZID=Europe/Amsterdam:20270407T120000
DTSTAMP:20260425T133532
CREATED:20260227T001316Z
LAST-MODIFIED:20260227T001316Z
UID:10001677-1807088400-1807099200@trefpunt.buurtbelangen-nazareth.nl
SUMMARY:Financiele coaches (Sociale Zaken)
DESCRIPTION:
URL:https://trefpunt.buurtbelangen-nazareth.nl/activiteit/financiele-coaches-sociale-zaken/2027-04-07/
LOCATION:Trefpunt Nazareth\, Kasteel Schaloenstraat 54\, Maastricht\, Limburg\, 6222 TP\, Netherlands
CATEGORIES:Inloop
ATTACH;FMTTYPE=image/webp:https://trefpunt.buurtbelangen-nazareth.nl/wp-content/uploads/2026/02/logo-sociale-zaken-maastricht.webp
ORGANIZER;CN="Sociale zaken Maastricht":MAILTO:&quot;post-socialezaken@maastpost-socialezaken@maastricht.nl
END:VEVENT
BEGIN:VEVENT
DTSTART;TZID=Europe/Amsterdam:20270408T090000
DTEND;TZID=Europe/Amsterdam:20270408T130000
DTSTAMP:20260425T133532
CREATED:20260227T001601Z
LAST-MODIFIED:20260227T001601Z
UID:10001939-1807174800-1807189200@trefpunt.buurtbelangen-nazareth.nl
SUMMARY:Gemeente Maastricht
DESCRIPTION:
URL:https://trefpunt.buurtbelangen-nazareth.nl/activiteit/gemeente-maastricht/2027-04-08/
LOCATION:Trefpunt Nazareth\, Kasteel Schaloenstraat 54\, Maastricht\, Limburg\, 6222 TP\, Netherlands
CATEGORIES:Inloop
ATTACH;FMTTYPE=image/jpeg:https://trefpunt.buurtbelangen-nazareth.nl/wp-content/uploads/2026/02/Logo-maastricht.jpg
END:VEVENT
BEGIN:VEVENT
DTSTART;TZID=Europe/Amsterdam:20270408T100000
DTEND;TZID=Europe/Amsterdam:20270408T120000
DTSTAMP:20260425T133532
CREATED:20260227T002029Z
LAST-MODIFIED:20260227T002029Z
UID:10002201-1807178400-1807185600@trefpunt.buurtbelangen-nazareth.nl
SUMMARY:Inloop Trajekt
DESCRIPTION:
URL:https://trefpunt.buurtbelangen-nazareth.nl/activiteit/inloop-trajekt/2027-04-08/
LOCATION:Trefpunt Nazareth\, Kasteel Schaloenstraat 54\, Maastricht\, Limburg\, 6222 TP\, Netherlands
CATEGORIES:Inloop
ATTACH;FMTTYPE=image/webp:https://trefpunt.buurtbelangen-nazareth.nl/wp-content/uploads/2025/10/Logo-Trajekt.webp
ORGANIZER;CN="Trajekt":MAILTO:nel.knapen@trajekt.nl
END:VEVENT
BEGIN:VEVENT
DTSTART;TZID=Europe/Amsterdam:20270409T090000
DTEND;TZID=Europe/Amsterdam:20270409T130000
DTSTAMP:20260425T133532
CREATED:20260227T002913Z
LAST-MODIFIED:20260227T003046Z
UID:10002826-1807261200-1807275600@trefpunt.buurtbelangen-nazareth.nl
SUMMARY:Inloop Voonk
DESCRIPTION:
URL:https://trefpunt.buurtbelangen-nazareth.nl/activiteit/inloop-voonk/2027-04-09/
LOCATION:Trefpunt Nazareth\, Kasteel Schaloenstraat 54\, Maastricht\, Limburg\, 6222 TP\, Netherlands
CATEGORIES:Inloop
ATTACH;FMTTYPE=image/webp:https://trefpunt.buurtbelangen-nazareth.nl/wp-content/uploads/2025/10/Voonk.webp
END:VEVENT
BEGIN:VEVENT
DTSTART;TZID=Europe/Amsterdam:20270414T090000
DTEND;TZID=Europe/Amsterdam:20270414T120000
DTSTAMP:20260425T133532
CREATED:20260227T000511Z
LAST-MODIFIED:20260227T000511Z
UID:10001416-1807693200-1807704000@trefpunt.buurtbelangen-nazareth.nl
SUMMARY:Kredietbank Limburg
DESCRIPTION:
URL:https://trefpunt.buurtbelangen-nazareth.nl/activiteit/kredietbank-limburg/2027-04-14/
LOCATION:Trefpunt Nazareth\, Kasteel Schaloenstraat 54\, Maastricht\, Limburg\, 6222 TP\, Netherlands
CATEGORIES:Inloop
ATTACH;FMTTYPE=image/png:https://trefpunt.buurtbelangen-nazareth.nl/wp-content/uploads/2025/10/kredietbank-limburg.png
ORGANIZER;CN="Kredietbank":MAILTO:info@kblb.nl
END:VEVENT
BEGIN:VEVENT
DTSTART;TZID=Europe/Amsterdam:20270414T090000
DTEND;TZID=Europe/Amsterdam:20270414T120000
DTSTAMP:20260425T133532
CREATED:20260227T001316Z
LAST-MODIFIED:20260227T001316Z
UID:10001678-1807693200-1807704000@trefpunt.buurtbelangen-nazareth.nl
SUMMARY:Financiele coaches (Sociale Zaken)
DESCRIPTION:
URL:https://trefpunt.buurtbelangen-nazareth.nl/activiteit/financiele-coaches-sociale-zaken/2027-04-14/
LOCATION:Trefpunt Nazareth\, Kasteel Schaloenstraat 54\, Maastricht\, Limburg\, 6222 TP\, Netherlands
CATEGORIES:Inloop
ATTACH;FMTTYPE=image/webp:https://trefpunt.buurtbelangen-nazareth.nl/wp-content/uploads/2026/02/logo-sociale-zaken-maastricht.webp
ORGANIZER;CN="Sociale zaken Maastricht":MAILTO:&quot;post-socialezaken@maastpost-socialezaken@maastricht.nl
END:VEVENT
BEGIN:VEVENT
DTSTART;TZID=Europe/Amsterdam:20270415T090000
DTEND;TZID=Europe/Amsterdam:20270415T130000
DTSTAMP:20260425T133532
CREATED:20260227T001601Z
LAST-MODIFIED:20260227T001601Z
UID:10001940-1807779600-1807794000@trefpunt.buurtbelangen-nazareth.nl
SUMMARY:Gemeente Maastricht
DESCRIPTION:
URL:https://trefpunt.buurtbelangen-nazareth.nl/activiteit/gemeente-maastricht/2027-04-15/
LOCATION:Trefpunt Nazareth\, Kasteel Schaloenstraat 54\, Maastricht\, Limburg\, 6222 TP\, Netherlands
CATEGORIES:Inloop
ATTACH;FMTTYPE=image/jpeg:https://trefpunt.buurtbelangen-nazareth.nl/wp-content/uploads/2026/02/Logo-maastricht.jpg
END:VEVENT
BEGIN:VEVENT
DTSTART;TZID=Europe/Amsterdam:20270415T100000
DTEND;TZID=Europe/Amsterdam:20270415T120000
DTSTAMP:20260425T133532
CREATED:20260227T002029Z
LAST-MODIFIED:20260227T002029Z
UID:10002202-1807783200-1807790400@trefpunt.buurtbelangen-nazareth.nl
SUMMARY:Inloop Trajekt
DESCRIPTION:
URL:https://trefpunt.buurtbelangen-nazareth.nl/activiteit/inloop-trajekt/2027-04-15/
LOCATION:Trefpunt Nazareth\, Kasteel Schaloenstraat 54\, Maastricht\, Limburg\, 6222 TP\, Netherlands
CATEGORIES:Inloop
ATTACH;FMTTYPE=image/webp:https://trefpunt.buurtbelangen-nazareth.nl/wp-content/uploads/2025/10/Logo-Trajekt.webp
ORGANIZER;CN="Trajekt":MAILTO:nel.knapen@trajekt.nl
END:VEVENT
BEGIN:VEVENT
DTSTART;TZID=Europe/Amsterdam:20270421T090000
DTEND;TZID=Europe/Amsterdam:20270421T120000
DTSTAMP:20260425T133532
CREATED:20260227T000511Z
LAST-MODIFIED:20260227T000511Z
UID:10001417-1808298000-1808308800@trefpunt.buurtbelangen-nazareth.nl
SUMMARY:Kredietbank Limburg
DESCRIPTION:
URL:https://trefpunt.buurtbelangen-nazareth.nl/activiteit/kredietbank-limburg/2027-04-21/
LOCATION:Trefpunt Nazareth\, Kasteel Schaloenstraat 54\, Maastricht\, Limburg\, 6222 TP\, Netherlands
CATEGORIES:Inloop
ATTACH;FMTTYPE=image/png:https://trefpunt.buurtbelangen-nazareth.nl/wp-content/uploads/2025/10/kredietbank-limburg.png
ORGANIZER;CN="Kredietbank":MAILTO:info@kblb.nl
END:VEVENT
BEGIN:VEVENT
DTSTART;TZID=Europe/Amsterdam:20270421T090000
DTEND;TZID=Europe/Amsterdam:20270421T120000
DTSTAMP:20260425T133532
CREATED:20260227T001316Z
LAST-MODIFIED:20260227T001316Z
UID:10001679-1808298000-1808308800@trefpunt.buurtbelangen-nazareth.nl
SUMMARY:Financiele coaches (Sociale Zaken)
DESCRIPTION:
URL:https://trefpunt.buurtbelangen-nazareth.nl/activiteit/financiele-coaches-sociale-zaken/2027-04-21/
LOCATION:Trefpunt Nazareth\, Kasteel Schaloenstraat 54\, Maastricht\, Limburg\, 6222 TP\, Netherlands
CATEGORIES:Inloop
ATTACH;FMTTYPE=image/webp:https://trefpunt.buurtbelangen-nazareth.nl/wp-content/uploads/2026/02/logo-sociale-zaken-maastricht.webp
ORGANIZER;CN="Sociale zaken Maastricht":MAILTO:&quot;post-socialezaken@maastpost-socialezaken@maastricht.nl
END:VEVENT
BEGIN:VEVENT
DTSTART;TZID=Europe/Amsterdam:20270422T090000
DTEND;TZID=Europe/Amsterdam:20270422T130000
DTSTAMP:20260425T133532
CREATED:20260227T001601Z
LAST-MODIFIED:20260227T001601Z
UID:10001941-1808384400-1808398800@trefpunt.buurtbelangen-nazareth.nl
SUMMARY:Gemeente Maastricht
DESCRIPTION:
URL:https://trefpunt.buurtbelangen-nazareth.nl/activiteit/gemeente-maastricht/2027-04-22/
LOCATION:Trefpunt Nazareth\, Kasteel Schaloenstraat 54\, Maastricht\, Limburg\, 6222 TP\, Netherlands
CATEGORIES:Inloop
ATTACH;FMTTYPE=image/jpeg:https://trefpunt.buurtbelangen-nazareth.nl/wp-content/uploads/2026/02/Logo-maastricht.jpg
END:VEVENT
BEGIN:VEVENT
DTSTART;TZID=Europe/Amsterdam:20270422T100000
DTEND;TZID=Europe/Amsterdam:20270422T120000
DTSTAMP:20260425T133532
CREATED:20260227T002029Z
LAST-MODIFIED:20260227T002029Z
UID:10002203-1808388000-1808395200@trefpunt.buurtbelangen-nazareth.nl
SUMMARY:Inloop Trajekt
DESCRIPTION:
URL:https://trefpunt.buurtbelangen-nazareth.nl/activiteit/inloop-trajekt/2027-04-22/
LOCATION:Trefpunt Nazareth\, Kasteel Schaloenstraat 54\, Maastricht\, Limburg\, 6222 TP\, Netherlands
CATEGORIES:Inloop
ATTACH;FMTTYPE=image/webp:https://trefpunt.buurtbelangen-nazareth.nl/wp-content/uploads/2025/10/Logo-Trajekt.webp
ORGANIZER;CN="Trajekt":MAILTO:nel.knapen@trajekt.nl
END:VEVENT
BEGIN:VEVENT
DTSTART;TZID=Europe/Amsterdam:20270423T090000
DTEND;TZID=Europe/Amsterdam:20270423T130000
DTSTAMP:20260425T133532
CREATED:20260227T002913Z
LAST-MODIFIED:20260227T003046Z
UID:10002827-1808470800-1808485200@trefpunt.buurtbelangen-nazareth.nl
SUMMARY:Inloop Voonk
DESCRIPTION:
URL:https://trefpunt.buurtbelangen-nazareth.nl/activiteit/inloop-voonk/2027-04-23/
LOCATION:Trefpunt Nazareth\, Kasteel Schaloenstraat 54\, Maastricht\, Limburg\, 6222 TP\, Netherlands
CATEGORIES:Inloop
ATTACH;FMTTYPE=image/webp:https://trefpunt.buurtbelangen-nazareth.nl/wp-content/uploads/2025/10/Voonk.webp
END:VEVENT
BEGIN:VEVENT
DTSTART;TZID=Europe/Amsterdam:20270428T090000
DTEND;TZID=Europe/Amsterdam:20270428T120000
DTSTAMP:20260425T133532
CREATED:20260227T000511Z
LAST-MODIFIED:20260227T000511Z
UID:10001418-1808902800-1808913600@trefpunt.buurtbelangen-nazareth.nl
SUMMARY:Kredietbank Limburg
DESCRIPTION:
URL:https://trefpunt.buurtbelangen-nazareth.nl/activiteit/kredietbank-limburg/2027-04-28/
LOCATION:Trefpunt Nazareth\, Kasteel Schaloenstraat 54\, Maastricht\, Limburg\, 6222 TP\, Netherlands
CATEGORIES:Inloop
ATTACH;FMTTYPE=image/png:https://trefpunt.buurtbelangen-nazareth.nl/wp-content/uploads/2025/10/kredietbank-limburg.png
ORGANIZER;CN="Kredietbank":MAILTO:info@kblb.nl
END:VEVENT
BEGIN:VEVENT
DTSTART;TZID=Europe/Amsterdam:20270428T090000
DTEND;TZID=Europe/Amsterdam:20270428T120000
DTSTAMP:20260425T133532
CREATED:20260227T001316Z
LAST-MODIFIED:20260227T001316Z
UID:10001680-1808902800-1808913600@trefpunt.buurtbelangen-nazareth.nl
SUMMARY:Financiele coaches (Sociale Zaken)
DESCRIPTION:
URL:https://trefpunt.buurtbelangen-nazareth.nl/activiteit/financiele-coaches-sociale-zaken/2027-04-28/
LOCATION:Trefpunt Nazareth\, Kasteel Schaloenstraat 54\, Maastricht\, Limburg\, 6222 TP\, Netherlands
CATEGORIES:Inloop
ATTACH;FMTTYPE=image/webp:https://trefpunt.buurtbelangen-nazareth.nl/wp-content/uploads/2026/02/logo-sociale-zaken-maastricht.webp
ORGANIZER;CN="Sociale zaken Maastricht":MAILTO:&quot;post-socialezaken@maastpost-socialezaken@maastricht.nl
END:VEVENT
BEGIN:VEVENT
DTSTART;TZID=Europe/Amsterdam:20270429T090000
DTEND;TZID=Europe/Amsterdam:20270429T130000
DTSTAMP:20260425T133532
CREATED:20260227T001601Z
LAST-MODIFIED:20260227T001601Z
UID:10001942-1808989200-1809003600@trefpunt.buurtbelangen-nazareth.nl
SUMMARY:Gemeente Maastricht
DESCRIPTION:
URL:https://trefpunt.buurtbelangen-nazareth.nl/activiteit/gemeente-maastricht/2027-04-29/
LOCATION:Trefpunt Nazareth\, Kasteel Schaloenstraat 54\, Maastricht\, Limburg\, 6222 TP\, Netherlands
CATEGORIES:Inloop
ATTACH;FMTTYPE=image/jpeg:https://trefpunt.buurtbelangen-nazareth.nl/wp-content/uploads/2026/02/Logo-maastricht.jpg
END:VEVENT
BEGIN:VEVENT
DTSTART;TZID=Europe/Amsterdam:20270429T100000
DTEND;TZID=Europe/Amsterdam:20270429T120000
DTSTAMP:20260425T133532
CREATED:20260227T002029Z
LAST-MODIFIED:20260227T002029Z
UID:10002204-1808992800-1809000000@trefpunt.buurtbelangen-nazareth.nl
SUMMARY:Inloop Trajekt
DESCRIPTION:
URL:https://trefpunt.buurtbelangen-nazareth.nl/activiteit/inloop-trajekt/2027-04-29/
LOCATION:Trefpunt Nazareth\, Kasteel Schaloenstraat 54\, Maastricht\, Limburg\, 6222 TP\, Netherlands
CATEGORIES:Inloop
ATTACH;FMTTYPE=image/webp:https://trefpunt.buurtbelangen-nazareth.nl/wp-content/uploads/2025/10/Logo-Trajekt.webp
ORGANIZER;CN="Trajekt":MAILTO:nel.knapen@trajekt.nl
END:VEVENT
BEGIN:VEVENT
DTSTART;TZID=Europe/Amsterdam:20270505T090000
DTEND;TZID=Europe/Amsterdam:20270505T120000
DTSTAMP:20260425T133532
CREATED:20260227T000511Z
LAST-MODIFIED:20260227T000511Z
UID:10001419-1809507600-1809518400@trefpunt.buurtbelangen-nazareth.nl
SUMMARY:Kredietbank Limburg
DESCRIPTION:
URL:https://trefpunt.buurtbelangen-nazareth.nl/activiteit/kredietbank-limburg/2027-05-05/
LOCATION:Trefpunt Nazareth\, Kasteel Schaloenstraat 54\, Maastricht\, Limburg\, 6222 TP\, Netherlands
CATEGORIES:Inloop
ATTACH;FMTTYPE=image/png:https://trefpunt.buurtbelangen-nazareth.nl/wp-content/uploads/2025/10/kredietbank-limburg.png
ORGANIZER;CN="Kredietbank":MAILTO:info@kblb.nl
END:VEVENT
BEGIN:VEVENT
DTSTART;TZID=Europe/Amsterdam:20270505T090000
DTEND;TZID=Europe/Amsterdam:20270505T120000
DTSTAMP:20260425T133532
CREATED:20260227T001316Z
LAST-MODIFIED:20260227T001316Z
UID:10001681-1809507600-1809518400@trefpunt.buurtbelangen-nazareth.nl
SUMMARY:Financiele coaches (Sociale Zaken)
DESCRIPTION:
URL:https://trefpunt.buurtbelangen-nazareth.nl/activiteit/financiele-coaches-sociale-zaken/2027-05-05/
LOCATION:Trefpunt Nazareth\, Kasteel Schaloenstraat 54\, Maastricht\, Limburg\, 6222 TP\, Netherlands
CATEGORIES:Inloop
ATTACH;FMTTYPE=image/webp:https://trefpunt.buurtbelangen-nazareth.nl/wp-content/uploads/2026/02/logo-sociale-zaken-maastricht.webp
ORGANIZER;CN="Sociale zaken Maastricht":MAILTO:&quot;post-socialezaken@maastpost-socialezaken@maastricht.nl
END:VEVENT
BEGIN:VEVENT
DTSTART;TZID=Europe/Amsterdam:20270506T090000
DTEND;TZID=Europe/Amsterdam:20270506T130000
DTSTAMP:20260425T133532
CREATED:20260227T001601Z
LAST-MODIFIED:20260227T001601Z
UID:10001943-1809594000-1809608400@trefpunt.buurtbelangen-nazareth.nl
SUMMARY:Gemeente Maastricht
DESCRIPTION:
URL:https://trefpunt.buurtbelangen-nazareth.nl/activiteit/gemeente-maastricht/2027-05-06/
LOCATION:Trefpunt Nazareth\, Kasteel Schaloenstraat 54\, Maastricht\, Limburg\, 6222 TP\, Netherlands
CATEGORIES:Inloop
ATTACH;FMTTYPE=image/jpeg:https://trefpunt.buurtbelangen-nazareth.nl/wp-content/uploads/2026/02/Logo-maastricht.jpg
END:VEVENT
BEGIN:VEVENT
DTSTART;TZID=Europe/Amsterdam:20270506T100000
DTEND;TZID=Europe/Amsterdam:20270506T120000
DTSTAMP:20260425T133532
CREATED:20260227T002029Z
LAST-MODIFIED:20260227T002029Z
UID:10002205-1809597600-1809604800@trefpunt.buurtbelangen-nazareth.nl
SUMMARY:Inloop Trajekt
DESCRIPTION:
URL:https://trefpunt.buurtbelangen-nazareth.nl/activiteit/inloop-trajekt/2027-05-06/
LOCATION:Trefpunt Nazareth\, Kasteel Schaloenstraat 54\, Maastricht\, Limburg\, 6222 TP\, Netherlands
CATEGORIES:Inloop
ATTACH;FMTTYPE=image/webp:https://trefpunt.buurtbelangen-nazareth.nl/wp-content/uploads/2025/10/Logo-Trajekt.webp
ORGANIZER;CN="Trajekt":MAILTO:nel.knapen@trajekt.nl
END:VEVENT
BEGIN:VEVENT
DTSTART;TZID=Europe/Amsterdam:20270507T090000
DTEND;TZID=Europe/Amsterdam:20270507T130000
DTSTAMP:20260425T133532
CREATED:20260227T002913Z
LAST-MODIFIED:20260227T003046Z
UID:10002828-1809680400-1809694800@trefpunt.buurtbelangen-nazareth.nl
SUMMARY:Inloop Voonk
DESCRIPTION:
URL:https://trefpunt.buurtbelangen-nazareth.nl/activiteit/inloop-voonk/2027-05-07/
LOCATION:Trefpunt Nazareth\, Kasteel Schaloenstraat 54\, Maastricht\, Limburg\, 6222 TP\, Netherlands
CATEGORIES:Inloop
ATTACH;FMTTYPE=image/webp:https://trefpunt.buurtbelangen-nazareth.nl/wp-content/uploads/2025/10/Voonk.webp
END:VEVENT
BEGIN:VEVENT
DTSTART;TZID=Europe/Amsterdam:20270512T090000
DTEND;TZID=Europe/Amsterdam:20270512T120000
DTSTAMP:20260425T133533
CREATED:20260227T000511Z
LAST-MODIFIED:20260227T000511Z
UID:10001420-1810112400-1810123200@trefpunt.buurtbelangen-nazareth.nl
SUMMARY:Kredietbank Limburg
DESCRIPTION:
URL:https://trefpunt.buurtbelangen-nazareth.nl/activiteit/kredietbank-limburg/2027-05-12/
LOCATION:Trefpunt Nazareth\, Kasteel Schaloenstraat 54\, Maastricht\, Limburg\, 6222 TP\, Netherlands
CATEGORIES:Inloop
ATTACH;FMTTYPE=image/png:https://trefpunt.buurtbelangen-nazareth.nl/wp-content/uploads/2025/10/kredietbank-limburg.png
ORGANIZER;CN="Kredietbank":MAILTO:info@kblb.nl
END:VEVENT
BEGIN:VEVENT
DTSTART;TZID=Europe/Amsterdam:20270512T090000
DTEND;TZID=Europe/Amsterdam:20270512T120000
DTSTAMP:20260425T133533
CREATED:20260227T001316Z
LAST-MODIFIED:20260227T001316Z
UID:10001682-1810112400-1810123200@trefpunt.buurtbelangen-nazareth.nl
SUMMARY:Financiele coaches (Sociale Zaken)
DESCRIPTION:
URL:https://trefpunt.buurtbelangen-nazareth.nl/activiteit/financiele-coaches-sociale-zaken/2027-05-12/
LOCATION:Trefpunt Nazareth\, Kasteel Schaloenstraat 54\, Maastricht\, Limburg\, 6222 TP\, Netherlands
CATEGORIES:Inloop
ATTACH;FMTTYPE=image/webp:https://trefpunt.buurtbelangen-nazareth.nl/wp-content/uploads/2026/02/logo-sociale-zaken-maastricht.webp
ORGANIZER;CN="Sociale zaken Maastricht":MAILTO:&quot;post-socialezaken@maastpost-socialezaken@maastricht.nl
END:VEVENT
BEGIN:VEVENT
DTSTART;TZID=Europe/Amsterdam:20270513T090000
DTEND;TZID=Europe/Amsterdam:20270513T130000
DTSTAMP:20260425T133533
CREATED:20260227T001601Z
LAST-MODIFIED:20260227T001601Z
UID:10001944-1810198800-1810213200@trefpunt.buurtbelangen-nazareth.nl
SUMMARY:Gemeente Maastricht
DESCRIPTION:
URL:https://trefpunt.buurtbelangen-nazareth.nl/activiteit/gemeente-maastricht/2027-05-13/
LOCATION:Trefpunt Nazareth\, Kasteel Schaloenstraat 54\, Maastricht\, Limburg\, 6222 TP\, Netherlands
CATEGORIES:Inloop
ATTACH;FMTTYPE=image/jpeg:https://trefpunt.buurtbelangen-nazareth.nl/wp-content/uploads/2026/02/Logo-maastricht.jpg
END:VEVENT
BEGIN:VEVENT
DTSTART;TZID=Europe/Amsterdam:20270513T100000
DTEND;TZID=Europe/Amsterdam:20270513T120000
DTSTAMP:20260425T133533
CREATED:20260227T002029Z
LAST-MODIFIED:20260227T002029Z
UID:10002206-1810202400-1810209600@trefpunt.buurtbelangen-nazareth.nl
SUMMARY:Inloop Trajekt
DESCRIPTION:
URL:https://trefpunt.buurtbelangen-nazareth.nl/activiteit/inloop-trajekt/2027-05-13/
LOCATION:Trefpunt Nazareth\, Kasteel Schaloenstraat 54\, Maastricht\, Limburg\, 6222 TP\, Netherlands
CATEGORIES:Inloop
ATTACH;FMTTYPE=image/webp:https://trefpunt.buurtbelangen-nazareth.nl/wp-content/uploads/2025/10/Logo-Trajekt.webp
ORGANIZER;CN="Trajekt":MAILTO:nel.knapen@trajekt.nl
END:VEVENT
BEGIN:VEVENT
DTSTART;TZID=Europe/Amsterdam:20270519T090000
DTEND;TZID=Europe/Amsterdam:20270519T120000
DTSTAMP:20260425T133533
CREATED:20260227T000511Z
LAST-MODIFIED:20260227T000511Z
UID:10001421-1810717200-1810728000@trefpunt.buurtbelangen-nazareth.nl
SUMMARY:Kredietbank Limburg
DESCRIPTION:
URL:https://trefpunt.buurtbelangen-nazareth.nl/activiteit/kredietbank-limburg/2027-05-19/
LOCATION:Trefpunt Nazareth\, Kasteel Schaloenstraat 54\, Maastricht\, Limburg\, 6222 TP\, Netherlands
CATEGORIES:Inloop
ATTACH;FMTTYPE=image/png:https://trefpunt.buurtbelangen-nazareth.nl/wp-content/uploads/2025/10/kredietbank-limburg.png
ORGANIZER;CN="Kredietbank":MAILTO:info@kblb.nl
END:VEVENT
BEGIN:VEVENT
DTSTART;TZID=Europe/Amsterdam:20270519T090000
DTEND;TZID=Europe/Amsterdam:20270519T120000
DTSTAMP:20260425T133533
CREATED:20260227T001316Z
LAST-MODIFIED:20260227T001316Z
UID:10001683-1810717200-1810728000@trefpunt.buurtbelangen-nazareth.nl
SUMMARY:Financiele coaches (Sociale Zaken)
DESCRIPTION:
URL:https://trefpunt.buurtbelangen-nazareth.nl/activiteit/financiele-coaches-sociale-zaken/2027-05-19/
LOCATION:Trefpunt Nazareth\, Kasteel Schaloenstraat 54\, Maastricht\, Limburg\, 6222 TP\, Netherlands
CATEGORIES:Inloop
ATTACH;FMTTYPE=image/webp:https://trefpunt.buurtbelangen-nazareth.nl/wp-content/uploads/2026/02/logo-sociale-zaken-maastricht.webp
ORGANIZER;CN="Sociale zaken Maastricht":MAILTO:&quot;post-socialezaken@maastpost-socialezaken@maastricht.nl
END:VEVENT
END:VCALENDAR