BEGIN:VCALENDAR
VERSION:2.0
PRODID:-//Trefpunt Nazareth - ECPv6.15.20//NONSGML v1.0//EN
CALSCALE:GREGORIAN
METHOD:PUBLISH
X-ORIGINAL-URL:https://trefpunt.buurtbelangen-nazareth.nl
X-WR-CALDESC:Evenementen voor Trefpunt Nazareth
REFRESH-INTERVAL;VALUE=DURATION:PT1H
X-Robots-Tag:noindex
X-PUBLISHED-TTL:PT1H
BEGIN:VTIMEZONE
TZID:Europe/Amsterdam
BEGIN:DAYLIGHT
TZOFFSETFROM:+0100
TZOFFSETTO:+0200
TZNAME:CEST
DTSTART:20270328T010000
END:DAYLIGHT
BEGIN:STANDARD
TZOFFSETFROM:+0200
TZOFFSETTO:+0100
TZNAME:CET
DTSTART:20271031T010000
END:STANDARD
BEGIN:DAYLIGHT
TZOFFSETFROM:+0100
TZOFFSETTO:+0200
TZNAME:CEST
DTSTART:20280326T010000
END:DAYLIGHT
BEGIN:STANDARD
TZOFFSETFROM:+0200
TZOFFSETTO:+0100
TZNAME:CET
DTSTART:20281029T010000
END:STANDARD
BEGIN:DAYLIGHT
TZOFFSETFROM:+0100
TZOFFSETTO:+0200
TZNAME:CEST
DTSTART:20290325T010000
END:DAYLIGHT
BEGIN:STANDARD
TZOFFSETFROM:+0200
TZOFFSETTO:+0100
TZNAME:CET
DTSTART:20291028T010000
END:STANDARD
BEGIN:DAYLIGHT
TZOFFSETFROM:+0100
TZOFFSETTO:+0200
TZNAME:CEST
DTSTART:20300331T010000
END:DAYLIGHT
BEGIN:STANDARD
TZOFFSETFROM:+0200
TZOFFSETTO:+0100
TZNAME:CET
DTSTART:20301027T010000
END:STANDARD
END:VTIMEZONE
BEGIN:VEVENT
DTSTART;TZID=Europe/Amsterdam:20281220T090000
DTEND;TZID=Europe/Amsterdam:20281220T120000
DTSTAMP:20260425T185755
CREATED:20260227T000511Z
LAST-MODIFIED:20260227T000511Z
UID:10001504-1860915600-1860926400@trefpunt.buurtbelangen-nazareth.nl
SUMMARY:Kredietbank Limburg
DESCRIPTION:
URL:https://trefpunt.buurtbelangen-nazareth.nl/activiteit/kredietbank-limburg/2028-12-20/
LOCATION:Trefpunt Nazareth\, Kasteel Schaloenstraat 54\, Maastricht\, Limburg\, 6222 TP\, Netherlands
CATEGORIES:Inloop
ATTACH;FMTTYPE=image/png:https://trefpunt.buurtbelangen-nazareth.nl/wp-content/uploads/2025/10/kredietbank-limburg.png
ORGANIZER;CN="Kredietbank":MAILTO:info@kblb.nl
END:VEVENT
BEGIN:VEVENT
DTSTART;TZID=Europe/Amsterdam:20281220T090000
DTEND;TZID=Europe/Amsterdam:20281220T120000
DTSTAMP:20260425T185755
CREATED:20260227T001316Z
LAST-MODIFIED:20260227T001316Z
UID:10001766-1860915600-1860926400@trefpunt.buurtbelangen-nazareth.nl
SUMMARY:Financiele coaches (Sociale Zaken)
DESCRIPTION:
URL:https://trefpunt.buurtbelangen-nazareth.nl/activiteit/financiele-coaches-sociale-zaken/2028-12-20/
LOCATION:Trefpunt Nazareth\, Kasteel Schaloenstraat 54\, Maastricht\, Limburg\, 6222 TP\, Netherlands
CATEGORIES:Inloop
ATTACH;FMTTYPE=image/webp:https://trefpunt.buurtbelangen-nazareth.nl/wp-content/uploads/2026/02/logo-sociale-zaken-maastricht.webp
ORGANIZER;CN="Sociale zaken Maastricht":MAILTO:&quot;post-socialezaken@maastpost-socialezaken@maastricht.nl
END:VEVENT
BEGIN:VEVENT
DTSTART;TZID=Europe/Amsterdam:20281227T090000
DTEND;TZID=Europe/Amsterdam:20281227T120000
DTSTAMP:20260425T185755
CREATED:20260227T000511Z
LAST-MODIFIED:20260227T000511Z
UID:10001505-1861520400-1861531200@trefpunt.buurtbelangen-nazareth.nl
SUMMARY:Kredietbank Limburg
DESCRIPTION:
URL:https://trefpunt.buurtbelangen-nazareth.nl/activiteit/kredietbank-limburg/2028-12-27/
LOCATION:Trefpunt Nazareth\, Kasteel Schaloenstraat 54\, Maastricht\, Limburg\, 6222 TP\, Netherlands
CATEGORIES:Inloop
ATTACH;FMTTYPE=image/png:https://trefpunt.buurtbelangen-nazareth.nl/wp-content/uploads/2025/10/kredietbank-limburg.png
ORGANIZER;CN="Kredietbank":MAILTO:info@kblb.nl
END:VEVENT
BEGIN:VEVENT
DTSTART;TZID=Europe/Amsterdam:20281227T090000
DTEND;TZID=Europe/Amsterdam:20281227T120000
DTSTAMP:20260425T185755
CREATED:20260227T001316Z
LAST-MODIFIED:20260227T001316Z
UID:10001767-1861520400-1861531200@trefpunt.buurtbelangen-nazareth.nl
SUMMARY:Financiele coaches (Sociale Zaken)
DESCRIPTION:
URL:https://trefpunt.buurtbelangen-nazareth.nl/activiteit/financiele-coaches-sociale-zaken/2028-12-27/
LOCATION:Trefpunt Nazareth\, Kasteel Schaloenstraat 54\, Maastricht\, Limburg\, 6222 TP\, Netherlands
CATEGORIES:Inloop
ATTACH;FMTTYPE=image/webp:https://trefpunt.buurtbelangen-nazareth.nl/wp-content/uploads/2026/02/logo-sociale-zaken-maastricht.webp
ORGANIZER;CN="Sociale zaken Maastricht":MAILTO:&quot;post-socialezaken@maastpost-socialezaken@maastricht.nl
END:VEVENT
BEGIN:VEVENT
DTSTART;TZID=Europe/Amsterdam:20290103T090000
DTEND;TZID=Europe/Amsterdam:20290103T120000
DTSTAMP:20260425T185755
CREATED:20260227T000511Z
LAST-MODIFIED:20260227T000511Z
UID:10001506-1862125200-1862136000@trefpunt.buurtbelangen-nazareth.nl
SUMMARY:Kredietbank Limburg
DESCRIPTION:
URL:https://trefpunt.buurtbelangen-nazareth.nl/activiteit/kredietbank-limburg/2029-01-03/
LOCATION:Trefpunt Nazareth\, Kasteel Schaloenstraat 54\, Maastricht\, Limburg\, 6222 TP\, Netherlands
CATEGORIES:Inloop
ATTACH;FMTTYPE=image/png:https://trefpunt.buurtbelangen-nazareth.nl/wp-content/uploads/2025/10/kredietbank-limburg.png
ORGANIZER;CN="Kredietbank":MAILTO:info@kblb.nl
END:VEVENT
BEGIN:VEVENT
DTSTART;TZID=Europe/Amsterdam:20290103T090000
DTEND;TZID=Europe/Amsterdam:20290103T120000
DTSTAMP:20260425T185755
CREATED:20260227T001316Z
LAST-MODIFIED:20260227T001316Z
UID:10001768-1862125200-1862136000@trefpunt.buurtbelangen-nazareth.nl
SUMMARY:Financiele coaches (Sociale Zaken)
DESCRIPTION:
URL:https://trefpunt.buurtbelangen-nazareth.nl/activiteit/financiele-coaches-sociale-zaken/2029-01-03/
LOCATION:Trefpunt Nazareth\, Kasteel Schaloenstraat 54\, Maastricht\, Limburg\, 6222 TP\, Netherlands
CATEGORIES:Inloop
ATTACH;FMTTYPE=image/webp:https://trefpunt.buurtbelangen-nazareth.nl/wp-content/uploads/2026/02/logo-sociale-zaken-maastricht.webp
ORGANIZER;CN="Sociale zaken Maastricht":MAILTO:&quot;post-socialezaken@maastpost-socialezaken@maastricht.nl
END:VEVENT
BEGIN:VEVENT
DTSTART;TZID=Europe/Amsterdam:20290110T090000
DTEND;TZID=Europe/Amsterdam:20290110T120000
DTSTAMP:20260425T185755
CREATED:20260227T000511Z
LAST-MODIFIED:20260227T000511Z
UID:10001507-1862730000-1862740800@trefpunt.buurtbelangen-nazareth.nl
SUMMARY:Kredietbank Limburg
DESCRIPTION:
URL:https://trefpunt.buurtbelangen-nazareth.nl/activiteit/kredietbank-limburg/2029-01-10/
LOCATION:Trefpunt Nazareth\, Kasteel Schaloenstraat 54\, Maastricht\, Limburg\, 6222 TP\, Netherlands
CATEGORIES:Inloop
ATTACH;FMTTYPE=image/png:https://trefpunt.buurtbelangen-nazareth.nl/wp-content/uploads/2025/10/kredietbank-limburg.png
ORGANIZER;CN="Kredietbank":MAILTO:info@kblb.nl
END:VEVENT
BEGIN:VEVENT
DTSTART;TZID=Europe/Amsterdam:20290110T090000
DTEND;TZID=Europe/Amsterdam:20290110T120000
DTSTAMP:20260425T185756
CREATED:20260227T001316Z
LAST-MODIFIED:20260227T001316Z
UID:10001769-1862730000-1862740800@trefpunt.buurtbelangen-nazareth.nl
SUMMARY:Financiele coaches (Sociale Zaken)
DESCRIPTION:
URL:https://trefpunt.buurtbelangen-nazareth.nl/activiteit/financiele-coaches-sociale-zaken/2029-01-10/
LOCATION:Trefpunt Nazareth\, Kasteel Schaloenstraat 54\, Maastricht\, Limburg\, 6222 TP\, Netherlands
CATEGORIES:Inloop
ATTACH;FMTTYPE=image/webp:https://trefpunt.buurtbelangen-nazareth.nl/wp-content/uploads/2026/02/logo-sociale-zaken-maastricht.webp
ORGANIZER;CN="Sociale zaken Maastricht":MAILTO:&quot;post-socialezaken@maastpost-socialezaken@maastricht.nl
END:VEVENT
BEGIN:VEVENT
DTSTART;TZID=Europe/Amsterdam:20290117T090000
DTEND;TZID=Europe/Amsterdam:20290117T120000
DTSTAMP:20260425T185756
CREATED:20260227T000511Z
LAST-MODIFIED:20260227T000511Z
UID:10001508-1863334800-1863345600@trefpunt.buurtbelangen-nazareth.nl
SUMMARY:Kredietbank Limburg
DESCRIPTION:
URL:https://trefpunt.buurtbelangen-nazareth.nl/activiteit/kredietbank-limburg/2029-01-17/
LOCATION:Trefpunt Nazareth\, Kasteel Schaloenstraat 54\, Maastricht\, Limburg\, 6222 TP\, Netherlands
CATEGORIES:Inloop
ATTACH;FMTTYPE=image/png:https://trefpunt.buurtbelangen-nazareth.nl/wp-content/uploads/2025/10/kredietbank-limburg.png
ORGANIZER;CN="Kredietbank":MAILTO:info@kblb.nl
END:VEVENT
BEGIN:VEVENT
DTSTART;TZID=Europe/Amsterdam:20290117T090000
DTEND;TZID=Europe/Amsterdam:20290117T120000
DTSTAMP:20260425T185756
CREATED:20260227T001316Z
LAST-MODIFIED:20260227T001316Z
UID:10001770-1863334800-1863345600@trefpunt.buurtbelangen-nazareth.nl
SUMMARY:Financiele coaches (Sociale Zaken)
DESCRIPTION:
URL:https://trefpunt.buurtbelangen-nazareth.nl/activiteit/financiele-coaches-sociale-zaken/2029-01-17/
LOCATION:Trefpunt Nazareth\, Kasteel Schaloenstraat 54\, Maastricht\, Limburg\, 6222 TP\, Netherlands
CATEGORIES:Inloop
ATTACH;FMTTYPE=image/webp:https://trefpunt.buurtbelangen-nazareth.nl/wp-content/uploads/2026/02/logo-sociale-zaken-maastricht.webp
ORGANIZER;CN="Sociale zaken Maastricht":MAILTO:&quot;post-socialezaken@maastpost-socialezaken@maastricht.nl
END:VEVENT
BEGIN:VEVENT
DTSTART;TZID=Europe/Amsterdam:20290124T090000
DTEND;TZID=Europe/Amsterdam:20290124T120000
DTSTAMP:20260425T185756
CREATED:20260227T000511Z
LAST-MODIFIED:20260227T000511Z
UID:10001509-1863939600-1863950400@trefpunt.buurtbelangen-nazareth.nl
SUMMARY:Kredietbank Limburg
DESCRIPTION:
URL:https://trefpunt.buurtbelangen-nazareth.nl/activiteit/kredietbank-limburg/2029-01-24/
LOCATION:Trefpunt Nazareth\, Kasteel Schaloenstraat 54\, Maastricht\, Limburg\, 6222 TP\, Netherlands
CATEGORIES:Inloop
ATTACH;FMTTYPE=image/png:https://trefpunt.buurtbelangen-nazareth.nl/wp-content/uploads/2025/10/kredietbank-limburg.png
ORGANIZER;CN="Kredietbank":MAILTO:info@kblb.nl
END:VEVENT
BEGIN:VEVENT
DTSTART;TZID=Europe/Amsterdam:20290124T090000
DTEND;TZID=Europe/Amsterdam:20290124T120000
DTSTAMP:20260425T185756
CREATED:20260227T001316Z
LAST-MODIFIED:20260227T001316Z
UID:10001771-1863939600-1863950400@trefpunt.buurtbelangen-nazareth.nl
SUMMARY:Financiele coaches (Sociale Zaken)
DESCRIPTION:
URL:https://trefpunt.buurtbelangen-nazareth.nl/activiteit/financiele-coaches-sociale-zaken/2029-01-24/
LOCATION:Trefpunt Nazareth\, Kasteel Schaloenstraat 54\, Maastricht\, Limburg\, 6222 TP\, Netherlands
CATEGORIES:Inloop
ATTACH;FMTTYPE=image/webp:https://trefpunt.buurtbelangen-nazareth.nl/wp-content/uploads/2026/02/logo-sociale-zaken-maastricht.webp
ORGANIZER;CN="Sociale zaken Maastricht":MAILTO:&quot;post-socialezaken@maastpost-socialezaken@maastricht.nl
END:VEVENT
BEGIN:VEVENT
DTSTART;TZID=Europe/Amsterdam:20290131T090000
DTEND;TZID=Europe/Amsterdam:20290131T120000
DTSTAMP:20260425T185756
CREATED:20260227T000511Z
LAST-MODIFIED:20260227T000511Z
UID:10001510-1864544400-1864555200@trefpunt.buurtbelangen-nazareth.nl
SUMMARY:Kredietbank Limburg
DESCRIPTION:
URL:https://trefpunt.buurtbelangen-nazareth.nl/activiteit/kredietbank-limburg/2029-01-31/
LOCATION:Trefpunt Nazareth\, Kasteel Schaloenstraat 54\, Maastricht\, Limburg\, 6222 TP\, Netherlands
CATEGORIES:Inloop
ATTACH;FMTTYPE=image/png:https://trefpunt.buurtbelangen-nazareth.nl/wp-content/uploads/2025/10/kredietbank-limburg.png
ORGANIZER;CN="Kredietbank":MAILTO:info@kblb.nl
END:VEVENT
BEGIN:VEVENT
DTSTART;TZID=Europe/Amsterdam:20290131T090000
DTEND;TZID=Europe/Amsterdam:20290131T120000
DTSTAMP:20260425T185756
CREATED:20260227T001316Z
LAST-MODIFIED:20260227T001316Z
UID:10001772-1864544400-1864555200@trefpunt.buurtbelangen-nazareth.nl
SUMMARY:Financiele coaches (Sociale Zaken)
DESCRIPTION:
URL:https://trefpunt.buurtbelangen-nazareth.nl/activiteit/financiele-coaches-sociale-zaken/2029-01-31/
LOCATION:Trefpunt Nazareth\, Kasteel Schaloenstraat 54\, Maastricht\, Limburg\, 6222 TP\, Netherlands
CATEGORIES:Inloop
ATTACH;FMTTYPE=image/webp:https://trefpunt.buurtbelangen-nazareth.nl/wp-content/uploads/2026/02/logo-sociale-zaken-maastricht.webp
ORGANIZER;CN="Sociale zaken Maastricht":MAILTO:&quot;post-socialezaken@maastpost-socialezaken@maastricht.nl
END:VEVENT
BEGIN:VEVENT
DTSTART;TZID=Europe/Amsterdam:20290207T090000
DTEND;TZID=Europe/Amsterdam:20290207T120000
DTSTAMP:20260425T185756
CREATED:20260227T000511Z
LAST-MODIFIED:20260227T000511Z
UID:10001511-1865149200-1865160000@trefpunt.buurtbelangen-nazareth.nl
SUMMARY:Kredietbank Limburg
DESCRIPTION:
URL:https://trefpunt.buurtbelangen-nazareth.nl/activiteit/kredietbank-limburg/2029-02-07/
LOCATION:Trefpunt Nazareth\, Kasteel Schaloenstraat 54\, Maastricht\, Limburg\, 6222 TP\, Netherlands
CATEGORIES:Inloop
ATTACH;FMTTYPE=image/png:https://trefpunt.buurtbelangen-nazareth.nl/wp-content/uploads/2025/10/kredietbank-limburg.png
ORGANIZER;CN="Kredietbank":MAILTO:info@kblb.nl
END:VEVENT
BEGIN:VEVENT
DTSTART;TZID=Europe/Amsterdam:20290207T090000
DTEND;TZID=Europe/Amsterdam:20290207T120000
DTSTAMP:20260425T185756
CREATED:20260227T001316Z
LAST-MODIFIED:20260227T001316Z
UID:10001773-1865149200-1865160000@trefpunt.buurtbelangen-nazareth.nl
SUMMARY:Financiele coaches (Sociale Zaken)
DESCRIPTION:
URL:https://trefpunt.buurtbelangen-nazareth.nl/activiteit/financiele-coaches-sociale-zaken/2029-02-07/
LOCATION:Trefpunt Nazareth\, Kasteel Schaloenstraat 54\, Maastricht\, Limburg\, 6222 TP\, Netherlands
CATEGORIES:Inloop
ATTACH;FMTTYPE=image/webp:https://trefpunt.buurtbelangen-nazareth.nl/wp-content/uploads/2026/02/logo-sociale-zaken-maastricht.webp
ORGANIZER;CN="Sociale zaken Maastricht":MAILTO:&quot;post-socialezaken@maastpost-socialezaken@maastricht.nl
END:VEVENT
BEGIN:VEVENT
DTSTART;TZID=Europe/Amsterdam:20290214T090000
DTEND;TZID=Europe/Amsterdam:20290214T120000
DTSTAMP:20260425T185756
CREATED:20260227T000511Z
LAST-MODIFIED:20260227T000511Z
UID:10001512-1865754000-1865764800@trefpunt.buurtbelangen-nazareth.nl
SUMMARY:Kredietbank Limburg
DESCRIPTION:
URL:https://trefpunt.buurtbelangen-nazareth.nl/activiteit/kredietbank-limburg/2029-02-14/
LOCATION:Trefpunt Nazareth\, Kasteel Schaloenstraat 54\, Maastricht\, Limburg\, 6222 TP\, Netherlands
CATEGORIES:Inloop
ATTACH;FMTTYPE=image/png:https://trefpunt.buurtbelangen-nazareth.nl/wp-content/uploads/2025/10/kredietbank-limburg.png
ORGANIZER;CN="Kredietbank":MAILTO:info@kblb.nl
END:VEVENT
BEGIN:VEVENT
DTSTART;TZID=Europe/Amsterdam:20290214T090000
DTEND;TZID=Europe/Amsterdam:20290214T120000
DTSTAMP:20260425T185756
CREATED:20260227T001316Z
LAST-MODIFIED:20260227T001316Z
UID:10001774-1865754000-1865764800@trefpunt.buurtbelangen-nazareth.nl
SUMMARY:Financiele coaches (Sociale Zaken)
DESCRIPTION:
URL:https://trefpunt.buurtbelangen-nazareth.nl/activiteit/financiele-coaches-sociale-zaken/2029-02-14/
LOCATION:Trefpunt Nazareth\, Kasteel Schaloenstraat 54\, Maastricht\, Limburg\, 6222 TP\, Netherlands
CATEGORIES:Inloop
ATTACH;FMTTYPE=image/webp:https://trefpunt.buurtbelangen-nazareth.nl/wp-content/uploads/2026/02/logo-sociale-zaken-maastricht.webp
ORGANIZER;CN="Sociale zaken Maastricht":MAILTO:&quot;post-socialezaken@maastpost-socialezaken@maastricht.nl
END:VEVENT
BEGIN:VEVENT
DTSTART;TZID=Europe/Amsterdam:20290221T090000
DTEND;TZID=Europe/Amsterdam:20290221T120000
DTSTAMP:20260425T185756
CREATED:20260227T000511Z
LAST-MODIFIED:20260227T000511Z
UID:10001513-1866358800-1866369600@trefpunt.buurtbelangen-nazareth.nl
SUMMARY:Kredietbank Limburg
DESCRIPTION:
URL:https://trefpunt.buurtbelangen-nazareth.nl/activiteit/kredietbank-limburg/2029-02-21/
LOCATION:Trefpunt Nazareth\, Kasteel Schaloenstraat 54\, Maastricht\, Limburg\, 6222 TP\, Netherlands
CATEGORIES:Inloop
ATTACH;FMTTYPE=image/png:https://trefpunt.buurtbelangen-nazareth.nl/wp-content/uploads/2025/10/kredietbank-limburg.png
ORGANIZER;CN="Kredietbank":MAILTO:info@kblb.nl
END:VEVENT
BEGIN:VEVENT
DTSTART;TZID=Europe/Amsterdam:20290221T090000
DTEND;TZID=Europe/Amsterdam:20290221T120000
DTSTAMP:20260425T185756
CREATED:20260227T001316Z
LAST-MODIFIED:20260227T001316Z
UID:10001775-1866358800-1866369600@trefpunt.buurtbelangen-nazareth.nl
SUMMARY:Financiele coaches (Sociale Zaken)
DESCRIPTION:
URL:https://trefpunt.buurtbelangen-nazareth.nl/activiteit/financiele-coaches-sociale-zaken/2029-02-21/
LOCATION:Trefpunt Nazareth\, Kasteel Schaloenstraat 54\, Maastricht\, Limburg\, 6222 TP\, Netherlands
CATEGORIES:Inloop
ATTACH;FMTTYPE=image/webp:https://trefpunt.buurtbelangen-nazareth.nl/wp-content/uploads/2026/02/logo-sociale-zaken-maastricht.webp
ORGANIZER;CN="Sociale zaken Maastricht":MAILTO:&quot;post-socialezaken@maastpost-socialezaken@maastricht.nl
END:VEVENT
BEGIN:VEVENT
DTSTART;TZID=Europe/Amsterdam:20290228T090000
DTEND;TZID=Europe/Amsterdam:20290228T120000
DTSTAMP:20260425T185756
CREATED:20260227T000511Z
LAST-MODIFIED:20260227T000511Z
UID:10001514-1866963600-1866974400@trefpunt.buurtbelangen-nazareth.nl
SUMMARY:Kredietbank Limburg
DESCRIPTION:
URL:https://trefpunt.buurtbelangen-nazareth.nl/activiteit/kredietbank-limburg/2029-02-28/
LOCATION:Trefpunt Nazareth\, Kasteel Schaloenstraat 54\, Maastricht\, Limburg\, 6222 TP\, Netherlands
CATEGORIES:Inloop
ATTACH;FMTTYPE=image/png:https://trefpunt.buurtbelangen-nazareth.nl/wp-content/uploads/2025/10/kredietbank-limburg.png
ORGANIZER;CN="Kredietbank":MAILTO:info@kblb.nl
END:VEVENT
BEGIN:VEVENT
DTSTART;TZID=Europe/Amsterdam:20290228T090000
DTEND;TZID=Europe/Amsterdam:20290228T120000
DTSTAMP:20260425T185756
CREATED:20260227T001316Z
LAST-MODIFIED:20260227T001316Z
UID:10001776-1866963600-1866974400@trefpunt.buurtbelangen-nazareth.nl
SUMMARY:Financiele coaches (Sociale Zaken)
DESCRIPTION:
URL:https://trefpunt.buurtbelangen-nazareth.nl/activiteit/financiele-coaches-sociale-zaken/2029-02-28/
LOCATION:Trefpunt Nazareth\, Kasteel Schaloenstraat 54\, Maastricht\, Limburg\, 6222 TP\, Netherlands
CATEGORIES:Inloop
ATTACH;FMTTYPE=image/webp:https://trefpunt.buurtbelangen-nazareth.nl/wp-content/uploads/2026/02/logo-sociale-zaken-maastricht.webp
ORGANIZER;CN="Sociale zaken Maastricht":MAILTO:&quot;post-socialezaken@maastpost-socialezaken@maastricht.nl
END:VEVENT
BEGIN:VEVENT
DTSTART;TZID=Europe/Amsterdam:20290307T090000
DTEND;TZID=Europe/Amsterdam:20290307T120000
DTSTAMP:20260425T185756
CREATED:20260227T000511Z
LAST-MODIFIED:20260227T000511Z
UID:10001515-1867568400-1867579200@trefpunt.buurtbelangen-nazareth.nl
SUMMARY:Kredietbank Limburg
DESCRIPTION:
URL:https://trefpunt.buurtbelangen-nazareth.nl/activiteit/kredietbank-limburg/2029-03-07/
LOCATION:Trefpunt Nazareth\, Kasteel Schaloenstraat 54\, Maastricht\, Limburg\, 6222 TP\, Netherlands
CATEGORIES:Inloop
ATTACH;FMTTYPE=image/png:https://trefpunt.buurtbelangen-nazareth.nl/wp-content/uploads/2025/10/kredietbank-limburg.png
ORGANIZER;CN="Kredietbank":MAILTO:info@kblb.nl
END:VEVENT
BEGIN:VEVENT
DTSTART;TZID=Europe/Amsterdam:20290307T090000
DTEND;TZID=Europe/Amsterdam:20290307T120000
DTSTAMP:20260425T185756
CREATED:20260227T001316Z
LAST-MODIFIED:20260227T001316Z
UID:10001777-1867568400-1867579200@trefpunt.buurtbelangen-nazareth.nl
SUMMARY:Financiele coaches (Sociale Zaken)
DESCRIPTION:
URL:https://trefpunt.buurtbelangen-nazareth.nl/activiteit/financiele-coaches-sociale-zaken/2029-03-07/
LOCATION:Trefpunt Nazareth\, Kasteel Schaloenstraat 54\, Maastricht\, Limburg\, 6222 TP\, Netherlands
CATEGORIES:Inloop
ATTACH;FMTTYPE=image/webp:https://trefpunt.buurtbelangen-nazareth.nl/wp-content/uploads/2026/02/logo-sociale-zaken-maastricht.webp
ORGANIZER;CN="Sociale zaken Maastricht":MAILTO:&quot;post-socialezaken@maastpost-socialezaken@maastricht.nl
END:VEVENT
BEGIN:VEVENT
DTSTART;TZID=Europe/Amsterdam:20290314T090000
DTEND;TZID=Europe/Amsterdam:20290314T120000
DTSTAMP:20260425T185756
CREATED:20260227T000511Z
LAST-MODIFIED:20260227T000511Z
UID:10001516-1868173200-1868184000@trefpunt.buurtbelangen-nazareth.nl
SUMMARY:Kredietbank Limburg
DESCRIPTION:
URL:https://trefpunt.buurtbelangen-nazareth.nl/activiteit/kredietbank-limburg/2029-03-14/
LOCATION:Trefpunt Nazareth\, Kasteel Schaloenstraat 54\, Maastricht\, Limburg\, 6222 TP\, Netherlands
CATEGORIES:Inloop
ATTACH;FMTTYPE=image/png:https://trefpunt.buurtbelangen-nazareth.nl/wp-content/uploads/2025/10/kredietbank-limburg.png
ORGANIZER;CN="Kredietbank":MAILTO:info@kblb.nl
END:VEVENT
BEGIN:VEVENT
DTSTART;TZID=Europe/Amsterdam:20290314T090000
DTEND;TZID=Europe/Amsterdam:20290314T120000
DTSTAMP:20260425T185756
CREATED:20260227T001316Z
LAST-MODIFIED:20260227T001316Z
UID:10001778-1868173200-1868184000@trefpunt.buurtbelangen-nazareth.nl
SUMMARY:Financiele coaches (Sociale Zaken)
DESCRIPTION:
URL:https://trefpunt.buurtbelangen-nazareth.nl/activiteit/financiele-coaches-sociale-zaken/2029-03-14/
LOCATION:Trefpunt Nazareth\, Kasteel Schaloenstraat 54\, Maastricht\, Limburg\, 6222 TP\, Netherlands
CATEGORIES:Inloop
ATTACH;FMTTYPE=image/webp:https://trefpunt.buurtbelangen-nazareth.nl/wp-content/uploads/2026/02/logo-sociale-zaken-maastricht.webp
ORGANIZER;CN="Sociale zaken Maastricht":MAILTO:&quot;post-socialezaken@maastpost-socialezaken@maastricht.nl
END:VEVENT
BEGIN:VEVENT
DTSTART;TZID=Europe/Amsterdam:20290321T090000
DTEND;TZID=Europe/Amsterdam:20290321T120000
DTSTAMP:20260425T185756
CREATED:20260227T000511Z
LAST-MODIFIED:20260227T000511Z
UID:10001517-1868778000-1868788800@trefpunt.buurtbelangen-nazareth.nl
SUMMARY:Kredietbank Limburg
DESCRIPTION:
URL:https://trefpunt.buurtbelangen-nazareth.nl/activiteit/kredietbank-limburg/2029-03-21/
LOCATION:Trefpunt Nazareth\, Kasteel Schaloenstraat 54\, Maastricht\, Limburg\, 6222 TP\, Netherlands
CATEGORIES:Inloop
ATTACH;FMTTYPE=image/png:https://trefpunt.buurtbelangen-nazareth.nl/wp-content/uploads/2025/10/kredietbank-limburg.png
ORGANIZER;CN="Kredietbank":MAILTO:info@kblb.nl
END:VEVENT
BEGIN:VEVENT
DTSTART;TZID=Europe/Amsterdam:20290321T090000
DTEND;TZID=Europe/Amsterdam:20290321T120000
DTSTAMP:20260425T185756
CREATED:20260227T001316Z
LAST-MODIFIED:20260227T001316Z
UID:10001779-1868778000-1868788800@trefpunt.buurtbelangen-nazareth.nl
SUMMARY:Financiele coaches (Sociale Zaken)
DESCRIPTION:
URL:https://trefpunt.buurtbelangen-nazareth.nl/activiteit/financiele-coaches-sociale-zaken/2029-03-21/
LOCATION:Trefpunt Nazareth\, Kasteel Schaloenstraat 54\, Maastricht\, Limburg\, 6222 TP\, Netherlands
CATEGORIES:Inloop
ATTACH;FMTTYPE=image/webp:https://trefpunt.buurtbelangen-nazareth.nl/wp-content/uploads/2026/02/logo-sociale-zaken-maastricht.webp
ORGANIZER;CN="Sociale zaken Maastricht":MAILTO:&quot;post-socialezaken@maastpost-socialezaken@maastricht.nl
END:VEVENT
BEGIN:VEVENT
DTSTART;TZID=Europe/Amsterdam:20290328T090000
DTEND;TZID=Europe/Amsterdam:20290328T120000
DTSTAMP:20260425T185756
CREATED:20260227T000511Z
LAST-MODIFIED:20260227T000511Z
UID:10001518-1869382800-1869393600@trefpunt.buurtbelangen-nazareth.nl
SUMMARY:Kredietbank Limburg
DESCRIPTION:
URL:https://trefpunt.buurtbelangen-nazareth.nl/activiteit/kredietbank-limburg/2029-03-28/
LOCATION:Trefpunt Nazareth\, Kasteel Schaloenstraat 54\, Maastricht\, Limburg\, 6222 TP\, Netherlands
CATEGORIES:Inloop
ATTACH;FMTTYPE=image/png:https://trefpunt.buurtbelangen-nazareth.nl/wp-content/uploads/2025/10/kredietbank-limburg.png
ORGANIZER;CN="Kredietbank":MAILTO:info@kblb.nl
END:VEVENT
BEGIN:VEVENT
DTSTART;TZID=Europe/Amsterdam:20290328T090000
DTEND;TZID=Europe/Amsterdam:20290328T120000
DTSTAMP:20260425T185756
CREATED:20260227T001316Z
LAST-MODIFIED:20260227T001316Z
UID:10001780-1869382800-1869393600@trefpunt.buurtbelangen-nazareth.nl
SUMMARY:Financiele coaches (Sociale Zaken)
DESCRIPTION:
URL:https://trefpunt.buurtbelangen-nazareth.nl/activiteit/financiele-coaches-sociale-zaken/2029-03-28/
LOCATION:Trefpunt Nazareth\, Kasteel Schaloenstraat 54\, Maastricht\, Limburg\, 6222 TP\, Netherlands
CATEGORIES:Inloop
ATTACH;FMTTYPE=image/webp:https://trefpunt.buurtbelangen-nazareth.nl/wp-content/uploads/2026/02/logo-sociale-zaken-maastricht.webp
ORGANIZER;CN="Sociale zaken Maastricht":MAILTO:&quot;post-socialezaken@maastpost-socialezaken@maastricht.nl
END:VEVENT
END:VCALENDAR