BEGIN:VCALENDAR
VERSION:2.0
PRODID:-//Trefpunt Nazareth - ECPv6.15.20//NONSGML v1.0//EN
CALSCALE:GREGORIAN
METHOD:PUBLISH
X-WR-CALNAME:Trefpunt Nazareth
X-ORIGINAL-URL:https://trefpunt.buurtbelangen-nazareth.nl
X-WR-CALDESC:Evenementen voor Trefpunt Nazareth
REFRESH-INTERVAL;VALUE=DURATION:PT1H
X-Robots-Tag:noindex
X-PUBLISHED-TTL:PT1H
BEGIN:VTIMEZONE
TZID:Europe/Amsterdam
BEGIN:DAYLIGHT
TZOFFSETFROM:+0100
TZOFFSETTO:+0200
TZNAME:CEST
DTSTART:20270328T010000
END:DAYLIGHT
BEGIN:STANDARD
TZOFFSETFROM:+0200
TZOFFSETTO:+0100
TZNAME:CET
DTSTART:20271031T010000
END:STANDARD
BEGIN:DAYLIGHT
TZOFFSETFROM:+0100
TZOFFSETTO:+0200
TZNAME:CEST
DTSTART:20280326T010000
END:DAYLIGHT
BEGIN:STANDARD
TZOFFSETFROM:+0200
TZOFFSETTO:+0100
TZNAME:CET
DTSTART:20281029T010000
END:STANDARD
BEGIN:DAYLIGHT
TZOFFSETFROM:+0100
TZOFFSETTO:+0200
TZNAME:CEST
DTSTART:20290325T010000
END:DAYLIGHT
BEGIN:STANDARD
TZOFFSETFROM:+0200
TZOFFSETTO:+0100
TZNAME:CET
DTSTART:20291028T010000
END:STANDARD
END:VTIMEZONE
BEGIN:VEVENT
DTSTART;TZID=Europe/Amsterdam:20280224T100000
DTEND;TZID=Europe/Amsterdam:20280224T120000
DTSTAMP:20260422T151017
CREATED:20260227T002029Z
LAST-MODIFIED:20260227T002029Z
UID:10002247-1834999200-1835006400@trefpunt.buurtbelangen-nazareth.nl
SUMMARY:Inloop Trajekt
DESCRIPTION:
URL:https://trefpunt.buurtbelangen-nazareth.nl/activiteit/inloop-trajekt/2028-02-24/
LOCATION:Trefpunt Nazareth\, Kasteel Schaloenstraat 54\, Maastricht\, Limburg\, 6222 TP\, Netherlands
CATEGORIES:Inloop
ATTACH;FMTTYPE=image/webp:https://trefpunt.buurtbelangen-nazareth.nl/wp-content/uploads/2025/10/Logo-Trajekt.webp
ORGANIZER;CN="Trajekt":MAILTO:nel.knapen@trajekt.nl
END:VEVENT
BEGIN:VEVENT
DTSTART;TZID=Europe/Amsterdam:20280224T100000
DTEND;TZID=Europe/Amsterdam:20280224T120000
DTSTAMP:20260422T151017
CREATED:20260227T002323Z
LAST-MODIFIED:20260227T002323Z
UID:10002509-1834999200-1835006400@trefpunt.buurtbelangen-nazareth.nl
SUMMARY:Taalpunt Trajekt
DESCRIPTION:
URL:https://trefpunt.buurtbelangen-nazareth.nl/activiteit/taalpunt-trajekt/2028-02-24/
LOCATION:Trefpunt Nazareth\, Kasteel Schaloenstraat 54\, Maastricht\, Limburg\, 6222 TP\, Netherlands
CATEGORIES:Informatie
ATTACH;FMTTYPE=image/webp:https://trefpunt.buurtbelangen-nazareth.nl/wp-content/uploads/2025/10/Taalles.webp
ORGANIZER;CN="Trajekt":MAILTO:nel.knapen@trajekt.nl
END:VEVENT
BEGIN:VEVENT
DTSTART;TZID=Europe/Amsterdam:20280302T100000
DTEND;TZID=Europe/Amsterdam:20280302T120000
DTSTAMP:20260422T151017
CREATED:20260227T002029Z
LAST-MODIFIED:20260227T002029Z
UID:10002248-1835604000-1835611200@trefpunt.buurtbelangen-nazareth.nl
SUMMARY:Inloop Trajekt
DESCRIPTION:
URL:https://trefpunt.buurtbelangen-nazareth.nl/activiteit/inloop-trajekt/2028-03-02/
LOCATION:Trefpunt Nazareth\, Kasteel Schaloenstraat 54\, Maastricht\, Limburg\, 6222 TP\, Netherlands
CATEGORIES:Inloop
ATTACH;FMTTYPE=image/webp:https://trefpunt.buurtbelangen-nazareth.nl/wp-content/uploads/2025/10/Logo-Trajekt.webp
ORGANIZER;CN="Trajekt":MAILTO:nel.knapen@trajekt.nl
END:VEVENT
BEGIN:VEVENT
DTSTART;TZID=Europe/Amsterdam:20280302T100000
DTEND;TZID=Europe/Amsterdam:20280302T120000
DTSTAMP:20260422T151017
CREATED:20260227T002323Z
LAST-MODIFIED:20260227T002323Z
UID:10002510-1835604000-1835611200@trefpunt.buurtbelangen-nazareth.nl
SUMMARY:Taalpunt Trajekt
DESCRIPTION:
URL:https://trefpunt.buurtbelangen-nazareth.nl/activiteit/taalpunt-trajekt/2028-03-02/
LOCATION:Trefpunt Nazareth\, Kasteel Schaloenstraat 54\, Maastricht\, Limburg\, 6222 TP\, Netherlands
CATEGORIES:Informatie
ATTACH;FMTTYPE=image/webp:https://trefpunt.buurtbelangen-nazareth.nl/wp-content/uploads/2025/10/Taalles.webp
ORGANIZER;CN="Trajekt":MAILTO:nel.knapen@trajekt.nl
END:VEVENT
BEGIN:VEVENT
DTSTART;TZID=Europe/Amsterdam:20280309T100000
DTEND;TZID=Europe/Amsterdam:20280309T120000
DTSTAMP:20260422T151017
CREATED:20260227T002029Z
LAST-MODIFIED:20260227T002029Z
UID:10002249-1836208800-1836216000@trefpunt.buurtbelangen-nazareth.nl
SUMMARY:Inloop Trajekt
DESCRIPTION:
URL:https://trefpunt.buurtbelangen-nazareth.nl/activiteit/inloop-trajekt/2028-03-09/
LOCATION:Trefpunt Nazareth\, Kasteel Schaloenstraat 54\, Maastricht\, Limburg\, 6222 TP\, Netherlands
CATEGORIES:Inloop
ATTACH;FMTTYPE=image/webp:https://trefpunt.buurtbelangen-nazareth.nl/wp-content/uploads/2025/10/Logo-Trajekt.webp
ORGANIZER;CN="Trajekt":MAILTO:nel.knapen@trajekt.nl
END:VEVENT
BEGIN:VEVENT
DTSTART;TZID=Europe/Amsterdam:20280309T100000
DTEND;TZID=Europe/Amsterdam:20280309T120000
DTSTAMP:20260422T151017
CREATED:20260227T002323Z
LAST-MODIFIED:20260227T002323Z
UID:10002511-1836208800-1836216000@trefpunt.buurtbelangen-nazareth.nl
SUMMARY:Taalpunt Trajekt
DESCRIPTION:
URL:https://trefpunt.buurtbelangen-nazareth.nl/activiteit/taalpunt-trajekt/2028-03-09/
LOCATION:Trefpunt Nazareth\, Kasteel Schaloenstraat 54\, Maastricht\, Limburg\, 6222 TP\, Netherlands
CATEGORIES:Informatie
ATTACH;FMTTYPE=image/webp:https://trefpunt.buurtbelangen-nazareth.nl/wp-content/uploads/2025/10/Taalles.webp
ORGANIZER;CN="Trajekt":MAILTO:nel.knapen@trajekt.nl
END:VEVENT
BEGIN:VEVENT
DTSTART;TZID=Europe/Amsterdam:20280316T100000
DTEND;TZID=Europe/Amsterdam:20280316T120000
DTSTAMP:20260422T151017
CREATED:20260227T002029Z
LAST-MODIFIED:20260227T002029Z
UID:10002250-1836813600-1836820800@trefpunt.buurtbelangen-nazareth.nl
SUMMARY:Inloop Trajekt
DESCRIPTION:
URL:https://trefpunt.buurtbelangen-nazareth.nl/activiteit/inloop-trajekt/2028-03-16/
LOCATION:Trefpunt Nazareth\, Kasteel Schaloenstraat 54\, Maastricht\, Limburg\, 6222 TP\, Netherlands
CATEGORIES:Inloop
ATTACH;FMTTYPE=image/webp:https://trefpunt.buurtbelangen-nazareth.nl/wp-content/uploads/2025/10/Logo-Trajekt.webp
ORGANIZER;CN="Trajekt":MAILTO:nel.knapen@trajekt.nl
END:VEVENT
BEGIN:VEVENT
DTSTART;TZID=Europe/Amsterdam:20280316T100000
DTEND;TZID=Europe/Amsterdam:20280316T120000
DTSTAMP:20260422T151017
CREATED:20260227T002323Z
LAST-MODIFIED:20260227T002323Z
UID:10002512-1836813600-1836820800@trefpunt.buurtbelangen-nazareth.nl
SUMMARY:Taalpunt Trajekt
DESCRIPTION:
URL:https://trefpunt.buurtbelangen-nazareth.nl/activiteit/taalpunt-trajekt/2028-03-16/
LOCATION:Trefpunt Nazareth\, Kasteel Schaloenstraat 54\, Maastricht\, Limburg\, 6222 TP\, Netherlands
CATEGORIES:Informatie
ATTACH;FMTTYPE=image/webp:https://trefpunt.buurtbelangen-nazareth.nl/wp-content/uploads/2025/10/Taalles.webp
ORGANIZER;CN="Trajekt":MAILTO:nel.knapen@trajekt.nl
END:VEVENT
BEGIN:VEVENT
DTSTART;TZID=Europe/Amsterdam:20280323T100000
DTEND;TZID=Europe/Amsterdam:20280323T120000
DTSTAMP:20260422T151017
CREATED:20260227T002029Z
LAST-MODIFIED:20260227T002029Z
UID:10002251-1837418400-1837425600@trefpunt.buurtbelangen-nazareth.nl
SUMMARY:Inloop Trajekt
DESCRIPTION:
URL:https://trefpunt.buurtbelangen-nazareth.nl/activiteit/inloop-trajekt/2028-03-23/
LOCATION:Trefpunt Nazareth\, Kasteel Schaloenstraat 54\, Maastricht\, Limburg\, 6222 TP\, Netherlands
CATEGORIES:Inloop
ATTACH;FMTTYPE=image/webp:https://trefpunt.buurtbelangen-nazareth.nl/wp-content/uploads/2025/10/Logo-Trajekt.webp
ORGANIZER;CN="Trajekt":MAILTO:nel.knapen@trajekt.nl
END:VEVENT
BEGIN:VEVENT
DTSTART;TZID=Europe/Amsterdam:20280323T100000
DTEND;TZID=Europe/Amsterdam:20280323T120000
DTSTAMP:20260422T151017
CREATED:20260227T002323Z
LAST-MODIFIED:20260227T002323Z
UID:10002513-1837418400-1837425600@trefpunt.buurtbelangen-nazareth.nl
SUMMARY:Taalpunt Trajekt
DESCRIPTION:
URL:https://trefpunt.buurtbelangen-nazareth.nl/activiteit/taalpunt-trajekt/2028-03-23/
LOCATION:Trefpunt Nazareth\, Kasteel Schaloenstraat 54\, Maastricht\, Limburg\, 6222 TP\, Netherlands
CATEGORIES:Informatie
ATTACH;FMTTYPE=image/webp:https://trefpunt.buurtbelangen-nazareth.nl/wp-content/uploads/2025/10/Taalles.webp
ORGANIZER;CN="Trajekt":MAILTO:nel.knapen@trajekt.nl
END:VEVENT
BEGIN:VEVENT
DTSTART;TZID=Europe/Amsterdam:20280330T100000
DTEND;TZID=Europe/Amsterdam:20280330T120000
DTSTAMP:20260422T151017
CREATED:20260227T002029Z
LAST-MODIFIED:20260227T002029Z
UID:10002252-1838023200-1838030400@trefpunt.buurtbelangen-nazareth.nl
SUMMARY:Inloop Trajekt
DESCRIPTION:
URL:https://trefpunt.buurtbelangen-nazareth.nl/activiteit/inloop-trajekt/2028-03-30/
LOCATION:Trefpunt Nazareth\, Kasteel Schaloenstraat 54\, Maastricht\, Limburg\, 6222 TP\, Netherlands
CATEGORIES:Inloop
ATTACH;FMTTYPE=image/webp:https://trefpunt.buurtbelangen-nazareth.nl/wp-content/uploads/2025/10/Logo-Trajekt.webp
ORGANIZER;CN="Trajekt":MAILTO:nel.knapen@trajekt.nl
END:VEVENT
BEGIN:VEVENT
DTSTART;TZID=Europe/Amsterdam:20280330T100000
DTEND;TZID=Europe/Amsterdam:20280330T120000
DTSTAMP:20260422T151017
CREATED:20260227T002323Z
LAST-MODIFIED:20260227T002323Z
UID:10002514-1838023200-1838030400@trefpunt.buurtbelangen-nazareth.nl
SUMMARY:Taalpunt Trajekt
DESCRIPTION:
URL:https://trefpunt.buurtbelangen-nazareth.nl/activiteit/taalpunt-trajekt/2028-03-30/
LOCATION:Trefpunt Nazareth\, Kasteel Schaloenstraat 54\, Maastricht\, Limburg\, 6222 TP\, Netherlands
CATEGORIES:Informatie
ATTACH;FMTTYPE=image/webp:https://trefpunt.buurtbelangen-nazareth.nl/wp-content/uploads/2025/10/Taalles.webp
ORGANIZER;CN="Trajekt":MAILTO:nel.knapen@trajekt.nl
END:VEVENT
BEGIN:VEVENT
DTSTART;TZID=Europe/Amsterdam:20280406T100000
DTEND;TZID=Europe/Amsterdam:20280406T120000
DTSTAMP:20260422T151017
CREATED:20260227T002029Z
LAST-MODIFIED:20260227T002029Z
UID:10002253-1838628000-1838635200@trefpunt.buurtbelangen-nazareth.nl
SUMMARY:Inloop Trajekt
DESCRIPTION:
URL:https://trefpunt.buurtbelangen-nazareth.nl/activiteit/inloop-trajekt/2028-04-06/
LOCATION:Trefpunt Nazareth\, Kasteel Schaloenstraat 54\, Maastricht\, Limburg\, 6222 TP\, Netherlands
CATEGORIES:Inloop
ATTACH;FMTTYPE=image/webp:https://trefpunt.buurtbelangen-nazareth.nl/wp-content/uploads/2025/10/Logo-Trajekt.webp
ORGANIZER;CN="Trajekt":MAILTO:nel.knapen@trajekt.nl
END:VEVENT
BEGIN:VEVENT
DTSTART;TZID=Europe/Amsterdam:20280406T100000
DTEND;TZID=Europe/Amsterdam:20280406T120000
DTSTAMP:20260422T151017
CREATED:20260227T002323Z
LAST-MODIFIED:20260227T002323Z
UID:10002515-1838628000-1838635200@trefpunt.buurtbelangen-nazareth.nl
SUMMARY:Taalpunt Trajekt
DESCRIPTION:
URL:https://trefpunt.buurtbelangen-nazareth.nl/activiteit/taalpunt-trajekt/2028-04-06/
LOCATION:Trefpunt Nazareth\, Kasteel Schaloenstraat 54\, Maastricht\, Limburg\, 6222 TP\, Netherlands
CATEGORIES:Informatie
ATTACH;FMTTYPE=image/webp:https://trefpunt.buurtbelangen-nazareth.nl/wp-content/uploads/2025/10/Taalles.webp
ORGANIZER;CN="Trajekt":MAILTO:nel.knapen@trajekt.nl
END:VEVENT
BEGIN:VEVENT
DTSTART;TZID=Europe/Amsterdam:20280413T100000
DTEND;TZID=Europe/Amsterdam:20280413T120000
DTSTAMP:20260422T151017
CREATED:20260227T002029Z
LAST-MODIFIED:20260227T002029Z
UID:10002254-1839232800-1839240000@trefpunt.buurtbelangen-nazareth.nl
SUMMARY:Inloop Trajekt
DESCRIPTION:
URL:https://trefpunt.buurtbelangen-nazareth.nl/activiteit/inloop-trajekt/2028-04-13/
LOCATION:Trefpunt Nazareth\, Kasteel Schaloenstraat 54\, Maastricht\, Limburg\, 6222 TP\, Netherlands
CATEGORIES:Inloop
ATTACH;FMTTYPE=image/webp:https://trefpunt.buurtbelangen-nazareth.nl/wp-content/uploads/2025/10/Logo-Trajekt.webp
ORGANIZER;CN="Trajekt":MAILTO:nel.knapen@trajekt.nl
END:VEVENT
BEGIN:VEVENT
DTSTART;TZID=Europe/Amsterdam:20280413T100000
DTEND;TZID=Europe/Amsterdam:20280413T120000
DTSTAMP:20260422T151017
CREATED:20260227T002323Z
LAST-MODIFIED:20260227T002323Z
UID:10002516-1839232800-1839240000@trefpunt.buurtbelangen-nazareth.nl
SUMMARY:Taalpunt Trajekt
DESCRIPTION:
URL:https://trefpunt.buurtbelangen-nazareth.nl/activiteit/taalpunt-trajekt/2028-04-13/
LOCATION:Trefpunt Nazareth\, Kasteel Schaloenstraat 54\, Maastricht\, Limburg\, 6222 TP\, Netherlands
CATEGORIES:Informatie
ATTACH;FMTTYPE=image/webp:https://trefpunt.buurtbelangen-nazareth.nl/wp-content/uploads/2025/10/Taalles.webp
ORGANIZER;CN="Trajekt":MAILTO:nel.knapen@trajekt.nl
END:VEVENT
BEGIN:VEVENT
DTSTART;TZID=Europe/Amsterdam:20280420T100000
DTEND;TZID=Europe/Amsterdam:20280420T120000
DTSTAMP:20260422T151017
CREATED:20260227T002029Z
LAST-MODIFIED:20260227T002029Z
UID:10002255-1839837600-1839844800@trefpunt.buurtbelangen-nazareth.nl
SUMMARY:Inloop Trajekt
DESCRIPTION:
URL:https://trefpunt.buurtbelangen-nazareth.nl/activiteit/inloop-trajekt/2028-04-20/
LOCATION:Trefpunt Nazareth\, Kasteel Schaloenstraat 54\, Maastricht\, Limburg\, 6222 TP\, Netherlands
CATEGORIES:Inloop
ATTACH;FMTTYPE=image/webp:https://trefpunt.buurtbelangen-nazareth.nl/wp-content/uploads/2025/10/Logo-Trajekt.webp
ORGANIZER;CN="Trajekt":MAILTO:nel.knapen@trajekt.nl
END:VEVENT
BEGIN:VEVENT
DTSTART;TZID=Europe/Amsterdam:20280420T100000
DTEND;TZID=Europe/Amsterdam:20280420T120000
DTSTAMP:20260422T151017
CREATED:20260227T002323Z
LAST-MODIFIED:20260227T002323Z
UID:10002517-1839837600-1839844800@trefpunt.buurtbelangen-nazareth.nl
SUMMARY:Taalpunt Trajekt
DESCRIPTION:
URL:https://trefpunt.buurtbelangen-nazareth.nl/activiteit/taalpunt-trajekt/2028-04-20/
LOCATION:Trefpunt Nazareth\, Kasteel Schaloenstraat 54\, Maastricht\, Limburg\, 6222 TP\, Netherlands
CATEGORIES:Informatie
ATTACH;FMTTYPE=image/webp:https://trefpunt.buurtbelangen-nazareth.nl/wp-content/uploads/2025/10/Taalles.webp
ORGANIZER;CN="Trajekt":MAILTO:nel.knapen@trajekt.nl
END:VEVENT
BEGIN:VEVENT
DTSTART;TZID=Europe/Amsterdam:20280427T100000
DTEND;TZID=Europe/Amsterdam:20280427T120000
DTSTAMP:20260422T151017
CREATED:20260227T002029Z
LAST-MODIFIED:20260227T002029Z
UID:10002256-1840442400-1840449600@trefpunt.buurtbelangen-nazareth.nl
SUMMARY:Inloop Trajekt
DESCRIPTION:
URL:https://trefpunt.buurtbelangen-nazareth.nl/activiteit/inloop-trajekt/2028-04-27/
LOCATION:Trefpunt Nazareth\, Kasteel Schaloenstraat 54\, Maastricht\, Limburg\, 6222 TP\, Netherlands
CATEGORIES:Inloop
ATTACH;FMTTYPE=image/webp:https://trefpunt.buurtbelangen-nazareth.nl/wp-content/uploads/2025/10/Logo-Trajekt.webp
ORGANIZER;CN="Trajekt":MAILTO:nel.knapen@trajekt.nl
END:VEVENT
BEGIN:VEVENT
DTSTART;TZID=Europe/Amsterdam:20280427T100000
DTEND;TZID=Europe/Amsterdam:20280427T120000
DTSTAMP:20260422T151017
CREATED:20260227T002323Z
LAST-MODIFIED:20260227T002323Z
UID:10002518-1840442400-1840449600@trefpunt.buurtbelangen-nazareth.nl
SUMMARY:Taalpunt Trajekt
DESCRIPTION:
URL:https://trefpunt.buurtbelangen-nazareth.nl/activiteit/taalpunt-trajekt/2028-04-27/
LOCATION:Trefpunt Nazareth\, Kasteel Schaloenstraat 54\, Maastricht\, Limburg\, 6222 TP\, Netherlands
CATEGORIES:Informatie
ATTACH;FMTTYPE=image/webp:https://trefpunt.buurtbelangen-nazareth.nl/wp-content/uploads/2025/10/Taalles.webp
ORGANIZER;CN="Trajekt":MAILTO:nel.knapen@trajekt.nl
END:VEVENT
BEGIN:VEVENT
DTSTART;TZID=Europe/Amsterdam:20280504T100000
DTEND;TZID=Europe/Amsterdam:20280504T120000
DTSTAMP:20260422T151017
CREATED:20260227T002029Z
LAST-MODIFIED:20260227T002029Z
UID:10002257-1841047200-1841054400@trefpunt.buurtbelangen-nazareth.nl
SUMMARY:Inloop Trajekt
DESCRIPTION:
URL:https://trefpunt.buurtbelangen-nazareth.nl/activiteit/inloop-trajekt/2028-05-04/
LOCATION:Trefpunt Nazareth\, Kasteel Schaloenstraat 54\, Maastricht\, Limburg\, 6222 TP\, Netherlands
CATEGORIES:Inloop
ATTACH;FMTTYPE=image/webp:https://trefpunt.buurtbelangen-nazareth.nl/wp-content/uploads/2025/10/Logo-Trajekt.webp
ORGANIZER;CN="Trajekt":MAILTO:nel.knapen@trajekt.nl
END:VEVENT
BEGIN:VEVENT
DTSTART;TZID=Europe/Amsterdam:20280504T100000
DTEND;TZID=Europe/Amsterdam:20280504T120000
DTSTAMP:20260422T151017
CREATED:20260227T002323Z
LAST-MODIFIED:20260227T002323Z
UID:10002519-1841047200-1841054400@trefpunt.buurtbelangen-nazareth.nl
SUMMARY:Taalpunt Trajekt
DESCRIPTION:
URL:https://trefpunt.buurtbelangen-nazareth.nl/activiteit/taalpunt-trajekt/2028-05-04/
LOCATION:Trefpunt Nazareth\, Kasteel Schaloenstraat 54\, Maastricht\, Limburg\, 6222 TP\, Netherlands
CATEGORIES:Informatie
ATTACH;FMTTYPE=image/webp:https://trefpunt.buurtbelangen-nazareth.nl/wp-content/uploads/2025/10/Taalles.webp
ORGANIZER;CN="Trajekt":MAILTO:nel.knapen@trajekt.nl
END:VEVENT
BEGIN:VEVENT
DTSTART;TZID=Europe/Amsterdam:20280511T100000
DTEND;TZID=Europe/Amsterdam:20280511T120000
DTSTAMP:20260422T151017
CREATED:20260227T002029Z
LAST-MODIFIED:20260227T002029Z
UID:10002258-1841652000-1841659200@trefpunt.buurtbelangen-nazareth.nl
SUMMARY:Inloop Trajekt
DESCRIPTION:
URL:https://trefpunt.buurtbelangen-nazareth.nl/activiteit/inloop-trajekt/2028-05-11/
LOCATION:Trefpunt Nazareth\, Kasteel Schaloenstraat 54\, Maastricht\, Limburg\, 6222 TP\, Netherlands
CATEGORIES:Inloop
ATTACH;FMTTYPE=image/webp:https://trefpunt.buurtbelangen-nazareth.nl/wp-content/uploads/2025/10/Logo-Trajekt.webp
ORGANIZER;CN="Trajekt":MAILTO:nel.knapen@trajekt.nl
END:VEVENT
BEGIN:VEVENT
DTSTART;TZID=Europe/Amsterdam:20280511T100000
DTEND;TZID=Europe/Amsterdam:20280511T120000
DTSTAMP:20260422T151017
CREATED:20260227T002323Z
LAST-MODIFIED:20260227T002323Z
UID:10002520-1841652000-1841659200@trefpunt.buurtbelangen-nazareth.nl
SUMMARY:Taalpunt Trajekt
DESCRIPTION:
URL:https://trefpunt.buurtbelangen-nazareth.nl/activiteit/taalpunt-trajekt/2028-05-11/
LOCATION:Trefpunt Nazareth\, Kasteel Schaloenstraat 54\, Maastricht\, Limburg\, 6222 TP\, Netherlands
CATEGORIES:Informatie
ATTACH;FMTTYPE=image/webp:https://trefpunt.buurtbelangen-nazareth.nl/wp-content/uploads/2025/10/Taalles.webp
ORGANIZER;CN="Trajekt":MAILTO:nel.knapen@trajekt.nl
END:VEVENT
BEGIN:VEVENT
DTSTART;TZID=Europe/Amsterdam:20280518T100000
DTEND;TZID=Europe/Amsterdam:20280518T120000
DTSTAMP:20260422T151017
CREATED:20260227T002029Z
LAST-MODIFIED:20260227T002029Z
UID:10002259-1842256800-1842264000@trefpunt.buurtbelangen-nazareth.nl
SUMMARY:Inloop Trajekt
DESCRIPTION:
URL:https://trefpunt.buurtbelangen-nazareth.nl/activiteit/inloop-trajekt/2028-05-18/
LOCATION:Trefpunt Nazareth\, Kasteel Schaloenstraat 54\, Maastricht\, Limburg\, 6222 TP\, Netherlands
CATEGORIES:Inloop
ATTACH;FMTTYPE=image/webp:https://trefpunt.buurtbelangen-nazareth.nl/wp-content/uploads/2025/10/Logo-Trajekt.webp
ORGANIZER;CN="Trajekt":MAILTO:nel.knapen@trajekt.nl
END:VEVENT
BEGIN:VEVENT
DTSTART;TZID=Europe/Amsterdam:20280518T100000
DTEND;TZID=Europe/Amsterdam:20280518T120000
DTSTAMP:20260422T151017
CREATED:20260227T002323Z
LAST-MODIFIED:20260227T002323Z
UID:10002521-1842256800-1842264000@trefpunt.buurtbelangen-nazareth.nl
SUMMARY:Taalpunt Trajekt
DESCRIPTION:
URL:https://trefpunt.buurtbelangen-nazareth.nl/activiteit/taalpunt-trajekt/2028-05-18/
LOCATION:Trefpunt Nazareth\, Kasteel Schaloenstraat 54\, Maastricht\, Limburg\, 6222 TP\, Netherlands
CATEGORIES:Informatie
ATTACH;FMTTYPE=image/webp:https://trefpunt.buurtbelangen-nazareth.nl/wp-content/uploads/2025/10/Taalles.webp
ORGANIZER;CN="Trajekt":MAILTO:nel.knapen@trajekt.nl
END:VEVENT
BEGIN:VEVENT
DTSTART;TZID=Europe/Amsterdam:20280525T100000
DTEND;TZID=Europe/Amsterdam:20280525T120000
DTSTAMP:20260422T151017
CREATED:20260227T002029Z
LAST-MODIFIED:20260227T002029Z
UID:10002260-1842861600-1842868800@trefpunt.buurtbelangen-nazareth.nl
SUMMARY:Inloop Trajekt
DESCRIPTION:
URL:https://trefpunt.buurtbelangen-nazareth.nl/activiteit/inloop-trajekt/2028-05-25/
LOCATION:Trefpunt Nazareth\, Kasteel Schaloenstraat 54\, Maastricht\, Limburg\, 6222 TP\, Netherlands
CATEGORIES:Inloop
ATTACH;FMTTYPE=image/webp:https://trefpunt.buurtbelangen-nazareth.nl/wp-content/uploads/2025/10/Logo-Trajekt.webp
ORGANIZER;CN="Trajekt":MAILTO:nel.knapen@trajekt.nl
END:VEVENT
BEGIN:VEVENT
DTSTART;TZID=Europe/Amsterdam:20280525T100000
DTEND;TZID=Europe/Amsterdam:20280525T120000
DTSTAMP:20260422T151017
CREATED:20260227T002323Z
LAST-MODIFIED:20260227T002323Z
UID:10002522-1842861600-1842868800@trefpunt.buurtbelangen-nazareth.nl
SUMMARY:Taalpunt Trajekt
DESCRIPTION:
URL:https://trefpunt.buurtbelangen-nazareth.nl/activiteit/taalpunt-trajekt/2028-05-25/
LOCATION:Trefpunt Nazareth\, Kasteel Schaloenstraat 54\, Maastricht\, Limburg\, 6222 TP\, Netherlands
CATEGORIES:Informatie
ATTACH;FMTTYPE=image/webp:https://trefpunt.buurtbelangen-nazareth.nl/wp-content/uploads/2025/10/Taalles.webp
ORGANIZER;CN="Trajekt":MAILTO:nel.knapen@trajekt.nl
END:VEVENT
BEGIN:VEVENT
DTSTART;TZID=Europe/Amsterdam:20280601T100000
DTEND;TZID=Europe/Amsterdam:20280601T120000
DTSTAMP:20260422T151017
CREATED:20260227T002029Z
LAST-MODIFIED:20260227T002029Z
UID:10002261-1843466400-1843473600@trefpunt.buurtbelangen-nazareth.nl
SUMMARY:Inloop Trajekt
DESCRIPTION:
URL:https://trefpunt.buurtbelangen-nazareth.nl/activiteit/inloop-trajekt/2028-06-01/
LOCATION:Trefpunt Nazareth\, Kasteel Schaloenstraat 54\, Maastricht\, Limburg\, 6222 TP\, Netherlands
CATEGORIES:Inloop
ATTACH;FMTTYPE=image/webp:https://trefpunt.buurtbelangen-nazareth.nl/wp-content/uploads/2025/10/Logo-Trajekt.webp
ORGANIZER;CN="Trajekt":MAILTO:nel.knapen@trajekt.nl
END:VEVENT
BEGIN:VEVENT
DTSTART;TZID=Europe/Amsterdam:20280601T100000
DTEND;TZID=Europe/Amsterdam:20280601T120000
DTSTAMP:20260422T151017
CREATED:20260227T002323Z
LAST-MODIFIED:20260227T002323Z
UID:10002523-1843466400-1843473600@trefpunt.buurtbelangen-nazareth.nl
SUMMARY:Taalpunt Trajekt
DESCRIPTION:
URL:https://trefpunt.buurtbelangen-nazareth.nl/activiteit/taalpunt-trajekt/2028-06-01/
LOCATION:Trefpunt Nazareth\, Kasteel Schaloenstraat 54\, Maastricht\, Limburg\, 6222 TP\, Netherlands
CATEGORIES:Informatie
ATTACH;FMTTYPE=image/webp:https://trefpunt.buurtbelangen-nazareth.nl/wp-content/uploads/2025/10/Taalles.webp
ORGANIZER;CN="Trajekt":MAILTO:nel.knapen@trajekt.nl
END:VEVENT
END:VCALENDAR