BEGIN:VCALENDAR
VERSION:2.0
PRODID:-//Trefpunt Nazareth - ECPv6.15.20//NONSGML v1.0//EN
CALSCALE:GREGORIAN
METHOD:PUBLISH
X-ORIGINAL-URL:https://trefpunt.buurtbelangen-nazareth.nl
X-WR-CALDESC:Evenementen voor Trefpunt Nazareth
REFRESH-INTERVAL;VALUE=DURATION:PT1H
X-Robots-Tag:noindex
X-PUBLISHED-TTL:PT1H
BEGIN:VTIMEZONE
TZID:Europe/Amsterdam
BEGIN:DAYLIGHT
TZOFFSETFROM:+0100
TZOFFSETTO:+0200
TZNAME:CEST
DTSTART:20270328T010000
END:DAYLIGHT
BEGIN:STANDARD
TZOFFSETFROM:+0200
TZOFFSETTO:+0100
TZNAME:CET
DTSTART:20271031T010000
END:STANDARD
BEGIN:DAYLIGHT
TZOFFSETFROM:+0100
TZOFFSETTO:+0200
TZNAME:CEST
DTSTART:20280326T010000
END:DAYLIGHT
BEGIN:STANDARD
TZOFFSETFROM:+0200
TZOFFSETTO:+0100
TZNAME:CET
DTSTART:20281029T010000
END:STANDARD
BEGIN:DAYLIGHT
TZOFFSETFROM:+0100
TZOFFSETTO:+0200
TZNAME:CEST
DTSTART:20290325T010000
END:DAYLIGHT
BEGIN:STANDARD
TZOFFSETFROM:+0200
TZOFFSETTO:+0100
TZNAME:CET
DTSTART:20291028T010000
END:STANDARD
END:VTIMEZONE
BEGIN:VEVENT
DTSTART;TZID=Europe/Amsterdam:20280815T110000
DTEND;TZID=Europe/Amsterdam:20280815T160000
DTSTAMP:20260426T023626
CREATED:20260226T223205Z
LAST-MODIFIED:20260226T223205Z
UID:10000962-1849950000-1849968000@trefpunt.buurtbelangen-nazareth.nl
SUMMARY:Sociaal Team (alleen op afspraak)
DESCRIPTION:
URL:https://trefpunt.buurtbelangen-nazareth.nl/activiteit/sociaal-team-alleen-op-afspraak/2028-08-15/
LOCATION:Trefpunt Nazareth\, Kasteel Schaloenstraat 54\, Maastricht\, Limburg\, 6222 TP\, Netherlands
CATEGORIES:Welzijn
END:VEVENT
BEGIN:VEVENT
DTSTART;TZID=Europe/Amsterdam:20280816T090000
DTEND;TZID=Europe/Amsterdam:20280816T120000
DTSTAMP:20260426T023626
CREATED:20260226T223939Z
LAST-MODIFIED:20260226T223939Z
UID:10001224-1850029200-1850040000@trefpunt.buurtbelangen-nazareth.nl
SUMMARY:Wijk Service Punt Nazareth
DESCRIPTION:
URL:https://trefpunt.buurtbelangen-nazareth.nl/activiteit/wijk-service-punt-nazareth/2028-08-16/
LOCATION:Trefpunt Nazareth\, Kasteel Schaloenstraat 54\, Maastricht\, Limburg\, 6222 TP\, Netherlands
CATEGORIES:WSP
ATTACH;FMTTYPE=image/webp:https://trefpunt.buurtbelangen-nazareth.nl/wp-content/uploads/2025/10/logo-WSP-Nazareth.webp
END:VEVENT
BEGIN:VEVENT
DTSTART;TZID=Europe/Amsterdam:20280822T110000
DTEND;TZID=Europe/Amsterdam:20280822T160000
DTSTAMP:20260426T023626
CREATED:20260226T223205Z
LAST-MODIFIED:20260226T223205Z
UID:10000963-1850554800-1850572800@trefpunt.buurtbelangen-nazareth.nl
SUMMARY:Sociaal Team (alleen op afspraak)
DESCRIPTION:
URL:https://trefpunt.buurtbelangen-nazareth.nl/activiteit/sociaal-team-alleen-op-afspraak/2028-08-22/
LOCATION:Trefpunt Nazareth\, Kasteel Schaloenstraat 54\, Maastricht\, Limburg\, 6222 TP\, Netherlands
CATEGORIES:Welzijn
END:VEVENT
BEGIN:VEVENT
DTSTART;TZID=Europe/Amsterdam:20280823T090000
DTEND;TZID=Europe/Amsterdam:20280823T120000
DTSTAMP:20260426T023626
CREATED:20260226T223939Z
LAST-MODIFIED:20260226T223939Z
UID:10001225-1850634000-1850644800@trefpunt.buurtbelangen-nazareth.nl
SUMMARY:Wijk Service Punt Nazareth
DESCRIPTION:
URL:https://trefpunt.buurtbelangen-nazareth.nl/activiteit/wijk-service-punt-nazareth/2028-08-23/
LOCATION:Trefpunt Nazareth\, Kasteel Schaloenstraat 54\, Maastricht\, Limburg\, 6222 TP\, Netherlands
CATEGORIES:WSP
ATTACH;FMTTYPE=image/webp:https://trefpunt.buurtbelangen-nazareth.nl/wp-content/uploads/2025/10/logo-WSP-Nazareth.webp
END:VEVENT
BEGIN:VEVENT
DTSTART;TZID=Europe/Amsterdam:20280829T110000
DTEND;TZID=Europe/Amsterdam:20280829T160000
DTSTAMP:20260426T023626
CREATED:20260226T223205Z
LAST-MODIFIED:20260226T223205Z
UID:10000964-1851159600-1851177600@trefpunt.buurtbelangen-nazareth.nl
SUMMARY:Sociaal Team (alleen op afspraak)
DESCRIPTION:
URL:https://trefpunt.buurtbelangen-nazareth.nl/activiteit/sociaal-team-alleen-op-afspraak/2028-08-29/
LOCATION:Trefpunt Nazareth\, Kasteel Schaloenstraat 54\, Maastricht\, Limburg\, 6222 TP\, Netherlands
CATEGORIES:Welzijn
END:VEVENT
BEGIN:VEVENT
DTSTART;TZID=Europe/Amsterdam:20280830T090000
DTEND;TZID=Europe/Amsterdam:20280830T120000
DTSTAMP:20260426T023626
CREATED:20260226T223939Z
LAST-MODIFIED:20260226T223939Z
UID:10001226-1851238800-1851249600@trefpunt.buurtbelangen-nazareth.nl
SUMMARY:Wijk Service Punt Nazareth
DESCRIPTION:
URL:https://trefpunt.buurtbelangen-nazareth.nl/activiteit/wijk-service-punt-nazareth/2028-08-30/
LOCATION:Trefpunt Nazareth\, Kasteel Schaloenstraat 54\, Maastricht\, Limburg\, 6222 TP\, Netherlands
CATEGORIES:WSP
ATTACH;FMTTYPE=image/webp:https://trefpunt.buurtbelangen-nazareth.nl/wp-content/uploads/2025/10/logo-WSP-Nazareth.webp
END:VEVENT
BEGIN:VEVENT
DTSTART;TZID=Europe/Amsterdam:20280905T110000
DTEND;TZID=Europe/Amsterdam:20280905T160000
DTSTAMP:20260426T023626
CREATED:20260226T223205Z
LAST-MODIFIED:20260226T223205Z
UID:10000965-1851764400-1851782400@trefpunt.buurtbelangen-nazareth.nl
SUMMARY:Sociaal Team (alleen op afspraak)
DESCRIPTION:
URL:https://trefpunt.buurtbelangen-nazareth.nl/activiteit/sociaal-team-alleen-op-afspraak/2028-09-05/
LOCATION:Trefpunt Nazareth\, Kasteel Schaloenstraat 54\, Maastricht\, Limburg\, 6222 TP\, Netherlands
CATEGORIES:Welzijn
END:VEVENT
BEGIN:VEVENT
DTSTART;TZID=Europe/Amsterdam:20280906T090000
DTEND;TZID=Europe/Amsterdam:20280906T120000
DTSTAMP:20260426T023626
CREATED:20260226T223939Z
LAST-MODIFIED:20260226T223939Z
UID:10001227-1851843600-1851854400@trefpunt.buurtbelangen-nazareth.nl
SUMMARY:Wijk Service Punt Nazareth
DESCRIPTION:
URL:https://trefpunt.buurtbelangen-nazareth.nl/activiteit/wijk-service-punt-nazareth/2028-09-06/
LOCATION:Trefpunt Nazareth\, Kasteel Schaloenstraat 54\, Maastricht\, Limburg\, 6222 TP\, Netherlands
CATEGORIES:WSP
ATTACH;FMTTYPE=image/webp:https://trefpunt.buurtbelangen-nazareth.nl/wp-content/uploads/2025/10/logo-WSP-Nazareth.webp
END:VEVENT
BEGIN:VEVENT
DTSTART;TZID=Europe/Amsterdam:20280912T110000
DTEND;TZID=Europe/Amsterdam:20280912T160000
DTSTAMP:20260426T023626
CREATED:20260226T223205Z
LAST-MODIFIED:20260226T223205Z
UID:10000966-1852369200-1852387200@trefpunt.buurtbelangen-nazareth.nl
SUMMARY:Sociaal Team (alleen op afspraak)
DESCRIPTION:
URL:https://trefpunt.buurtbelangen-nazareth.nl/activiteit/sociaal-team-alleen-op-afspraak/2028-09-12/
LOCATION:Trefpunt Nazareth\, Kasteel Schaloenstraat 54\, Maastricht\, Limburg\, 6222 TP\, Netherlands
CATEGORIES:Welzijn
END:VEVENT
BEGIN:VEVENT
DTSTART;TZID=Europe/Amsterdam:20280913T090000
DTEND;TZID=Europe/Amsterdam:20280913T120000
DTSTAMP:20260426T023626
CREATED:20260226T223939Z
LAST-MODIFIED:20260226T223939Z
UID:10001228-1852448400-1852459200@trefpunt.buurtbelangen-nazareth.nl
SUMMARY:Wijk Service Punt Nazareth
DESCRIPTION:
URL:https://trefpunt.buurtbelangen-nazareth.nl/activiteit/wijk-service-punt-nazareth/2028-09-13/
LOCATION:Trefpunt Nazareth\, Kasteel Schaloenstraat 54\, Maastricht\, Limburg\, 6222 TP\, Netherlands
CATEGORIES:WSP
ATTACH;FMTTYPE=image/webp:https://trefpunt.buurtbelangen-nazareth.nl/wp-content/uploads/2025/10/logo-WSP-Nazareth.webp
END:VEVENT
BEGIN:VEVENT
DTSTART;TZID=Europe/Amsterdam:20280919T110000
DTEND;TZID=Europe/Amsterdam:20280919T160000
DTSTAMP:20260426T023626
CREATED:20260226T223205Z
LAST-MODIFIED:20260226T223205Z
UID:10000967-1852974000-1852992000@trefpunt.buurtbelangen-nazareth.nl
SUMMARY:Sociaal Team (alleen op afspraak)
DESCRIPTION:
URL:https://trefpunt.buurtbelangen-nazareth.nl/activiteit/sociaal-team-alleen-op-afspraak/2028-09-19/
LOCATION:Trefpunt Nazareth\, Kasteel Schaloenstraat 54\, Maastricht\, Limburg\, 6222 TP\, Netherlands
CATEGORIES:Welzijn
END:VEVENT
BEGIN:VEVENT
DTSTART;TZID=Europe/Amsterdam:20280920T090000
DTEND;TZID=Europe/Amsterdam:20280920T120000
DTSTAMP:20260426T023626
CREATED:20260226T223939Z
LAST-MODIFIED:20260226T223939Z
UID:10001229-1853053200-1853064000@trefpunt.buurtbelangen-nazareth.nl
SUMMARY:Wijk Service Punt Nazareth
DESCRIPTION:
URL:https://trefpunt.buurtbelangen-nazareth.nl/activiteit/wijk-service-punt-nazareth/2028-09-20/
LOCATION:Trefpunt Nazareth\, Kasteel Schaloenstraat 54\, Maastricht\, Limburg\, 6222 TP\, Netherlands
CATEGORIES:WSP
ATTACH;FMTTYPE=image/webp:https://trefpunt.buurtbelangen-nazareth.nl/wp-content/uploads/2025/10/logo-WSP-Nazareth.webp
END:VEVENT
BEGIN:VEVENT
DTSTART;TZID=Europe/Amsterdam:20280926T110000
DTEND;TZID=Europe/Amsterdam:20280926T160000
DTSTAMP:20260426T023626
CREATED:20260226T223205Z
LAST-MODIFIED:20260226T223205Z
UID:10000968-1853578800-1853596800@trefpunt.buurtbelangen-nazareth.nl
SUMMARY:Sociaal Team (alleen op afspraak)
DESCRIPTION:
URL:https://trefpunt.buurtbelangen-nazareth.nl/activiteit/sociaal-team-alleen-op-afspraak/2028-09-26/
LOCATION:Trefpunt Nazareth\, Kasteel Schaloenstraat 54\, Maastricht\, Limburg\, 6222 TP\, Netherlands
CATEGORIES:Welzijn
END:VEVENT
BEGIN:VEVENT
DTSTART;TZID=Europe/Amsterdam:20280927T090000
DTEND;TZID=Europe/Amsterdam:20280927T120000
DTSTAMP:20260426T023626
CREATED:20260226T223939Z
LAST-MODIFIED:20260226T223939Z
UID:10001230-1853658000-1853668800@trefpunt.buurtbelangen-nazareth.nl
SUMMARY:Wijk Service Punt Nazareth
DESCRIPTION:
URL:https://trefpunt.buurtbelangen-nazareth.nl/activiteit/wijk-service-punt-nazareth/2028-09-27/
LOCATION:Trefpunt Nazareth\, Kasteel Schaloenstraat 54\, Maastricht\, Limburg\, 6222 TP\, Netherlands
CATEGORIES:WSP
ATTACH;FMTTYPE=image/webp:https://trefpunt.buurtbelangen-nazareth.nl/wp-content/uploads/2025/10/logo-WSP-Nazareth.webp
END:VEVENT
BEGIN:VEVENT
DTSTART;TZID=Europe/Amsterdam:20281003T110000
DTEND;TZID=Europe/Amsterdam:20281003T160000
DTSTAMP:20260426T023626
CREATED:20260226T223205Z
LAST-MODIFIED:20260226T223205Z
UID:10000969-1854183600-1854201600@trefpunt.buurtbelangen-nazareth.nl
SUMMARY:Sociaal Team (alleen op afspraak)
DESCRIPTION:
URL:https://trefpunt.buurtbelangen-nazareth.nl/activiteit/sociaal-team-alleen-op-afspraak/2028-10-03/
LOCATION:Trefpunt Nazareth\, Kasteel Schaloenstraat 54\, Maastricht\, Limburg\, 6222 TP\, Netherlands
CATEGORIES:Welzijn
END:VEVENT
BEGIN:VEVENT
DTSTART;TZID=Europe/Amsterdam:20281004T090000
DTEND;TZID=Europe/Amsterdam:20281004T120000
DTSTAMP:20260426T023626
CREATED:20260226T223939Z
LAST-MODIFIED:20260226T223939Z
UID:10001231-1854262800-1854273600@trefpunt.buurtbelangen-nazareth.nl
SUMMARY:Wijk Service Punt Nazareth
DESCRIPTION:
URL:https://trefpunt.buurtbelangen-nazareth.nl/activiteit/wijk-service-punt-nazareth/2028-10-04/
LOCATION:Trefpunt Nazareth\, Kasteel Schaloenstraat 54\, Maastricht\, Limburg\, 6222 TP\, Netherlands
CATEGORIES:WSP
ATTACH;FMTTYPE=image/webp:https://trefpunt.buurtbelangen-nazareth.nl/wp-content/uploads/2025/10/logo-WSP-Nazareth.webp
END:VEVENT
BEGIN:VEVENT
DTSTART;TZID=Europe/Amsterdam:20281010T110000
DTEND;TZID=Europe/Amsterdam:20281010T160000
DTSTAMP:20260426T023626
CREATED:20260226T223205Z
LAST-MODIFIED:20260226T223205Z
UID:10000970-1854788400-1854806400@trefpunt.buurtbelangen-nazareth.nl
SUMMARY:Sociaal Team (alleen op afspraak)
DESCRIPTION:
URL:https://trefpunt.buurtbelangen-nazareth.nl/activiteit/sociaal-team-alleen-op-afspraak/2028-10-10/
LOCATION:Trefpunt Nazareth\, Kasteel Schaloenstraat 54\, Maastricht\, Limburg\, 6222 TP\, Netherlands
CATEGORIES:Welzijn
END:VEVENT
BEGIN:VEVENT
DTSTART;TZID=Europe/Amsterdam:20281011T090000
DTEND;TZID=Europe/Amsterdam:20281011T120000
DTSTAMP:20260426T023626
CREATED:20260226T223939Z
LAST-MODIFIED:20260226T223939Z
UID:10001232-1854867600-1854878400@trefpunt.buurtbelangen-nazareth.nl
SUMMARY:Wijk Service Punt Nazareth
DESCRIPTION:
URL:https://trefpunt.buurtbelangen-nazareth.nl/activiteit/wijk-service-punt-nazareth/2028-10-11/
LOCATION:Trefpunt Nazareth\, Kasteel Schaloenstraat 54\, Maastricht\, Limburg\, 6222 TP\, Netherlands
CATEGORIES:WSP
ATTACH;FMTTYPE=image/webp:https://trefpunt.buurtbelangen-nazareth.nl/wp-content/uploads/2025/10/logo-WSP-Nazareth.webp
END:VEVENT
BEGIN:VEVENT
DTSTART;TZID=Europe/Amsterdam:20281017T110000
DTEND;TZID=Europe/Amsterdam:20281017T160000
DTSTAMP:20260426T023626
CREATED:20260226T223205Z
LAST-MODIFIED:20260226T223205Z
UID:10000971-1855393200-1855411200@trefpunt.buurtbelangen-nazareth.nl
SUMMARY:Sociaal Team (alleen op afspraak)
DESCRIPTION:
URL:https://trefpunt.buurtbelangen-nazareth.nl/activiteit/sociaal-team-alleen-op-afspraak/2028-10-17/
LOCATION:Trefpunt Nazareth\, Kasteel Schaloenstraat 54\, Maastricht\, Limburg\, 6222 TP\, Netherlands
CATEGORIES:Welzijn
END:VEVENT
BEGIN:VEVENT
DTSTART;TZID=Europe/Amsterdam:20281018T090000
DTEND;TZID=Europe/Amsterdam:20281018T120000
DTSTAMP:20260426T023626
CREATED:20260226T223939Z
LAST-MODIFIED:20260226T223939Z
UID:10001233-1855472400-1855483200@trefpunt.buurtbelangen-nazareth.nl
SUMMARY:Wijk Service Punt Nazareth
DESCRIPTION:
URL:https://trefpunt.buurtbelangen-nazareth.nl/activiteit/wijk-service-punt-nazareth/2028-10-18/
LOCATION:Trefpunt Nazareth\, Kasteel Schaloenstraat 54\, Maastricht\, Limburg\, 6222 TP\, Netherlands
CATEGORIES:WSP
ATTACH;FMTTYPE=image/webp:https://trefpunt.buurtbelangen-nazareth.nl/wp-content/uploads/2025/10/logo-WSP-Nazareth.webp
END:VEVENT
BEGIN:VEVENT
DTSTART;TZID=Europe/Amsterdam:20281024T110000
DTEND;TZID=Europe/Amsterdam:20281024T160000
DTSTAMP:20260426T023626
CREATED:20260226T223205Z
LAST-MODIFIED:20260226T223205Z
UID:10000972-1855998000-1856016000@trefpunt.buurtbelangen-nazareth.nl
SUMMARY:Sociaal Team (alleen op afspraak)
DESCRIPTION:
URL:https://trefpunt.buurtbelangen-nazareth.nl/activiteit/sociaal-team-alleen-op-afspraak/2028-10-24/
LOCATION:Trefpunt Nazareth\, Kasteel Schaloenstraat 54\, Maastricht\, Limburg\, 6222 TP\, Netherlands
CATEGORIES:Welzijn
END:VEVENT
BEGIN:VEVENT
DTSTART;TZID=Europe/Amsterdam:20281025T090000
DTEND;TZID=Europe/Amsterdam:20281025T120000
DTSTAMP:20260426T023626
CREATED:20260226T223939Z
LAST-MODIFIED:20260226T223939Z
UID:10001234-1856077200-1856088000@trefpunt.buurtbelangen-nazareth.nl
SUMMARY:Wijk Service Punt Nazareth
DESCRIPTION:
URL:https://trefpunt.buurtbelangen-nazareth.nl/activiteit/wijk-service-punt-nazareth/2028-10-25/
LOCATION:Trefpunt Nazareth\, Kasteel Schaloenstraat 54\, Maastricht\, Limburg\, 6222 TP\, Netherlands
CATEGORIES:WSP
ATTACH;FMTTYPE=image/webp:https://trefpunt.buurtbelangen-nazareth.nl/wp-content/uploads/2025/10/logo-WSP-Nazareth.webp
END:VEVENT
BEGIN:VEVENT
DTSTART;TZID=Europe/Amsterdam:20281031T110000
DTEND;TZID=Europe/Amsterdam:20281031T160000
DTSTAMP:20260426T023626
CREATED:20260226T223205Z
LAST-MODIFIED:20260226T223205Z
UID:10000973-1856602800-1856620800@trefpunt.buurtbelangen-nazareth.nl
SUMMARY:Sociaal Team (alleen op afspraak)
DESCRIPTION:
URL:https://trefpunt.buurtbelangen-nazareth.nl/activiteit/sociaal-team-alleen-op-afspraak/2028-10-31/
LOCATION:Trefpunt Nazareth\, Kasteel Schaloenstraat 54\, Maastricht\, Limburg\, 6222 TP\, Netherlands
CATEGORIES:Welzijn
END:VEVENT
BEGIN:VEVENT
DTSTART;TZID=Europe/Amsterdam:20281101T090000
DTEND;TZID=Europe/Amsterdam:20281101T120000
DTSTAMP:20260426T023626
CREATED:20260226T223939Z
LAST-MODIFIED:20260226T223939Z
UID:10001235-1856682000-1856692800@trefpunt.buurtbelangen-nazareth.nl
SUMMARY:Wijk Service Punt Nazareth
DESCRIPTION:
URL:https://trefpunt.buurtbelangen-nazareth.nl/activiteit/wijk-service-punt-nazareth/2028-11-01/
LOCATION:Trefpunt Nazareth\, Kasteel Schaloenstraat 54\, Maastricht\, Limburg\, 6222 TP\, Netherlands
CATEGORIES:WSP
ATTACH;FMTTYPE=image/webp:https://trefpunt.buurtbelangen-nazareth.nl/wp-content/uploads/2025/10/logo-WSP-Nazareth.webp
END:VEVENT
BEGIN:VEVENT
DTSTART;TZID=Europe/Amsterdam:20281107T110000
DTEND;TZID=Europe/Amsterdam:20281107T160000
DTSTAMP:20260426T023626
CREATED:20260226T223205Z
LAST-MODIFIED:20260226T223205Z
UID:10000974-1857207600-1857225600@trefpunt.buurtbelangen-nazareth.nl
SUMMARY:Sociaal Team (alleen op afspraak)
DESCRIPTION:
URL:https://trefpunt.buurtbelangen-nazareth.nl/activiteit/sociaal-team-alleen-op-afspraak/2028-11-07/
LOCATION:Trefpunt Nazareth\, Kasteel Schaloenstraat 54\, Maastricht\, Limburg\, 6222 TP\, Netherlands
CATEGORIES:Welzijn
END:VEVENT
BEGIN:VEVENT
DTSTART;TZID=Europe/Amsterdam:20281108T090000
DTEND;TZID=Europe/Amsterdam:20281108T120000
DTSTAMP:20260426T023626
CREATED:20260226T223939Z
LAST-MODIFIED:20260226T223939Z
UID:10001236-1857286800-1857297600@trefpunt.buurtbelangen-nazareth.nl
SUMMARY:Wijk Service Punt Nazareth
DESCRIPTION:
URL:https://trefpunt.buurtbelangen-nazareth.nl/activiteit/wijk-service-punt-nazareth/2028-11-08/
LOCATION:Trefpunt Nazareth\, Kasteel Schaloenstraat 54\, Maastricht\, Limburg\, 6222 TP\, Netherlands
CATEGORIES:WSP
ATTACH;FMTTYPE=image/webp:https://trefpunt.buurtbelangen-nazareth.nl/wp-content/uploads/2025/10/logo-WSP-Nazareth.webp
END:VEVENT
BEGIN:VEVENT
DTSTART;TZID=Europe/Amsterdam:20281114T110000
DTEND;TZID=Europe/Amsterdam:20281114T160000
DTSTAMP:20260426T023626
CREATED:20260226T223205Z
LAST-MODIFIED:20260226T223205Z
UID:10000975-1857812400-1857830400@trefpunt.buurtbelangen-nazareth.nl
SUMMARY:Sociaal Team (alleen op afspraak)
DESCRIPTION:
URL:https://trefpunt.buurtbelangen-nazareth.nl/activiteit/sociaal-team-alleen-op-afspraak/2028-11-14/
LOCATION:Trefpunt Nazareth\, Kasteel Schaloenstraat 54\, Maastricht\, Limburg\, 6222 TP\, Netherlands
CATEGORIES:Welzijn
END:VEVENT
BEGIN:VEVENT
DTSTART;TZID=Europe/Amsterdam:20281115T090000
DTEND;TZID=Europe/Amsterdam:20281115T120000
DTSTAMP:20260426T023626
CREATED:20260226T223939Z
LAST-MODIFIED:20260226T223939Z
UID:10001237-1857891600-1857902400@trefpunt.buurtbelangen-nazareth.nl
SUMMARY:Wijk Service Punt Nazareth
DESCRIPTION:
URL:https://trefpunt.buurtbelangen-nazareth.nl/activiteit/wijk-service-punt-nazareth/2028-11-15/
LOCATION:Trefpunt Nazareth\, Kasteel Schaloenstraat 54\, Maastricht\, Limburg\, 6222 TP\, Netherlands
CATEGORIES:WSP
ATTACH;FMTTYPE=image/webp:https://trefpunt.buurtbelangen-nazareth.nl/wp-content/uploads/2025/10/logo-WSP-Nazareth.webp
END:VEVENT
BEGIN:VEVENT
DTSTART;TZID=Europe/Amsterdam:20281121T110000
DTEND;TZID=Europe/Amsterdam:20281121T160000
DTSTAMP:20260426T023626
CREATED:20260226T223205Z
LAST-MODIFIED:20260226T223205Z
UID:10000976-1858417200-1858435200@trefpunt.buurtbelangen-nazareth.nl
SUMMARY:Sociaal Team (alleen op afspraak)
DESCRIPTION:
URL:https://trefpunt.buurtbelangen-nazareth.nl/activiteit/sociaal-team-alleen-op-afspraak/2028-11-21/
LOCATION:Trefpunt Nazareth\, Kasteel Schaloenstraat 54\, Maastricht\, Limburg\, 6222 TP\, Netherlands
CATEGORIES:Welzijn
END:VEVENT
BEGIN:VEVENT
DTSTART;TZID=Europe/Amsterdam:20281122T090000
DTEND;TZID=Europe/Amsterdam:20281122T120000
DTSTAMP:20260426T023626
CREATED:20260226T223939Z
LAST-MODIFIED:20260226T223939Z
UID:10001238-1858496400-1858507200@trefpunt.buurtbelangen-nazareth.nl
SUMMARY:Wijk Service Punt Nazareth
DESCRIPTION:
URL:https://trefpunt.buurtbelangen-nazareth.nl/activiteit/wijk-service-punt-nazareth/2028-11-22/
LOCATION:Trefpunt Nazareth\, Kasteel Schaloenstraat 54\, Maastricht\, Limburg\, 6222 TP\, Netherlands
CATEGORIES:WSP
ATTACH;FMTTYPE=image/webp:https://trefpunt.buurtbelangen-nazareth.nl/wp-content/uploads/2025/10/logo-WSP-Nazareth.webp
END:VEVENT
END:VCALENDAR