BEGIN:VCALENDAR
VERSION:2.0
PRODID:-//Trefpunt Nazareth - ECPv6.15.20//NONSGML v1.0//EN
CALSCALE:GREGORIAN
METHOD:PUBLISH
X-ORIGINAL-URL:https://trefpunt.buurtbelangen-nazareth.nl
X-WR-CALDESC:Evenementen voor Trefpunt Nazareth
REFRESH-INTERVAL;VALUE=DURATION:PT1H
X-Robots-Tag:noindex
X-PUBLISHED-TTL:PT1H
BEGIN:VTIMEZONE
TZID:Europe/Amsterdam
BEGIN:DAYLIGHT
TZOFFSETFROM:+0100
TZOFFSETTO:+0200
TZNAME:CEST
DTSTART:20250330T010000
END:DAYLIGHT
BEGIN:STANDARD
TZOFFSETFROM:+0200
TZOFFSETTO:+0100
TZNAME:CET
DTSTART:20251026T010000
END:STANDARD
BEGIN:DAYLIGHT
TZOFFSETFROM:+0100
TZOFFSETTO:+0200
TZNAME:CEST
DTSTART:20260329T010000
END:DAYLIGHT
BEGIN:STANDARD
TZOFFSETFROM:+0200
TZOFFSETTO:+0100
TZNAME:CET
DTSTART:20261025T010000
END:STANDARD
BEGIN:DAYLIGHT
TZOFFSETFROM:+0100
TZOFFSETTO:+0200
TZNAME:CEST
DTSTART:20270328T010000
END:DAYLIGHT
BEGIN:STANDARD
TZOFFSETFROM:+0200
TZOFFSETTO:+0100
TZNAME:CET
DTSTART:20271031T010000
END:STANDARD
END:VTIMEZONE
BEGIN:VEVENT
DTSTART;TZID=Europe/Amsterdam:20260902T130000
DTEND;TZID=Europe/Amsterdam:20260902T170000
DTSTAMP:20260426T001656
CREATED:20260226T222703Z
LAST-MODIFIED:20260226T224058Z
UID:10000130-1788354000-1788368400@trefpunt.buurtbelangen-nazareth.nl
SUMMARY:'t Koffieheukske
DESCRIPTION:
URL:https://trefpunt.buurtbelangen-nazareth.nl/activiteit/t-koffieheukske/2026-09-02/
LOCATION:Trefpunt Nazareth\, Kasteel Schaloenstraat 54\, Maastricht\, Limburg\, 6222 TP\, Netherlands
CATEGORIES:Koffieuurtje
ATTACH;FMTTYPE=image/webp:https://trefpunt.buurtbelangen-nazareth.nl/wp-content/uploads/2025/10/Logo-Koffieheukske.webp
ORGANIZER;CN="'t Koffieheukske":MAILTO:trefpunt@buurtbelangen-nazareth.nl
END:VEVENT
BEGIN:VEVENT
DTSTART;TZID=Europe/Amsterdam:20260903T090000
DTEND;TZID=Europe/Amsterdam:20260903T130000
DTSTAMP:20260426T001656
CREATED:20260227T001601Z
LAST-MODIFIED:20260227T001601Z
UID:10001908-1788426000-1788440400@trefpunt.buurtbelangen-nazareth.nl
SUMMARY:Gemeente Maastricht
DESCRIPTION:
URL:https://trefpunt.buurtbelangen-nazareth.nl/activiteit/gemeente-maastricht/2026-09-03/
LOCATION:Trefpunt Nazareth\, Kasteel Schaloenstraat 54\, Maastricht\, Limburg\, 6222 TP\, Netherlands
CATEGORIES:Inloop
ATTACH;FMTTYPE=image/jpeg:https://trefpunt.buurtbelangen-nazareth.nl/wp-content/uploads/2026/02/Logo-maastricht.jpg
END:VEVENT
BEGIN:VEVENT
DTSTART;TZID=Europe/Amsterdam:20260903T100000
DTEND;TZID=Europe/Amsterdam:20260903T120000
DTSTAMP:20260426T001656
CREATED:20260227T002029Z
LAST-MODIFIED:20260227T002029Z
UID:10002170-1788429600-1788436800@trefpunt.buurtbelangen-nazareth.nl
SUMMARY:Inloop Trajekt
DESCRIPTION:
URL:https://trefpunt.buurtbelangen-nazareth.nl/activiteit/inloop-trajekt/2026-09-03/
LOCATION:Trefpunt Nazareth\, Kasteel Schaloenstraat 54\, Maastricht\, Limburg\, 6222 TP\, Netherlands
CATEGORIES:Inloop
ATTACH;FMTTYPE=image/webp:https://trefpunt.buurtbelangen-nazareth.nl/wp-content/uploads/2025/10/Logo-Trajekt.webp
ORGANIZER;CN="Trajekt":MAILTO:nel.knapen@trajekt.nl
END:VEVENT
BEGIN:VEVENT
DTSTART;TZID=Europe/Amsterdam:20260903T100000
DTEND;TZID=Europe/Amsterdam:20260903T120000
DTSTAMP:20260426T001656
CREATED:20260227T002323Z
LAST-MODIFIED:20260227T002323Z
UID:10002432-1788429600-1788436800@trefpunt.buurtbelangen-nazareth.nl
SUMMARY:Taalpunt Trajekt
DESCRIPTION:
URL:https://trefpunt.buurtbelangen-nazareth.nl/activiteit/taalpunt-trajekt/2026-09-03/
LOCATION:Trefpunt Nazareth\, Kasteel Schaloenstraat 54\, Maastricht\, Limburg\, 6222 TP\, Netherlands
CATEGORIES:Informatie
ATTACH;FMTTYPE=image/webp:https://trefpunt.buurtbelangen-nazareth.nl/wp-content/uploads/2025/10/Taalles.webp
ORGANIZER;CN="Trajekt":MAILTO:nel.knapen@trajekt.nl
END:VEVENT
BEGIN:VEVENT
DTSTART;TZID=Europe/Amsterdam:20260904T100000
DTEND;TZID=Europe/Amsterdam:20260904T120000
DTSTAMP:20260426T001656
CREATED:20260227T003436Z
LAST-MODIFIED:20260316T041842Z
UID:10002941-1788516000-1788523200@trefpunt.buurtbelangen-nazareth.nl
SUMMARY:Inloop Woonbelang Nazareth
DESCRIPTION:
URL:https://trefpunt.buurtbelangen-nazareth.nl/activiteit/inloop-woonbelang-nazareth/2026-09-04/
LOCATION:Trefpunt Nazareth\, Kasteel Schaloenstraat 54\, Maastricht\, Limburg\, 6222 TP\, Netherlands
CATEGORIES:Inloop
ATTACH;FMTTYPE=image/png:https://trefpunt.buurtbelangen-nazareth.nl/wp-content/uploads/2026/02/Logo-Woonbelang-Nazareth-1.png
ORGANIZER;CN="Woonbelang Nazareth":MAILTO:woonbelang.nazareth@buurtbelangen-nazareth.nl
END:VEVENT
BEGIN:VEVENT
DTSTART;TZID=Europe/Amsterdam:20260905T130000
DTEND;TZID=Europe/Amsterdam:20260905T170000
DTSTAMP:20260426T001656
CREATED:20260226T222703Z
LAST-MODIFIED:20260226T224058Z
UID:10000131-1788613200-1788627600@trefpunt.buurtbelangen-nazareth.nl
SUMMARY:'t Koffieheukske
DESCRIPTION:
URL:https://trefpunt.buurtbelangen-nazareth.nl/activiteit/t-koffieheukske/2026-09-05/
LOCATION:Trefpunt Nazareth\, Kasteel Schaloenstraat 54\, Maastricht\, Limburg\, 6222 TP\, Netherlands
CATEGORIES:Koffieuurtje
ATTACH;FMTTYPE=image/webp:https://trefpunt.buurtbelangen-nazareth.nl/wp-content/uploads/2025/10/Logo-Koffieheukske.webp
ORGANIZER;CN="'t Koffieheukske":MAILTO:trefpunt@buurtbelangen-nazareth.nl
END:VEVENT
BEGIN:VEVENT
DTSTART;TZID=Europe/Amsterdam:20260907T130000
DTEND;TZID=Europe/Amsterdam:20260907T170000
DTSTAMP:20260426T001656
CREATED:20260226T222703Z
LAST-MODIFIED:20260226T224058Z
UID:10000132-1788786000-1788800400@trefpunt.buurtbelangen-nazareth.nl
SUMMARY:'t Koffieheukske
DESCRIPTION:
URL:https://trefpunt.buurtbelangen-nazareth.nl/activiteit/t-koffieheukske/2026-09-07/
LOCATION:Trefpunt Nazareth\, Kasteel Schaloenstraat 54\, Maastricht\, Limburg\, 6222 TP\, Netherlands
CATEGORIES:Koffieuurtje
ATTACH;FMTTYPE=image/webp:https://trefpunt.buurtbelangen-nazareth.nl/wp-content/uploads/2025/10/Logo-Koffieheukske.webp
ORGANIZER;CN="'t Koffieheukske":MAILTO:trefpunt@buurtbelangen-nazareth.nl
END:VEVENT
BEGIN:VEVENT
DTSTART;TZID=Europe/Amsterdam:20260908T110000
DTEND;TZID=Europe/Amsterdam:20260908T160000
DTSTAMP:20260426T001656
CREATED:20260226T223205Z
LAST-MODIFIED:20260226T223205Z
UID:10000861-1788865200-1788883200@trefpunt.buurtbelangen-nazareth.nl
SUMMARY:Sociaal Team (alleen op afspraak)
DESCRIPTION:
URL:https://trefpunt.buurtbelangen-nazareth.nl/activiteit/sociaal-team-alleen-op-afspraak/2026-09-08/
LOCATION:Trefpunt Nazareth\, Kasteel Schaloenstraat 54\, Maastricht\, Limburg\, 6222 TP\, Netherlands
CATEGORIES:Welzijn
END:VEVENT
BEGIN:VEVENT
DTSTART;TZID=Europe/Amsterdam:20260909T090000
DTEND;TZID=Europe/Amsterdam:20260909T120000
DTSTAMP:20260426T001656
CREATED:20260226T223939Z
LAST-MODIFIED:20260226T223939Z
UID:10001123-1788944400-1788955200@trefpunt.buurtbelangen-nazareth.nl
SUMMARY:Wijk Service Punt Nazareth
DESCRIPTION:
URL:https://trefpunt.buurtbelangen-nazareth.nl/activiteit/wijk-service-punt-nazareth/2026-09-09/
LOCATION:Trefpunt Nazareth\, Kasteel Schaloenstraat 54\, Maastricht\, Limburg\, 6222 TP\, Netherlands
CATEGORIES:WSP
ATTACH;FMTTYPE=image/webp:https://trefpunt.buurtbelangen-nazareth.nl/wp-content/uploads/2025/10/logo-WSP-Nazareth.webp
END:VEVENT
BEGIN:VEVENT
DTSTART;TZID=Europe/Amsterdam:20260909T090000
DTEND;TZID=Europe/Amsterdam:20260909T120000
DTSTAMP:20260426T001656
CREATED:20260227T000511Z
LAST-MODIFIED:20260227T000511Z
UID:10001385-1788944400-1788955200@trefpunt.buurtbelangen-nazareth.nl
SUMMARY:Kredietbank Limburg
DESCRIPTION:
URL:https://trefpunt.buurtbelangen-nazareth.nl/activiteit/kredietbank-limburg/2026-09-09/
LOCATION:Trefpunt Nazareth\, Kasteel Schaloenstraat 54\, Maastricht\, Limburg\, 6222 TP\, Netherlands
CATEGORIES:Inloop
ATTACH;FMTTYPE=image/png:https://trefpunt.buurtbelangen-nazareth.nl/wp-content/uploads/2025/10/kredietbank-limburg.png
ORGANIZER;CN="Kredietbank":MAILTO:info@kblb.nl
END:VEVENT
BEGIN:VEVENT
DTSTART;TZID=Europe/Amsterdam:20260909T090000
DTEND;TZID=Europe/Amsterdam:20260909T120000
DTSTAMP:20260426T001656
CREATED:20260227T001316Z
LAST-MODIFIED:20260227T001316Z
UID:10001647-1788944400-1788955200@trefpunt.buurtbelangen-nazareth.nl
SUMMARY:Financiele coaches (Sociale Zaken)
DESCRIPTION:
URL:https://trefpunt.buurtbelangen-nazareth.nl/activiteit/financiele-coaches-sociale-zaken/2026-09-09/
LOCATION:Trefpunt Nazareth\, Kasteel Schaloenstraat 54\, Maastricht\, Limburg\, 6222 TP\, Netherlands
CATEGORIES:Inloop
ATTACH;FMTTYPE=image/webp:https://trefpunt.buurtbelangen-nazareth.nl/wp-content/uploads/2026/02/logo-sociale-zaken-maastricht.webp
ORGANIZER;CN="Sociale zaken Maastricht":MAILTO:&quot;post-socialezaken@maastpost-socialezaken@maastricht.nl
END:VEVENT
BEGIN:VEVENT
DTSTART;TZID=Europe/Amsterdam:20260909T130000
DTEND;TZID=Europe/Amsterdam:20260909T170000
DTSTAMP:20260426T001656
CREATED:20260226T222703Z
LAST-MODIFIED:20260226T224058Z
UID:10000133-1788958800-1788973200@trefpunt.buurtbelangen-nazareth.nl
SUMMARY:'t Koffieheukske
DESCRIPTION:
URL:https://trefpunt.buurtbelangen-nazareth.nl/activiteit/t-koffieheukske/2026-09-09/
LOCATION:Trefpunt Nazareth\, Kasteel Schaloenstraat 54\, Maastricht\, Limburg\, 6222 TP\, Netherlands
CATEGORIES:Koffieuurtje
ATTACH;FMTTYPE=image/webp:https://trefpunt.buurtbelangen-nazareth.nl/wp-content/uploads/2025/10/Logo-Koffieheukske.webp
ORGANIZER;CN="'t Koffieheukske":MAILTO:trefpunt@buurtbelangen-nazareth.nl
END:VEVENT
BEGIN:VEVENT
DTSTART;TZID=Europe/Amsterdam:20260910T090000
DTEND;TZID=Europe/Amsterdam:20260910T130000
DTSTAMP:20260426T001656
CREATED:20260227T001601Z
LAST-MODIFIED:20260227T001601Z
UID:10001909-1789030800-1789045200@trefpunt.buurtbelangen-nazareth.nl
SUMMARY:Gemeente Maastricht
DESCRIPTION:
URL:https://trefpunt.buurtbelangen-nazareth.nl/activiteit/gemeente-maastricht/2026-09-10/
LOCATION:Trefpunt Nazareth\, Kasteel Schaloenstraat 54\, Maastricht\, Limburg\, 6222 TP\, Netherlands
CATEGORIES:Inloop
ATTACH;FMTTYPE=image/jpeg:https://trefpunt.buurtbelangen-nazareth.nl/wp-content/uploads/2026/02/Logo-maastricht.jpg
END:VEVENT
BEGIN:VEVENT
DTSTART;TZID=Europe/Amsterdam:20260910T100000
DTEND;TZID=Europe/Amsterdam:20260910T120000
DTSTAMP:20260426T001656
CREATED:20260227T002029Z
LAST-MODIFIED:20260227T002029Z
UID:10002171-1789034400-1789041600@trefpunt.buurtbelangen-nazareth.nl
SUMMARY:Inloop Trajekt
DESCRIPTION:
URL:https://trefpunt.buurtbelangen-nazareth.nl/activiteit/inloop-trajekt/2026-09-10/
LOCATION:Trefpunt Nazareth\, Kasteel Schaloenstraat 54\, Maastricht\, Limburg\, 6222 TP\, Netherlands
CATEGORIES:Inloop
ATTACH;FMTTYPE=image/webp:https://trefpunt.buurtbelangen-nazareth.nl/wp-content/uploads/2025/10/Logo-Trajekt.webp
ORGANIZER;CN="Trajekt":MAILTO:nel.knapen@trajekt.nl
END:VEVENT
BEGIN:VEVENT
DTSTART;TZID=Europe/Amsterdam:20260910T100000
DTEND;TZID=Europe/Amsterdam:20260910T120000
DTSTAMP:20260426T001656
CREATED:20260227T002323Z
LAST-MODIFIED:20260227T002323Z
UID:10002433-1789034400-1789041600@trefpunt.buurtbelangen-nazareth.nl
SUMMARY:Taalpunt Trajekt
DESCRIPTION:
URL:https://trefpunt.buurtbelangen-nazareth.nl/activiteit/taalpunt-trajekt/2026-09-10/
LOCATION:Trefpunt Nazareth\, Kasteel Schaloenstraat 54\, Maastricht\, Limburg\, 6222 TP\, Netherlands
CATEGORIES:Informatie
ATTACH;FMTTYPE=image/webp:https://trefpunt.buurtbelangen-nazareth.nl/wp-content/uploads/2025/10/Taalles.webp
ORGANIZER;CN="Trajekt":MAILTO:nel.knapen@trajekt.nl
END:VEVENT
BEGIN:VEVENT
DTSTART;TZID=Europe/Amsterdam:20260911T090000
DTEND;TZID=Europe/Amsterdam:20260911T130000
DTSTAMP:20260426T001656
CREATED:20260227T002731Z
LAST-MODIFIED:20260307T100221Z
UID:10002680-1789117200-1789131600@trefpunt.buurtbelangen-nazareth.nl
SUMMARY:hobby & Handwerkclubje
DESCRIPTION:
URL:https://trefpunt.buurtbelangen-nazareth.nl/activiteit/hobby-handwerkclubje/2026-09-11/
LOCATION:Trefpunt Nazareth\, Kasteel Schaloenstraat 54\, Maastricht\, Limburg\, 6222 TP\, Netherlands
CATEGORIES:Knutsellen
ATTACH;FMTTYPE=image/jpeg:https://trefpunt.buurtbelangen-nazareth.nl/wp-content/uploads/2026/02/Hobby-voonk.jpeg
END:VEVENT
BEGIN:VEVENT
DTSTART;TZID=Europe/Amsterdam:20260911T090000
DTEND;TZID=Europe/Amsterdam:20260911T130000
DTSTAMP:20260426T001656
CREATED:20260227T002913Z
LAST-MODIFIED:20260227T003046Z
UID:10002811-1789117200-1789131600@trefpunt.buurtbelangen-nazareth.nl
SUMMARY:Inloop Voonk
DESCRIPTION:
URL:https://trefpunt.buurtbelangen-nazareth.nl/activiteit/inloop-voonk/2026-09-11/
LOCATION:Trefpunt Nazareth\, Kasteel Schaloenstraat 54\, Maastricht\, Limburg\, 6222 TP\, Netherlands
CATEGORIES:Inloop
ATTACH;FMTTYPE=image/webp:https://trefpunt.buurtbelangen-nazareth.nl/wp-content/uploads/2025/10/Voonk.webp
END:VEVENT
BEGIN:VEVENT
DTSTART;TZID=Europe/Amsterdam:20260912T130000
DTEND;TZID=Europe/Amsterdam:20260912T170000
DTSTAMP:20260426T001656
CREATED:20260226T222703Z
LAST-MODIFIED:20260226T224058Z
UID:10000134-1789218000-1789232400@trefpunt.buurtbelangen-nazareth.nl
SUMMARY:'t Koffieheukske
DESCRIPTION:
URL:https://trefpunt.buurtbelangen-nazareth.nl/activiteit/t-koffieheukske/2026-09-12/
LOCATION:Trefpunt Nazareth\, Kasteel Schaloenstraat 54\, Maastricht\, Limburg\, 6222 TP\, Netherlands
CATEGORIES:Koffieuurtje
ATTACH;FMTTYPE=image/webp:https://trefpunt.buurtbelangen-nazareth.nl/wp-content/uploads/2025/10/Logo-Koffieheukske.webp
ORGANIZER;CN="'t Koffieheukske":MAILTO:trefpunt@buurtbelangen-nazareth.nl
END:VEVENT
BEGIN:VEVENT
DTSTART;TZID=Europe/Amsterdam:20260914T130000
DTEND;TZID=Europe/Amsterdam:20260914T170000
DTSTAMP:20260426T001656
CREATED:20260226T222703Z
LAST-MODIFIED:20260226T224058Z
UID:10000135-1789390800-1789405200@trefpunt.buurtbelangen-nazareth.nl
SUMMARY:'t Koffieheukske
DESCRIPTION:
URL:https://trefpunt.buurtbelangen-nazareth.nl/activiteit/t-koffieheukske/2026-09-14/
LOCATION:Trefpunt Nazareth\, Kasteel Schaloenstraat 54\, Maastricht\, Limburg\, 6222 TP\, Netherlands
CATEGORIES:Koffieuurtje
ATTACH;FMTTYPE=image/webp:https://trefpunt.buurtbelangen-nazareth.nl/wp-content/uploads/2025/10/Logo-Koffieheukske.webp
ORGANIZER;CN="'t Koffieheukske":MAILTO:trefpunt@buurtbelangen-nazareth.nl
END:VEVENT
BEGIN:VEVENT
DTSTART;TZID=Europe/Amsterdam:20260915T110000
DTEND;TZID=Europe/Amsterdam:20260915T160000
DTSTAMP:20260426T001656
CREATED:20260226T223205Z
LAST-MODIFIED:20260226T223205Z
UID:10000862-1789470000-1789488000@trefpunt.buurtbelangen-nazareth.nl
SUMMARY:Sociaal Team (alleen op afspraak)
DESCRIPTION:
URL:https://trefpunt.buurtbelangen-nazareth.nl/activiteit/sociaal-team-alleen-op-afspraak/2026-09-15/
LOCATION:Trefpunt Nazareth\, Kasteel Schaloenstraat 54\, Maastricht\, Limburg\, 6222 TP\, Netherlands
CATEGORIES:Welzijn
END:VEVENT
BEGIN:VEVENT
DTSTART;TZID=Europe/Amsterdam:20260916T090000
DTEND;TZID=Europe/Amsterdam:20260916T120000
DTSTAMP:20260426T001656
CREATED:20260226T223939Z
LAST-MODIFIED:20260226T223939Z
UID:10001124-1789549200-1789560000@trefpunt.buurtbelangen-nazareth.nl
SUMMARY:Wijk Service Punt Nazareth
DESCRIPTION:
URL:https://trefpunt.buurtbelangen-nazareth.nl/activiteit/wijk-service-punt-nazareth/2026-09-16/
LOCATION:Trefpunt Nazareth\, Kasteel Schaloenstraat 54\, Maastricht\, Limburg\, 6222 TP\, Netherlands
CATEGORIES:WSP
ATTACH;FMTTYPE=image/webp:https://trefpunt.buurtbelangen-nazareth.nl/wp-content/uploads/2025/10/logo-WSP-Nazareth.webp
END:VEVENT
BEGIN:VEVENT
DTSTART;TZID=Europe/Amsterdam:20260916T090000
DTEND;TZID=Europe/Amsterdam:20260916T120000
DTSTAMP:20260426T001656
CREATED:20260227T000511Z
LAST-MODIFIED:20260227T000511Z
UID:10001386-1789549200-1789560000@trefpunt.buurtbelangen-nazareth.nl
SUMMARY:Kredietbank Limburg
DESCRIPTION:
URL:https://trefpunt.buurtbelangen-nazareth.nl/activiteit/kredietbank-limburg/2026-09-16/
LOCATION:Trefpunt Nazareth\, Kasteel Schaloenstraat 54\, Maastricht\, Limburg\, 6222 TP\, Netherlands
CATEGORIES:Inloop
ATTACH;FMTTYPE=image/png:https://trefpunt.buurtbelangen-nazareth.nl/wp-content/uploads/2025/10/kredietbank-limburg.png
ORGANIZER;CN="Kredietbank":MAILTO:info@kblb.nl
END:VEVENT
BEGIN:VEVENT
DTSTART;TZID=Europe/Amsterdam:20260916T090000
DTEND;TZID=Europe/Amsterdam:20260916T120000
DTSTAMP:20260426T001656
CREATED:20260227T001316Z
LAST-MODIFIED:20260227T001316Z
UID:10001648-1789549200-1789560000@trefpunt.buurtbelangen-nazareth.nl
SUMMARY:Financiele coaches (Sociale Zaken)
DESCRIPTION:
URL:https://trefpunt.buurtbelangen-nazareth.nl/activiteit/financiele-coaches-sociale-zaken/2026-09-16/
LOCATION:Trefpunt Nazareth\, Kasteel Schaloenstraat 54\, Maastricht\, Limburg\, 6222 TP\, Netherlands
CATEGORIES:Inloop
ATTACH;FMTTYPE=image/webp:https://trefpunt.buurtbelangen-nazareth.nl/wp-content/uploads/2026/02/logo-sociale-zaken-maastricht.webp
ORGANIZER;CN="Sociale zaken Maastricht":MAILTO:&quot;post-socialezaken@maastpost-socialezaken@maastricht.nl
END:VEVENT
BEGIN:VEVENT
DTSTART;TZID=Europe/Amsterdam:20260916T130000
DTEND;TZID=Europe/Amsterdam:20260916T170000
DTSTAMP:20260426T001656
CREATED:20260226T222703Z
LAST-MODIFIED:20260226T224058Z
UID:10000136-1789563600-1789578000@trefpunt.buurtbelangen-nazareth.nl
SUMMARY:'t Koffieheukske
DESCRIPTION:
URL:https://trefpunt.buurtbelangen-nazareth.nl/activiteit/t-koffieheukske/2026-09-16/
LOCATION:Trefpunt Nazareth\, Kasteel Schaloenstraat 54\, Maastricht\, Limburg\, 6222 TP\, Netherlands
CATEGORIES:Koffieuurtje
ATTACH;FMTTYPE=image/webp:https://trefpunt.buurtbelangen-nazareth.nl/wp-content/uploads/2025/10/Logo-Koffieheukske.webp
ORGANIZER;CN="'t Koffieheukske":MAILTO:trefpunt@buurtbelangen-nazareth.nl
END:VEVENT
BEGIN:VEVENT
DTSTART;TZID=Europe/Amsterdam:20260917T090000
DTEND;TZID=Europe/Amsterdam:20260917T130000
DTSTAMP:20260426T001657
CREATED:20260227T001601Z
LAST-MODIFIED:20260227T001601Z
UID:10001910-1789635600-1789650000@trefpunt.buurtbelangen-nazareth.nl
SUMMARY:Gemeente Maastricht
DESCRIPTION:
URL:https://trefpunt.buurtbelangen-nazareth.nl/activiteit/gemeente-maastricht/2026-09-17/
LOCATION:Trefpunt Nazareth\, Kasteel Schaloenstraat 54\, Maastricht\, Limburg\, 6222 TP\, Netherlands
CATEGORIES:Inloop
ATTACH;FMTTYPE=image/jpeg:https://trefpunt.buurtbelangen-nazareth.nl/wp-content/uploads/2026/02/Logo-maastricht.jpg
END:VEVENT
BEGIN:VEVENT
DTSTART;TZID=Europe/Amsterdam:20260917T100000
DTEND;TZID=Europe/Amsterdam:20260917T120000
DTSTAMP:20260426T001657
CREATED:20260227T002029Z
LAST-MODIFIED:20260227T002029Z
UID:10002172-1789639200-1789646400@trefpunt.buurtbelangen-nazareth.nl
SUMMARY:Inloop Trajekt
DESCRIPTION:
URL:https://trefpunt.buurtbelangen-nazareth.nl/activiteit/inloop-trajekt/2026-09-17/
LOCATION:Trefpunt Nazareth\, Kasteel Schaloenstraat 54\, Maastricht\, Limburg\, 6222 TP\, Netherlands
CATEGORIES:Inloop
ATTACH;FMTTYPE=image/webp:https://trefpunt.buurtbelangen-nazareth.nl/wp-content/uploads/2025/10/Logo-Trajekt.webp
ORGANIZER;CN="Trajekt":MAILTO:nel.knapen@trajekt.nl
END:VEVENT
BEGIN:VEVENT
DTSTART;TZID=Europe/Amsterdam:20260917T100000
DTEND;TZID=Europe/Amsterdam:20260917T120000
DTSTAMP:20260426T001657
CREATED:20260227T002323Z
LAST-MODIFIED:20260227T002323Z
UID:10002434-1789639200-1789646400@trefpunt.buurtbelangen-nazareth.nl
SUMMARY:Taalpunt Trajekt
DESCRIPTION:
URL:https://trefpunt.buurtbelangen-nazareth.nl/activiteit/taalpunt-trajekt/2026-09-17/
LOCATION:Trefpunt Nazareth\, Kasteel Schaloenstraat 54\, Maastricht\, Limburg\, 6222 TP\, Netherlands
CATEGORIES:Informatie
ATTACH;FMTTYPE=image/webp:https://trefpunt.buurtbelangen-nazareth.nl/wp-content/uploads/2025/10/Taalles.webp
ORGANIZER;CN="Trajekt":MAILTO:nel.knapen@trajekt.nl
END:VEVENT
BEGIN:VEVENT
DTSTART;TZID=Europe/Amsterdam:20260918T100000
DTEND;TZID=Europe/Amsterdam:20260918T120000
DTSTAMP:20260426T001657
CREATED:20260227T003436Z
LAST-MODIFIED:20260316T041842Z
UID:10002942-1789725600-1789732800@trefpunt.buurtbelangen-nazareth.nl
SUMMARY:Inloop Woonbelang Nazareth
DESCRIPTION:
URL:https://trefpunt.buurtbelangen-nazareth.nl/activiteit/inloop-woonbelang-nazareth/2026-09-18/
LOCATION:Trefpunt Nazareth\, Kasteel Schaloenstraat 54\, Maastricht\, Limburg\, 6222 TP\, Netherlands
CATEGORIES:Inloop
ATTACH;FMTTYPE=image/png:https://trefpunt.buurtbelangen-nazareth.nl/wp-content/uploads/2026/02/Logo-Woonbelang-Nazareth-1.png
ORGANIZER;CN="Woonbelang Nazareth":MAILTO:woonbelang.nazareth@buurtbelangen-nazareth.nl
END:VEVENT
BEGIN:VEVENT
DTSTART;TZID=Europe/Amsterdam:20260919T130000
DTEND;TZID=Europe/Amsterdam:20260919T170000
DTSTAMP:20260426T001657
CREATED:20260226T222703Z
LAST-MODIFIED:20260226T224058Z
UID:10000137-1789822800-1789837200@trefpunt.buurtbelangen-nazareth.nl
SUMMARY:'t Koffieheukske
DESCRIPTION:
URL:https://trefpunt.buurtbelangen-nazareth.nl/activiteit/t-koffieheukske/2026-09-19/
LOCATION:Trefpunt Nazareth\, Kasteel Schaloenstraat 54\, Maastricht\, Limburg\, 6222 TP\, Netherlands
CATEGORIES:Koffieuurtje
ATTACH;FMTTYPE=image/webp:https://trefpunt.buurtbelangen-nazareth.nl/wp-content/uploads/2025/10/Logo-Koffieheukske.webp
ORGANIZER;CN="'t Koffieheukske":MAILTO:trefpunt@buurtbelangen-nazareth.nl
END:VEVENT
BEGIN:VEVENT
DTSTART;TZID=Europe/Amsterdam:20260921T130000
DTEND;TZID=Europe/Amsterdam:20260921T170000
DTSTAMP:20260426T001657
CREATED:20260226T222703Z
LAST-MODIFIED:20260226T224058Z
UID:10000138-1789995600-1790010000@trefpunt.buurtbelangen-nazareth.nl
SUMMARY:'t Koffieheukske
DESCRIPTION:
URL:https://trefpunt.buurtbelangen-nazareth.nl/activiteit/t-koffieheukske/2026-09-21/
LOCATION:Trefpunt Nazareth\, Kasteel Schaloenstraat 54\, Maastricht\, Limburg\, 6222 TP\, Netherlands
CATEGORIES:Koffieuurtje
ATTACH;FMTTYPE=image/webp:https://trefpunt.buurtbelangen-nazareth.nl/wp-content/uploads/2025/10/Logo-Koffieheukske.webp
ORGANIZER;CN="'t Koffieheukske":MAILTO:trefpunt@buurtbelangen-nazareth.nl
END:VEVENT
END:VCALENDAR