BEGIN:VCALENDAR
VERSION:2.0
PRODID:-//Trefpunt Nazareth - ECPv6.15.20//NONSGML v1.0//EN
CALSCALE:GREGORIAN
METHOD:PUBLISH
X-WR-CALNAME:Trefpunt Nazareth
X-ORIGINAL-URL:https://trefpunt.buurtbelangen-nazareth.nl
X-WR-CALDESC:Evenementen voor Trefpunt Nazareth
REFRESH-INTERVAL;VALUE=DURATION:PT1H
X-Robots-Tag:noindex
X-PUBLISHED-TTL:PT1H
BEGIN:VTIMEZONE
TZID:Europe/Amsterdam
BEGIN:DAYLIGHT
TZOFFSETFROM:+0100
TZOFFSETTO:+0200
TZNAME:CEST
DTSTART:20290325T010000
END:DAYLIGHT
BEGIN:STANDARD
TZOFFSETFROM:+0200
TZOFFSETTO:+0100
TZNAME:CET
DTSTART:20291028T010000
END:STANDARD
BEGIN:DAYLIGHT
TZOFFSETFROM:+0100
TZOFFSETTO:+0200
TZNAME:CEST
DTSTART:20300331T010000
END:DAYLIGHT
BEGIN:STANDARD
TZOFFSETFROM:+0200
TZOFFSETTO:+0100
TZNAME:CET
DTSTART:20301027T010000
END:STANDARD
BEGIN:DAYLIGHT
TZOFFSETFROM:+0100
TZOFFSETTO:+0200
TZNAME:CEST
DTSTART:20310330T010000
END:DAYLIGHT
BEGIN:STANDARD
TZOFFSETFROM:+0200
TZOFFSETTO:+0100
TZNAME:CET
DTSTART:20311026T010000
END:STANDARD
BEGIN:DAYLIGHT
TZOFFSETFROM:+0100
TZOFFSETTO:+0200
TZNAME:CEST
DTSTART:20320328T010000
END:DAYLIGHT
BEGIN:STANDARD
TZOFFSETFROM:+0200
TZOFFSETTO:+0100
TZNAME:CET
DTSTART:20321031T010000
END:STANDARD
END:VTIMEZONE
BEGIN:VEVENT
DTSTART;TZID=Europe/Amsterdam:20300620T090000
DTEND;TZID=Europe/Amsterdam:20300620T130000
DTSTAMP:20260425T005131
CREATED:20260227T001601Z
LAST-MODIFIED:20260227T001601Z
UID:10002106-1908176400-1908190800@trefpunt.buurtbelangen-nazareth.nl
SUMMARY:Gemeente Maastricht
DESCRIPTION:
URL:https://trefpunt.buurtbelangen-nazareth.nl/activiteit/gemeente-maastricht/2030-06-20/
LOCATION:Trefpunt Nazareth\, Kasteel Schaloenstraat 54\, Maastricht\, Limburg\, 6222 TP\, Netherlands
CATEGORIES:Inloop
ATTACH;FMTTYPE=image/jpeg:https://trefpunt.buurtbelangen-nazareth.nl/wp-content/uploads/2026/02/Logo-maastricht.jpg
END:VEVENT
BEGIN:VEVENT
DTSTART;TZID=Europe/Amsterdam:20300627T090000
DTEND;TZID=Europe/Amsterdam:20300627T130000
DTSTAMP:20260425T005131
CREATED:20260227T001601Z
LAST-MODIFIED:20260227T001601Z
UID:10002107-1908781200-1908795600@trefpunt.buurtbelangen-nazareth.nl
SUMMARY:Gemeente Maastricht
DESCRIPTION:
URL:https://trefpunt.buurtbelangen-nazareth.nl/activiteit/gemeente-maastricht/2030-06-27/
LOCATION:Trefpunt Nazareth\, Kasteel Schaloenstraat 54\, Maastricht\, Limburg\, 6222 TP\, Netherlands
CATEGORIES:Inloop
ATTACH;FMTTYPE=image/jpeg:https://trefpunt.buurtbelangen-nazareth.nl/wp-content/uploads/2026/02/Logo-maastricht.jpg
END:VEVENT
BEGIN:VEVENT
DTSTART;TZID=Europe/Amsterdam:20300704T090000
DTEND;TZID=Europe/Amsterdam:20300704T130000
DTSTAMP:20260425T005131
CREATED:20260227T001601Z
LAST-MODIFIED:20260227T001601Z
UID:10002108-1909386000-1909400400@trefpunt.buurtbelangen-nazareth.nl
SUMMARY:Gemeente Maastricht
DESCRIPTION:
URL:https://trefpunt.buurtbelangen-nazareth.nl/activiteit/gemeente-maastricht/2030-07-04/
LOCATION:Trefpunt Nazareth\, Kasteel Schaloenstraat 54\, Maastricht\, Limburg\, 6222 TP\, Netherlands
CATEGORIES:Inloop
ATTACH;FMTTYPE=image/jpeg:https://trefpunt.buurtbelangen-nazareth.nl/wp-content/uploads/2026/02/Logo-maastricht.jpg
END:VEVENT
BEGIN:VEVENT
DTSTART;TZID=Europe/Amsterdam:20300711T090000
DTEND;TZID=Europe/Amsterdam:20300711T130000
DTSTAMP:20260425T005131
CREATED:20260227T001601Z
LAST-MODIFIED:20260227T001601Z
UID:10002109-1909990800-1910005200@trefpunt.buurtbelangen-nazareth.nl
SUMMARY:Gemeente Maastricht
DESCRIPTION:
URL:https://trefpunt.buurtbelangen-nazareth.nl/activiteit/gemeente-maastricht/2030-07-11/
LOCATION:Trefpunt Nazareth\, Kasteel Schaloenstraat 54\, Maastricht\, Limburg\, 6222 TP\, Netherlands
CATEGORIES:Inloop
ATTACH;FMTTYPE=image/jpeg:https://trefpunt.buurtbelangen-nazareth.nl/wp-content/uploads/2026/02/Logo-maastricht.jpg
END:VEVENT
BEGIN:VEVENT
DTSTART;TZID=Europe/Amsterdam:20300718T090000
DTEND;TZID=Europe/Amsterdam:20300718T130000
DTSTAMP:20260425T005131
CREATED:20260227T001601Z
LAST-MODIFIED:20260227T001601Z
UID:10002110-1910595600-1910610000@trefpunt.buurtbelangen-nazareth.nl
SUMMARY:Gemeente Maastricht
DESCRIPTION:
URL:https://trefpunt.buurtbelangen-nazareth.nl/activiteit/gemeente-maastricht/2030-07-18/
LOCATION:Trefpunt Nazareth\, Kasteel Schaloenstraat 54\, Maastricht\, Limburg\, 6222 TP\, Netherlands
CATEGORIES:Inloop
ATTACH;FMTTYPE=image/jpeg:https://trefpunt.buurtbelangen-nazareth.nl/wp-content/uploads/2026/02/Logo-maastricht.jpg
END:VEVENT
BEGIN:VEVENT
DTSTART;TZID=Europe/Amsterdam:20300725T090000
DTEND;TZID=Europe/Amsterdam:20300725T130000
DTSTAMP:20260425T005131
CREATED:20260227T001601Z
LAST-MODIFIED:20260227T001601Z
UID:10002111-1911200400-1911214800@trefpunt.buurtbelangen-nazareth.nl
SUMMARY:Gemeente Maastricht
DESCRIPTION:
URL:https://trefpunt.buurtbelangen-nazareth.nl/activiteit/gemeente-maastricht/2030-07-25/
LOCATION:Trefpunt Nazareth\, Kasteel Schaloenstraat 54\, Maastricht\, Limburg\, 6222 TP\, Netherlands
CATEGORIES:Inloop
ATTACH;FMTTYPE=image/jpeg:https://trefpunt.buurtbelangen-nazareth.nl/wp-content/uploads/2026/02/Logo-maastricht.jpg
END:VEVENT
BEGIN:VEVENT
DTSTART;TZID=Europe/Amsterdam:20300801T090000
DTEND;TZID=Europe/Amsterdam:20300801T130000
DTSTAMP:20260425T005131
CREATED:20260227T001601Z
LAST-MODIFIED:20260227T001601Z
UID:10002112-1911805200-1911819600@trefpunt.buurtbelangen-nazareth.nl
SUMMARY:Gemeente Maastricht
DESCRIPTION:
URL:https://trefpunt.buurtbelangen-nazareth.nl/activiteit/gemeente-maastricht/2030-08-01/
LOCATION:Trefpunt Nazareth\, Kasteel Schaloenstraat 54\, Maastricht\, Limburg\, 6222 TP\, Netherlands
CATEGORIES:Inloop
ATTACH;FMTTYPE=image/jpeg:https://trefpunt.buurtbelangen-nazareth.nl/wp-content/uploads/2026/02/Logo-maastricht.jpg
END:VEVENT
BEGIN:VEVENT
DTSTART;TZID=Europe/Amsterdam:20300808T090000
DTEND;TZID=Europe/Amsterdam:20300808T130000
DTSTAMP:20260425T005131
CREATED:20260227T001601Z
LAST-MODIFIED:20260227T001601Z
UID:10002113-1912410000-1912424400@trefpunt.buurtbelangen-nazareth.nl
SUMMARY:Gemeente Maastricht
DESCRIPTION:
URL:https://trefpunt.buurtbelangen-nazareth.nl/activiteit/gemeente-maastricht/2030-08-08/
LOCATION:Trefpunt Nazareth\, Kasteel Schaloenstraat 54\, Maastricht\, Limburg\, 6222 TP\, Netherlands
CATEGORIES:Inloop
ATTACH;FMTTYPE=image/jpeg:https://trefpunt.buurtbelangen-nazareth.nl/wp-content/uploads/2026/02/Logo-maastricht.jpg
END:VEVENT
BEGIN:VEVENT
DTSTART;TZID=Europe/Amsterdam:20300815T090000
DTEND;TZID=Europe/Amsterdam:20300815T130000
DTSTAMP:20260425T005131
CREATED:20260227T001601Z
LAST-MODIFIED:20260227T001601Z
UID:10002114-1913014800-1913029200@trefpunt.buurtbelangen-nazareth.nl
SUMMARY:Gemeente Maastricht
DESCRIPTION:
URL:https://trefpunt.buurtbelangen-nazareth.nl/activiteit/gemeente-maastricht/2030-08-15/
LOCATION:Trefpunt Nazareth\, Kasteel Schaloenstraat 54\, Maastricht\, Limburg\, 6222 TP\, Netherlands
CATEGORIES:Inloop
ATTACH;FMTTYPE=image/jpeg:https://trefpunt.buurtbelangen-nazareth.nl/wp-content/uploads/2026/02/Logo-maastricht.jpg
END:VEVENT
BEGIN:VEVENT
DTSTART;TZID=Europe/Amsterdam:20300822T090000
DTEND;TZID=Europe/Amsterdam:20300822T130000
DTSTAMP:20260425T005131
CREATED:20260227T001601Z
LAST-MODIFIED:20260227T001601Z
UID:10002115-1913619600-1913634000@trefpunt.buurtbelangen-nazareth.nl
SUMMARY:Gemeente Maastricht
DESCRIPTION:
URL:https://trefpunt.buurtbelangen-nazareth.nl/activiteit/gemeente-maastricht/2030-08-22/
LOCATION:Trefpunt Nazareth\, Kasteel Schaloenstraat 54\, Maastricht\, Limburg\, 6222 TP\, Netherlands
CATEGORIES:Inloop
ATTACH;FMTTYPE=image/jpeg:https://trefpunt.buurtbelangen-nazareth.nl/wp-content/uploads/2026/02/Logo-maastricht.jpg
END:VEVENT
BEGIN:VEVENT
DTSTART;TZID=Europe/Amsterdam:20300829T090000
DTEND;TZID=Europe/Amsterdam:20300829T130000
DTSTAMP:20260425T005131
CREATED:20260227T001601Z
LAST-MODIFIED:20260227T001601Z
UID:10002116-1914224400-1914238800@trefpunt.buurtbelangen-nazareth.nl
SUMMARY:Gemeente Maastricht
DESCRIPTION:
URL:https://trefpunt.buurtbelangen-nazareth.nl/activiteit/gemeente-maastricht/2030-08-29/
LOCATION:Trefpunt Nazareth\, Kasteel Schaloenstraat 54\, Maastricht\, Limburg\, 6222 TP\, Netherlands
CATEGORIES:Inloop
ATTACH;FMTTYPE=image/jpeg:https://trefpunt.buurtbelangen-nazareth.nl/wp-content/uploads/2026/02/Logo-maastricht.jpg
END:VEVENT
BEGIN:VEVENT
DTSTART;TZID=Europe/Amsterdam:20300905T090000
DTEND;TZID=Europe/Amsterdam:20300905T130000
DTSTAMP:20260425T005131
CREATED:20260227T001601Z
LAST-MODIFIED:20260227T001601Z
UID:10002117-1914829200-1914843600@trefpunt.buurtbelangen-nazareth.nl
SUMMARY:Gemeente Maastricht
DESCRIPTION:
URL:https://trefpunt.buurtbelangen-nazareth.nl/activiteit/gemeente-maastricht/2030-09-05/
LOCATION:Trefpunt Nazareth\, Kasteel Schaloenstraat 54\, Maastricht\, Limburg\, 6222 TP\, Netherlands
CATEGORIES:Inloop
ATTACH;FMTTYPE=image/jpeg:https://trefpunt.buurtbelangen-nazareth.nl/wp-content/uploads/2026/02/Logo-maastricht.jpg
END:VEVENT
BEGIN:VEVENT
DTSTART;TZID=Europe/Amsterdam:20300912T090000
DTEND;TZID=Europe/Amsterdam:20300912T130000
DTSTAMP:20260425T005131
CREATED:20260227T001601Z
LAST-MODIFIED:20260227T001601Z
UID:10002118-1915434000-1915448400@trefpunt.buurtbelangen-nazareth.nl
SUMMARY:Gemeente Maastricht
DESCRIPTION:
URL:https://trefpunt.buurtbelangen-nazareth.nl/activiteit/gemeente-maastricht/2030-09-12/
LOCATION:Trefpunt Nazareth\, Kasteel Schaloenstraat 54\, Maastricht\, Limburg\, 6222 TP\, Netherlands
CATEGORIES:Inloop
ATTACH;FMTTYPE=image/jpeg:https://trefpunt.buurtbelangen-nazareth.nl/wp-content/uploads/2026/02/Logo-maastricht.jpg
END:VEVENT
BEGIN:VEVENT
DTSTART;TZID=Europe/Amsterdam:20300919T090000
DTEND;TZID=Europe/Amsterdam:20300919T130000
DTSTAMP:20260425T005131
CREATED:20260227T001601Z
LAST-MODIFIED:20260227T001601Z
UID:10002119-1916038800-1916053200@trefpunt.buurtbelangen-nazareth.nl
SUMMARY:Gemeente Maastricht
DESCRIPTION:
URL:https://trefpunt.buurtbelangen-nazareth.nl/activiteit/gemeente-maastricht/2030-09-19/
LOCATION:Trefpunt Nazareth\, Kasteel Schaloenstraat 54\, Maastricht\, Limburg\, 6222 TP\, Netherlands
CATEGORIES:Inloop
ATTACH;FMTTYPE=image/jpeg:https://trefpunt.buurtbelangen-nazareth.nl/wp-content/uploads/2026/02/Logo-maastricht.jpg
END:VEVENT
BEGIN:VEVENT
DTSTART;TZID=Europe/Amsterdam:20300926T090000
DTEND;TZID=Europe/Amsterdam:20300926T130000
DTSTAMP:20260425T005131
CREATED:20260227T001601Z
LAST-MODIFIED:20260227T001601Z
UID:10002120-1916643600-1916658000@trefpunt.buurtbelangen-nazareth.nl
SUMMARY:Gemeente Maastricht
DESCRIPTION:
URL:https://trefpunt.buurtbelangen-nazareth.nl/activiteit/gemeente-maastricht/2030-09-26/
LOCATION:Trefpunt Nazareth\, Kasteel Schaloenstraat 54\, Maastricht\, Limburg\, 6222 TP\, Netherlands
CATEGORIES:Inloop
ATTACH;FMTTYPE=image/jpeg:https://trefpunt.buurtbelangen-nazareth.nl/wp-content/uploads/2026/02/Logo-maastricht.jpg
END:VEVENT
BEGIN:VEVENT
DTSTART;TZID=Europe/Amsterdam:20301003T090000
DTEND;TZID=Europe/Amsterdam:20301003T130000
DTSTAMP:20260425T005131
CREATED:20260227T001601Z
LAST-MODIFIED:20260227T001601Z
UID:10002121-1917248400-1917262800@trefpunt.buurtbelangen-nazareth.nl
SUMMARY:Gemeente Maastricht
DESCRIPTION:
URL:https://trefpunt.buurtbelangen-nazareth.nl/activiteit/gemeente-maastricht/2030-10-03/
LOCATION:Trefpunt Nazareth\, Kasteel Schaloenstraat 54\, Maastricht\, Limburg\, 6222 TP\, Netherlands
CATEGORIES:Inloop
ATTACH;FMTTYPE=image/jpeg:https://trefpunt.buurtbelangen-nazareth.nl/wp-content/uploads/2026/02/Logo-maastricht.jpg
END:VEVENT
BEGIN:VEVENT
DTSTART;TZID=Europe/Amsterdam:20301010T090000
DTEND;TZID=Europe/Amsterdam:20301010T130000
DTSTAMP:20260425T005131
CREATED:20260227T001601Z
LAST-MODIFIED:20260227T001601Z
UID:10002122-1917853200-1917867600@trefpunt.buurtbelangen-nazareth.nl
SUMMARY:Gemeente Maastricht
DESCRIPTION:
URL:https://trefpunt.buurtbelangen-nazareth.nl/activiteit/gemeente-maastricht/2030-10-10/
LOCATION:Trefpunt Nazareth\, Kasteel Schaloenstraat 54\, Maastricht\, Limburg\, 6222 TP\, Netherlands
CATEGORIES:Inloop
ATTACH;FMTTYPE=image/jpeg:https://trefpunt.buurtbelangen-nazareth.nl/wp-content/uploads/2026/02/Logo-maastricht.jpg
END:VEVENT
BEGIN:VEVENT
DTSTART;TZID=Europe/Amsterdam:20301017T090000
DTEND;TZID=Europe/Amsterdam:20301017T130000
DTSTAMP:20260425T005131
CREATED:20260227T001601Z
LAST-MODIFIED:20260227T001601Z
UID:10002123-1918458000-1918472400@trefpunt.buurtbelangen-nazareth.nl
SUMMARY:Gemeente Maastricht
DESCRIPTION:
URL:https://trefpunt.buurtbelangen-nazareth.nl/activiteit/gemeente-maastricht/2030-10-17/
LOCATION:Trefpunt Nazareth\, Kasteel Schaloenstraat 54\, Maastricht\, Limburg\, 6222 TP\, Netherlands
CATEGORIES:Inloop
ATTACH;FMTTYPE=image/jpeg:https://trefpunt.buurtbelangen-nazareth.nl/wp-content/uploads/2026/02/Logo-maastricht.jpg
END:VEVENT
BEGIN:VEVENT
DTSTART;TZID=Europe/Amsterdam:20301024T090000
DTEND;TZID=Europe/Amsterdam:20301024T130000
DTSTAMP:20260425T005131
CREATED:20260227T001601Z
LAST-MODIFIED:20260227T001601Z
UID:10002124-1919062800-1919077200@trefpunt.buurtbelangen-nazareth.nl
SUMMARY:Gemeente Maastricht
DESCRIPTION:
URL:https://trefpunt.buurtbelangen-nazareth.nl/activiteit/gemeente-maastricht/2030-10-24/
LOCATION:Trefpunt Nazareth\, Kasteel Schaloenstraat 54\, Maastricht\, Limburg\, 6222 TP\, Netherlands
CATEGORIES:Inloop
ATTACH;FMTTYPE=image/jpeg:https://trefpunt.buurtbelangen-nazareth.nl/wp-content/uploads/2026/02/Logo-maastricht.jpg
END:VEVENT
BEGIN:VEVENT
DTSTART;TZID=Europe/Amsterdam:20301031T090000
DTEND;TZID=Europe/Amsterdam:20301031T130000
DTSTAMP:20260425T005131
CREATED:20260227T001601Z
LAST-MODIFIED:20260227T001601Z
UID:10002125-1919667600-1919682000@trefpunt.buurtbelangen-nazareth.nl
SUMMARY:Gemeente Maastricht
DESCRIPTION:
URL:https://trefpunt.buurtbelangen-nazareth.nl/activiteit/gemeente-maastricht/2030-10-31/
LOCATION:Trefpunt Nazareth\, Kasteel Schaloenstraat 54\, Maastricht\, Limburg\, 6222 TP\, Netherlands
CATEGORIES:Inloop
ATTACH;FMTTYPE=image/jpeg:https://trefpunt.buurtbelangen-nazareth.nl/wp-content/uploads/2026/02/Logo-maastricht.jpg
END:VEVENT
BEGIN:VEVENT
DTSTART;TZID=Europe/Amsterdam:20301107T090000
DTEND;TZID=Europe/Amsterdam:20301107T130000
DTSTAMP:20260425T005131
CREATED:20260227T001601Z
LAST-MODIFIED:20260227T001601Z
UID:10002126-1920272400-1920286800@trefpunt.buurtbelangen-nazareth.nl
SUMMARY:Gemeente Maastricht
DESCRIPTION:
URL:https://trefpunt.buurtbelangen-nazareth.nl/activiteit/gemeente-maastricht/2030-11-07/
LOCATION:Trefpunt Nazareth\, Kasteel Schaloenstraat 54\, Maastricht\, Limburg\, 6222 TP\, Netherlands
CATEGORIES:Inloop
ATTACH;FMTTYPE=image/jpeg:https://trefpunt.buurtbelangen-nazareth.nl/wp-content/uploads/2026/02/Logo-maastricht.jpg
END:VEVENT
BEGIN:VEVENT
DTSTART;TZID=Europe/Amsterdam:20301114T090000
DTEND;TZID=Europe/Amsterdam:20301114T130000
DTSTAMP:20260425T005131
CREATED:20260227T001601Z
LAST-MODIFIED:20260227T001601Z
UID:10002127-1920877200-1920891600@trefpunt.buurtbelangen-nazareth.nl
SUMMARY:Gemeente Maastricht
DESCRIPTION:
URL:https://trefpunt.buurtbelangen-nazareth.nl/activiteit/gemeente-maastricht/2030-11-14/
LOCATION:Trefpunt Nazareth\, Kasteel Schaloenstraat 54\, Maastricht\, Limburg\, 6222 TP\, Netherlands
CATEGORIES:Inloop
ATTACH;FMTTYPE=image/jpeg:https://trefpunt.buurtbelangen-nazareth.nl/wp-content/uploads/2026/02/Logo-maastricht.jpg
END:VEVENT
BEGIN:VEVENT
DTSTART;TZID=Europe/Amsterdam:20301121T090000
DTEND;TZID=Europe/Amsterdam:20301121T130000
DTSTAMP:20260425T005131
CREATED:20260227T001601Z
LAST-MODIFIED:20260227T001601Z
UID:10002128-1921482000-1921496400@trefpunt.buurtbelangen-nazareth.nl
SUMMARY:Gemeente Maastricht
DESCRIPTION:
URL:https://trefpunt.buurtbelangen-nazareth.nl/activiteit/gemeente-maastricht/2030-11-21/
LOCATION:Trefpunt Nazareth\, Kasteel Schaloenstraat 54\, Maastricht\, Limburg\, 6222 TP\, Netherlands
CATEGORIES:Inloop
ATTACH;FMTTYPE=image/jpeg:https://trefpunt.buurtbelangen-nazareth.nl/wp-content/uploads/2026/02/Logo-maastricht.jpg
END:VEVENT
BEGIN:VEVENT
DTSTART;TZID=Europe/Amsterdam:20301128T090000
DTEND;TZID=Europe/Amsterdam:20301128T130000
DTSTAMP:20260425T005131
CREATED:20260227T001601Z
LAST-MODIFIED:20260227T001601Z
UID:10002129-1922086800-1922101200@trefpunt.buurtbelangen-nazareth.nl
SUMMARY:Gemeente Maastricht
DESCRIPTION:
URL:https://trefpunt.buurtbelangen-nazareth.nl/activiteit/gemeente-maastricht/2030-11-28/
LOCATION:Trefpunt Nazareth\, Kasteel Schaloenstraat 54\, Maastricht\, Limburg\, 6222 TP\, Netherlands
CATEGORIES:Inloop
ATTACH;FMTTYPE=image/jpeg:https://trefpunt.buurtbelangen-nazareth.nl/wp-content/uploads/2026/02/Logo-maastricht.jpg
END:VEVENT
BEGIN:VEVENT
DTSTART;TZID=Europe/Amsterdam:20301205T090000
DTEND;TZID=Europe/Amsterdam:20301205T130000
DTSTAMP:20260425T005131
CREATED:20260227T001601Z
LAST-MODIFIED:20260227T001601Z
UID:10002130-1922691600-1922706000@trefpunt.buurtbelangen-nazareth.nl
SUMMARY:Gemeente Maastricht
DESCRIPTION:
URL:https://trefpunt.buurtbelangen-nazareth.nl/activiteit/gemeente-maastricht/2030-12-05/
LOCATION:Trefpunt Nazareth\, Kasteel Schaloenstraat 54\, Maastricht\, Limburg\, 6222 TP\, Netherlands
CATEGORIES:Inloop
ATTACH;FMTTYPE=image/jpeg:https://trefpunt.buurtbelangen-nazareth.nl/wp-content/uploads/2026/02/Logo-maastricht.jpg
END:VEVENT
BEGIN:VEVENT
DTSTART;TZID=Europe/Amsterdam:20301212T090000
DTEND;TZID=Europe/Amsterdam:20301212T130000
DTSTAMP:20260425T005131
CREATED:20260227T001601Z
LAST-MODIFIED:20260227T001601Z
UID:10002131-1923296400-1923310800@trefpunt.buurtbelangen-nazareth.nl
SUMMARY:Gemeente Maastricht
DESCRIPTION:
URL:https://trefpunt.buurtbelangen-nazareth.nl/activiteit/gemeente-maastricht/2030-12-12/
LOCATION:Trefpunt Nazareth\, Kasteel Schaloenstraat 54\, Maastricht\, Limburg\, 6222 TP\, Netherlands
CATEGORIES:Inloop
ATTACH;FMTTYPE=image/jpeg:https://trefpunt.buurtbelangen-nazareth.nl/wp-content/uploads/2026/02/Logo-maastricht.jpg
END:VEVENT
BEGIN:VEVENT
DTSTART;TZID=Europe/Amsterdam:20301219T090000
DTEND;TZID=Europe/Amsterdam:20301219T130000
DTSTAMP:20260425T005131
CREATED:20260227T001601Z
LAST-MODIFIED:20260227T001601Z
UID:10002132-1923901200-1923915600@trefpunt.buurtbelangen-nazareth.nl
SUMMARY:Gemeente Maastricht
DESCRIPTION:
URL:https://trefpunt.buurtbelangen-nazareth.nl/activiteit/gemeente-maastricht/2030-12-19/
LOCATION:Trefpunt Nazareth\, Kasteel Schaloenstraat 54\, Maastricht\, Limburg\, 6222 TP\, Netherlands
CATEGORIES:Inloop
ATTACH;FMTTYPE=image/jpeg:https://trefpunt.buurtbelangen-nazareth.nl/wp-content/uploads/2026/02/Logo-maastricht.jpg
END:VEVENT
BEGIN:VEVENT
DTSTART;TZID=Europe/Amsterdam:20301226T090000
DTEND;TZID=Europe/Amsterdam:20301226T130000
DTSTAMP:20260425T005131
CREATED:20260227T001601Z
LAST-MODIFIED:20260227T001601Z
UID:10002133-1924506000-1924520400@trefpunt.buurtbelangen-nazareth.nl
SUMMARY:Gemeente Maastricht
DESCRIPTION:
URL:https://trefpunt.buurtbelangen-nazareth.nl/activiteit/gemeente-maastricht/2030-12-26/
LOCATION:Trefpunt Nazareth\, Kasteel Schaloenstraat 54\, Maastricht\, Limburg\, 6222 TP\, Netherlands
CATEGORIES:Inloop
ATTACH;FMTTYPE=image/jpeg:https://trefpunt.buurtbelangen-nazareth.nl/wp-content/uploads/2026/02/Logo-maastricht.jpg
END:VEVENT
BEGIN:VEVENT
DTSTART;TZID=Europe/Amsterdam:20310102T090000
DTEND;TZID=Europe/Amsterdam:20310102T130000
DTSTAMP:20260425T005131
CREATED:20260227T001601Z
LAST-MODIFIED:20260227T001601Z
UID:10002134-1925110800-1925125200@trefpunt.buurtbelangen-nazareth.nl
SUMMARY:Gemeente Maastricht
DESCRIPTION:
URL:https://trefpunt.buurtbelangen-nazareth.nl/activiteit/gemeente-maastricht/2031-01-02/
LOCATION:Trefpunt Nazareth\, Kasteel Schaloenstraat 54\, Maastricht\, Limburg\, 6222 TP\, Netherlands
CATEGORIES:Inloop
ATTACH;FMTTYPE=image/jpeg:https://trefpunt.buurtbelangen-nazareth.nl/wp-content/uploads/2026/02/Logo-maastricht.jpg
END:VEVENT
BEGIN:VEVENT
DTSTART;TZID=Europe/Amsterdam:20310109T090000
DTEND;TZID=Europe/Amsterdam:20310109T130000
DTSTAMP:20260425T005131
CREATED:20260227T001601Z
LAST-MODIFIED:20260227T001601Z
UID:10002135-1925715600-1925730000@trefpunt.buurtbelangen-nazareth.nl
SUMMARY:Gemeente Maastricht
DESCRIPTION:
URL:https://trefpunt.buurtbelangen-nazareth.nl/activiteit/gemeente-maastricht/2031-01-09/
LOCATION:Trefpunt Nazareth\, Kasteel Schaloenstraat 54\, Maastricht\, Limburg\, 6222 TP\, Netherlands
CATEGORIES:Inloop
ATTACH;FMTTYPE=image/jpeg:https://trefpunt.buurtbelangen-nazareth.nl/wp-content/uploads/2026/02/Logo-maastricht.jpg
END:VEVENT
END:VCALENDAR